

BEGIN:VCALENDAR
VERSION:2.0
PRODID:-//Campus Events - ECPv6.15.20//NONSGML v1.0//EN
CALSCALE:GREGORIAN
METHOD:PUBLISH
X-WR-CALNAME:Campus Events
X-ORIGINAL-URL:https://events.bridgeport.edu
X-WR-CALDESC:Events for Campus Events
REFRESH-INTERVAL;VALUE=DURATION:PT1H
X-Robots-Tag:noindex
X-PUBLISHED-TTL:PT1H
BEGIN:VTIMEZONE
TZID:America/New_York
BEGIN:DAYLIGHT
TZOFFSETFROM:-0500
TZOFFSETTO:-0400
TZNAME:EDT
DTSTART:20240310T070000
END:DAYLIGHT
BEGIN:STANDARD
TZOFFSETFROM:-0400
TZOFFSETTO:-0500
TZNAME:EST
DTSTART:20241103T060000
END:STANDARD
BEGIN:DAYLIGHT
TZOFFSETFROM:-0500
TZOFFSETTO:-0400
TZNAME:EDT
DTSTART:20250309T070000
END:DAYLIGHT
BEGIN:STANDARD
TZOFFSETFROM:-0400
TZOFFSETTO:-0500
TZNAME:EST
DTSTART:20251102T060000
END:STANDARD
BEGIN:DAYLIGHT
TZOFFSETFROM:-0500
TZOFFSETTO:-0400
TZNAME:EDT
DTSTART:20260308T070000
END:DAYLIGHT
BEGIN:STANDARD
TZOFFSETFROM:-0400
TZOFFSETTO:-0500
TZNAME:EST
DTSTART:20261101T060000
END:STANDARD
END:VTIMEZONE
BEGIN:VEVENT
DTSTART;TZID=America/New_York:20250206T120000
DTEND;TZID=America/New_York:20250206T180000
DTSTAMP:20260422T043903
CREATED:20250131T000332Z
LAST-MODIFIED:20250206T193251Z
UID:105266-1738843200-1738864800@events.bridgeport.edu
SUMMARY:Blood Drive - Center for Student Involvement
DESCRIPTION:
URL:https://events.bridgeport.edu/event/blood-drive-center-for-student-involvement-6/
LOCATION:JCSC KNIGHT S1 – Social Room Campus: Main Campus
CATEGORIES:Community
END:VEVENT
BEGIN:VEVENT
DTSTART;TZID=America/New_York:20250206T130000
DTEND;TZID=America/New_York:20250206T180000
DTSTAMP:20260422T043903
CREATED:20241116T140610Z
LAST-MODIFIED:20250130T201815Z
UID:97206-1738846800-1738864800@events.bridgeport.edu
SUMMARY:Blood Drive - Center for Student Involvement
DESCRIPTION:
URL:https://events.bridgeport.edu/event/blood-drive-center-for-student-involvement-5/
LOCATION:JCSC KNIGHT S1 – Social Room Campus: Main Campus
CATEGORIES:Community
END:VEVENT
BEGIN:VEVENT
DTSTART;TZID=America/New_York:20250207T093000
DTEND;TZID=America/New_York:20250207T110000
DTSTAMP:20260422T043903
CREATED:20240912T173533Z
LAST-MODIFIED:20250207T144749Z
UID:89329-1738920600-1738926000@events.bridgeport.edu
SUMMARY:Fairfield Schools
DESCRIPTION:
URL:https://events.bridgeport.edu/event/fairfield-schools-71/
LOCATION:MAN MAN 9 Campus: Main Campus
CATEGORIES:Community
END:VEVENT
BEGIN:VEVENT
DTSTART;TZID=America/New_York:20250207T153000
DTEND;TZID=America/New_York:20250207T173000
DTSTAMP:20260422T043903
CREATED:20241114T000640Z
LAST-MODIFIED:20250207T204750Z
UID:96803-1738942200-1738949400@events.bridgeport.edu
SUMMARY:BackCountry Jazz Music Program
DESCRIPTION:
URL:https://events.bridgeport.edu/event/backcountry-jazz-music-program-33/
LOCATION:JCSC 207-209 Campus: Main Campus\, 244 University Avenue\, Bridgeport\, CT\, 06604\, United States
CATEGORIES:Community
END:VEVENT
BEGIN:VEVENT
DTSTART;TZID=America/New_York:20250207T153000
DTEND;TZID=America/New_York:20250207T173000
DTSTAMP:20260422T043903
CREATED:20241114T000640Z
LAST-MODIFIED:20250207T204750Z
UID:96801-1738942200-1738949400@events.bridgeport.edu
SUMMARY:BackCountry Jazz Music Program
DESCRIPTION:
URL:https://events.bridgeport.edu/event/backcountry-jazz-music-program-31/
LOCATION:JCSC Knight S7 Campus: Main Campus
CATEGORIES:Community
END:VEVENT
BEGIN:VEVENT
DTSTART;TZID=America/New_York:20250207T153000
DTEND;TZID=America/New_York:20250207T173000
DTSTAMP:20260422T043903
CREATED:20241114T000640Z
LAST-MODIFIED:20250207T204750Z
UID:96802-1738942200-1738949400@events.bridgeport.edu
SUMMARY:BackCountry Jazz Music Program
DESCRIPTION:
URL:https://events.bridgeport.edu/event/backcountry-jazz-music-program-32/
LOCATION:JCSC 213-215 Campus: Main Campus\, 244 University Avenue\, Bridgeport\, CT\, 06604\, United States
CATEGORIES:Community
END:VEVENT
BEGIN:VEVENT
DTSTART;TZID=America/New_York:20250207T190000
DTEND;TZID=America/New_York:20250207T210000
DTSTAMP:20260422T043903
CREATED:20250130T063313Z
LAST-MODIFIED:20250208T013249Z
UID:105193-1738954800-1738962000@events.bridgeport.edu
SUMMARY:Kappa Alpha Psi Alumni Chapter Meeting
DESCRIPTION:
URL:https://events.bridgeport.edu/event/kappa-alpha-psi-alumni-chapter-meeting/
LOCATION:WAHL 158 Campus: Main Campus\, 126 Park Avenue\, Bridgeport\, CT\, 06604\, United States
CATEGORIES:Community
END:VEVENT
BEGIN:VEVENT
DTSTART;TZID=America/New_York:20250208T070000
DTEND;TZID=America/New_York:20250208T160000
DTSTAMP:20260422T043903
CREATED:20240313T091855Z
LAST-MODIFIED:20250124T001842Z
UID:69228-1738998000-1739030400@events.bridgeport.edu
SUMMARY:Youth Law Enforcement Conference
DESCRIPTION:
URL:https://events.bridgeport.edu/event/youth-law-enforcement-conference/
LOCATION:JCSC KNIGHT S1 – Social Room Campus: Main Campus
CATEGORIES:Community
END:VEVENT
BEGIN:VEVENT
DTSTART;TZID=America/New_York:20250208T070000
DTEND;TZID=America/New_York:20250208T160000
DTSTAMP:20260422T043903
CREATED:20240313T091855Z
LAST-MODIFIED:20250124T001902Z
UID:69229-1738998000-1739030400@events.bridgeport.edu
SUMMARY:Youth Law Enforcement Conference
DESCRIPTION:
URL:https://events.bridgeport.edu/event/youth-law-enforcement-conference-2/
LOCATION:JCSC 100 Campus: Main Campus\, 244 University Avenue\, Bridgeport\, CT\, 06604\, United States
CATEGORIES:Community
END:VEVENT
BEGIN:VEVENT
DTSTART;TZID=America/New_York:20250208T080000
DTEND;TZID=America/New_York:20250208T140000
DTSTAMP:20260422T043903
CREATED:20241003T040917Z
LAST-MODIFIED:20250208T183251Z
UID:92198-1739001600-1739023200@events.bridgeport.edu
SUMMARY:BCYL
DESCRIPTION:
URL:https://events.bridgeport.edu/event/bcyl-49/
LOCATION:MAN 311 Campus: Main Campus\, 230 Park Avenue\, Bridgeport\, CT\, 06604\, United States
CATEGORIES:Community
END:VEVENT
BEGIN:VEVENT
DTSTART;TZID=America/New_York:20250208T080000
DTEND;TZID=America/New_York:20250208T140000
DTSTAMP:20260422T043903
CREATED:20241003T040918Z
LAST-MODIFIED:20250208T183250Z
UID:92199-1739001600-1739023200@events.bridgeport.edu
SUMMARY:BCYL
DESCRIPTION:
URL:https://events.bridgeport.edu/event/bcyl-50/
LOCATION:MAN 322 Campus: Main Campus\, 230 Park Avenue\, Bridgeport\, CT\, 06604\, United States
CATEGORIES:Community
END:VEVENT
BEGIN:VEVENT
DTSTART;TZID=America/New_York:20250208T080000
DTEND;TZID=America/New_York:20250208T140000
DTSTAMP:20260422T043903
CREATED:20241003T040930Z
LAST-MODIFIED:20250111T090420Z
UID:92200-1739001600-1739023200@events.bridgeport.edu
SUMMARY:BCYL
DESCRIPTION:
URL:https://events.bridgeport.edu/event/bcyl-51/
LOCATION:MAN 319 Campus: Main Campus\, 230 Park Avenue\, Bridgeport\, CT\, 06604\, United States
CATEGORIES:Community
END:VEVENT
BEGIN:VEVENT
DTSTART;TZID=America/New_York:20250208T080000
DTEND;TZID=America/New_York:20250208T140000
DTSTAMP:20260422T043903
CREATED:20241003T040931Z
LAST-MODIFIED:20250208T183251Z
UID:92201-1739001600-1739023200@events.bridgeport.edu
SUMMARY:BCYL
DESCRIPTION:
URL:https://events.bridgeport.edu/event/bcyl-52/
LOCATION:MAN 321 Campus: Main Campus\, 230 Park Avenue\, Bridgeport\, CT\, 06604\, United States
CATEGORIES:Community
END:VEVENT
BEGIN:VEVENT
DTSTART;TZID=America/New_York:20250208T080000
DTEND;TZID=America/New_York:20250208T140000
DTSTAMP:20260422T043903
CREATED:20241003T040931Z
LAST-MODIFIED:20250208T183251Z
UID:92202-1739001600-1739023200@events.bridgeport.edu
SUMMARY:BCYL
DESCRIPTION:
URL:https://events.bridgeport.edu/event/bcyl-53/
LOCATION:MAN 316 Campus: Main Campus\, 230 Park Avenue\, Bridgeport\, CT\, 06604\, United States
CATEGORIES:Community
END:VEVENT
BEGIN:VEVENT
DTSTART;TZID=America/New_York:20250208T080000
DTEND;TZID=America/New_York:20250208T140000
DTSTAMP:20260422T043903
CREATED:20241003T040931Z
LAST-MODIFIED:20250208T183251Z
UID:92203-1739001600-1739023200@events.bridgeport.edu
SUMMARY:BCYL
DESCRIPTION:
URL:https://events.bridgeport.edu/event/bcyl-54/
LOCATION:MAN 323 Campus: Main Campus\, 230 Park Avenue\, Bridgeport\, CT\, 06604\, United States
CATEGORIES:Community
END:VEVENT
BEGIN:VEVENT
DTSTART;TZID=America/New_York:20250208T080000
DTEND;TZID=America/New_York:20250208T140000
DTSTAMP:20260422T043903
CREATED:20241003T040931Z
LAST-MODIFIED:20250208T183251Z
UID:92204-1739001600-1739023200@events.bridgeport.edu
SUMMARY:BCYL
DESCRIPTION:
URL:https://events.bridgeport.edu/event/bcyl-55/
LOCATION:MAN 318 Campus: Main Campus\, 230 Park Avenue\, Bridgeport\, CT\, 06604\, United States
CATEGORIES:Community
END:VEVENT
BEGIN:VEVENT
DTSTART;TZID=America/New_York:20250208T080000
DTEND;TZID=America/New_York:20250208T140000
DTSTAMP:20260422T043903
CREATED:20241003T040931Z
LAST-MODIFIED:20250208T183251Z
UID:92205-1739001600-1739023200@events.bridgeport.edu
SUMMARY:BCYL
DESCRIPTION:
URL:https://events.bridgeport.edu/event/bcyl-56/
LOCATION:MAN 320 Campus: Main Campus\, 230 Park Avenue\, Bridgeport\, CT\, 06604\, United States
CATEGORIES:Community
END:VEVENT
BEGIN:VEVENT
DTSTART;TZID=America/New_York:20250208T080000
DTEND;TZID=America/New_York:20250208T140000
DTSTAMP:20260422T043903
CREATED:20250111T101931Z
LAST-MODIFIED:20250208T183251Z
UID:103096-1739001600-1739023200@events.bridgeport.edu
SUMMARY:BCYL
DESCRIPTION:
URL:https://events.bridgeport.edu/event/bcyl-85/
LOCATION:MAN 222 Campus: Main Campus\, 230 Park Avenue\, Bridgeport\, CT\, 06604\, United States
CATEGORIES:Community
END:VEVENT
BEGIN:VEVENT
DTSTART;TZID=America/New_York:20250208T080000
DTEND;TZID=America/New_York:20250208T140000
DTSTAMP:20260422T043903
CREATED:20250111T101931Z
LAST-MODIFIED:20250208T183251Z
UID:103097-1739001600-1739023200@events.bridgeport.edu
SUMMARY:BCYL
DESCRIPTION:
URL:https://events.bridgeport.edu/event/bcyl-86/
LOCATION:MAN 223 Campus: Main Campus\, 230 Park Avenue\, Bridgeport\, CT\, 06604\, United States
CATEGORIES:Community
END:VEVENT
BEGIN:VEVENT
DTSTART;TZID=America/New_York:20250208T080000
DTEND;TZID=America/New_York:20250208T140000
DTSTAMP:20260422T043903
CREATED:20250207T204750Z
LAST-MODIFIED:20250208T183302Z
UID:106115-1739001600-1739023200@events.bridgeport.edu
SUMMARY:BCYL
DESCRIPTION:
URL:https://events.bridgeport.edu/event/bcyl-99/
LOCATION:MAN 220 Campus: Main Campus\, 230 Park Avenue\, Bridgeport\, CT\, 06604\, United States
CATEGORIES:Community
END:VEVENT
BEGIN:VEVENT
DTSTART;TZID=America/New_York:20250208T083000
DTEND;TZID=America/New_York:20250208T133000
DTSTAMP:20260422T043903
CREATED:20241220T125015Z
LAST-MODIFIED:20250208T171750Z
UID:100719-1739003400-1739021400@events.bridgeport.edu
SUMMARY:32BJ Training Program
DESCRIPTION:
URL:https://events.bridgeport.edu/event/32bj-training-program-4/
LOCATION:MAN 216 Campus: Main Campus\, 230 Park Avenue\, Bridgeport\, CT\, 06604\, United States
CATEGORIES:Community
END:VEVENT
BEGIN:VEVENT
DTSTART;TZID=America/New_York:20250208T093000
DTEND;TZID=America/New_York:20250208T143000
DTSTAMP:20260422T043903
CREATED:20250124T013353Z
LAST-MODIFIED:20250208T183251Z
UID:104493-1739007000-1739025000@events.bridgeport.edu
SUMMARY:STEM Girls - Mechanical Engineering Outreach
DESCRIPTION:
URL:https://events.bridgeport.edu/event/stem-girls-mechanical-engineering-outreach/
LOCATION:WAHL 613 Campus: Main Campus
CATEGORIES:Community
END:VEVENT
BEGIN:VEVENT
DTSTART;TZID=America/New_York:20250210T093000
DTEND;TZID=America/New_York:20250210T110000
DTSTAMP:20260422T043903
CREATED:20240912T173533Z
LAST-MODIFIED:20250210T154748Z
UID:89330-1739179800-1739185200@events.bridgeport.edu
SUMMARY:Fairfield Schools
DESCRIPTION:
URL:https://events.bridgeport.edu/event/fairfield-schools-72/
LOCATION:MAN MAN 9 Campus: Main Campus
CATEGORIES:Community
END:VEVENT
BEGIN:VEVENT
DTSTART;TZID=America/New_York:20250211T093000
DTEND;TZID=America/New_York:20250211T110000
DTSTAMP:20260422T043903
CREATED:20240913T000649Z
LAST-MODIFIED:20250211T150249Z
UID:89580-1739266200-1739271600@events.bridgeport.edu
SUMMARY:Fairfield Schools
DESCRIPTION:
URL:https://events.bridgeport.edu/event/fairfield-schools-156/
LOCATION:MAN MAN 9 Campus: Main Campus
CATEGORIES:Community
END:VEVENT
BEGIN:VEVENT
DTSTART;TZID=America/New_York:20250212T093000
DTEND;TZID=America/New_York:20250212T110000
DTSTAMP:20260422T043903
CREATED:20240912T173533Z
LAST-MODIFIED:20250212T144837Z
UID:89331-1739352600-1739358000@events.bridgeport.edu
SUMMARY:Fairfield Schools
DESCRIPTION:
URL:https://events.bridgeport.edu/event/fairfield-schools-73/
LOCATION:MAN MAN 9 Campus: Main Campus
CATEGORIES:Community
END:VEVENT
BEGIN:VEVENT
DTSTART;TZID=America/New_York:20250213T093000
DTEND;TZID=America/New_York:20250213T110000
DTSTAMP:20260422T043903
CREATED:20240913T000649Z
LAST-MODIFIED:20250213T151752Z
UID:89581-1739439000-1739444400@events.bridgeport.edu
SUMMARY:Fairfield Schools
DESCRIPTION:
URL:https://events.bridgeport.edu/event/fairfield-schools-157/
LOCATION:MAN MAN 9 Campus: Main Campus
CATEGORIES:Community
END:VEVENT
BEGIN:VEVENT
DTSTART;TZID=America/New_York:20250213T180000
DTEND;TZID=America/New_York:20250213T210000
DTSTAMP:20260422T043903
CREATED:20250214T013250Z
LAST-MODIFIED:20250214T013250Z
UID:106906-1739469600-1739480400@events.bridgeport.edu
SUMMARY:South End NRZ Meeting
DESCRIPTION:
URL:https://events.bridgeport.edu/event/south-end-nrz-meeting/
LOCATION:BAUH 111 Campus: Main Campus\, 82 Marina Park Street\, Bridgeport\, CT\, 06604\, United States
CATEGORIES:Community
END:VEVENT
BEGIN:VEVENT
DTSTART;TZID=America/New_York:20250214T093000
DTEND;TZID=America/New_York:20250214T110000
DTSTAMP:20260422T043903
CREATED:20240912T173533Z
LAST-MODIFIED:20250214T150259Z
UID:89332-1739525400-1739530800@events.bridgeport.edu
SUMMARY:Fairfield Schools
DESCRIPTION:
URL:https://events.bridgeport.edu/event/fairfield-schools-74/
LOCATION:MAN MAN 9 Campus: Main Campus
CATEGORIES:Community
END:VEVENT
BEGIN:VEVENT
DTSTART;TZID=America/New_York:20250214T153000
DTEND;TZID=America/New_York:20250214T173000
DTSTAMP:20260422T043903
CREATED:20241114T000706Z
LAST-MODIFIED:20250214T200254Z
UID:96804-1739547000-1739554200@events.bridgeport.edu
SUMMARY:BackCountry Jazz Music Program
DESCRIPTION:
URL:https://events.bridgeport.edu/event/backcountry-jazz-music-program-34/
LOCATION:JCSC 207-209 Campus: Main Campus\, 244 University Avenue\, Bridgeport\, CT\, 06604\, United States
CATEGORIES:Community
END:VEVENT
BEGIN:VEVENT
DTSTART;TZID=America/New_York:20250214T153000
DTEND;TZID=America/New_York:20250214T173000
DTSTAMP:20260422T043903
CREATED:20241114T000706Z
LAST-MODIFIED:20250214T200254Z
UID:96805-1739547000-1739554200@events.bridgeport.edu
SUMMARY:BackCountry Jazz Music Program
DESCRIPTION:
URL:https://events.bridgeport.edu/event/backcountry-jazz-music-program-35/
LOCATION:JCSC 213-215 Campus: Main Campus\, 244 University Avenue\, Bridgeport\, CT\, 06604\, United States
CATEGORIES:Community
END:VEVENT
END:VCALENDAR