

BEGIN:VCALENDAR
VERSION:2.0
PRODID:-//Campus Events - ECPv6.15.20//NONSGML v1.0//EN
CALSCALE:GREGORIAN
METHOD:PUBLISH
X-ORIGINAL-URL:https://events.bridgeport.edu
X-WR-CALDESC:Events for Campus Events
REFRESH-INTERVAL;VALUE=DURATION:PT1H
X-Robots-Tag:noindex
X-PUBLISHED-TTL:PT1H
BEGIN:VTIMEZONE
TZID:America/New_York
BEGIN:DAYLIGHT
TZOFFSETFROM:-0500
TZOFFSETTO:-0400
TZNAME:EDT
DTSTART:20230312T070000
END:DAYLIGHT
BEGIN:STANDARD
TZOFFSETFROM:-0400
TZOFFSETTO:-0500
TZNAME:EST
DTSTART:20231105T060000
END:STANDARD
BEGIN:DAYLIGHT
TZOFFSETFROM:-0500
TZOFFSETTO:-0400
TZNAME:EDT
DTSTART:20240310T070000
END:DAYLIGHT
BEGIN:STANDARD
TZOFFSETFROM:-0400
TZOFFSETTO:-0500
TZNAME:EST
DTSTART:20241103T060000
END:STANDARD
BEGIN:DAYLIGHT
TZOFFSETFROM:-0500
TZOFFSETTO:-0400
TZNAME:EDT
DTSTART:20250309T070000
END:DAYLIGHT
BEGIN:STANDARD
TZOFFSETFROM:-0400
TZOFFSETTO:-0500
TZNAME:EST
DTSTART:20251102T060000
END:STANDARD
END:VTIMEZONE
BEGIN:VEVENT
DTSTART;TZID=America/New_York:20240511T080000
DTEND;TZID=America/New_York:20240511T130000
DTSTAMP:20260421T204339
CREATED:20240403T134852Z
LAST-MODIFIED:20240511T163250Z
UID:71576-1715414400-1715432400@events.bridgeport.edu
SUMMARY:Bridgeport Caribe Youth Leaders Spring Tutoring Program: April 20-June 8th 2024
DESCRIPTION:
URL:https://events.bridgeport.edu/event/bridgeport-caribe-youth-leaders-spring-tutoring-program-april-20-june-8th-2024-24/
LOCATION:MAN 322 Campus: Main Campus\, 230 Park Avenue\, Bridgeport\, CT\, 06604\, United States
CATEGORIES:Community
END:VEVENT
BEGIN:VEVENT
DTSTART;TZID=America/New_York:20240511T080000
DTEND;TZID=America/New_York:20240511T130000
DTSTAMP:20260421T204339
CREATED:20240403T134852Z
LAST-MODIFIED:20240511T163250Z
UID:71577-1715414400-1715432400@events.bridgeport.edu
SUMMARY:Bridgeport Caribe Youth Leaders Spring Tutoring Program: April 20-June 8th 2024
DESCRIPTION:
URL:https://events.bridgeport.edu/event/bridgeport-caribe-youth-leaders-spring-tutoring-program-april-20-june-8th-2024-25/
LOCATION:MAN 316 Campus: Main Campus\, 230 Park Avenue\, Bridgeport\, CT\, 06604\, United States
CATEGORIES:Community
END:VEVENT
BEGIN:VEVENT
DTSTART;TZID=America/New_York:20240511T080000
DTEND;TZID=America/New_York:20240511T130000
DTSTAMP:20260421T204339
CREATED:20240403T134852Z
LAST-MODIFIED:20240419T064829Z
UID:71578-1715414400-1715432400@events.bridgeport.edu
SUMMARY:Bridgeport Caribe Youth Leaders Spring Tutoring Program: April 20-June 8th 2024
DESCRIPTION:
URL:https://events.bridgeport.edu/event/bridgeport-caribe-youth-leaders-spring-tutoring-program-april-20-june-8th-2024-26/
LOCATION:MAN 303 Campus: Main Campus\, 230 Park Avenue\, Bridgeport\, CT\, 06604\, United States
CATEGORIES:Community
END:VEVENT
BEGIN:VEVENT
DTSTART;TZID=America/New_York:20240511T080000
DTEND;TZID=America/New_York:20240511T130000
DTSTAMP:20260421T204339
CREATED:20240403T134852Z
LAST-MODIFIED:20240419T064829Z
UID:71575-1715414400-1715432400@events.bridgeport.edu
SUMMARY:Bridgeport Caribe Youth Leaders Spring Tutoring Program: April 20-June 8th 2024
DESCRIPTION:
URL:https://events.bridgeport.edu/event/bridgeport-caribe-youth-leaders-spring-tutoring-program-april-20-june-8th-2024-23/
LOCATION:MAN 301 Campus: Main Campus\, 230 Park Avenue\, Bridgeport\, CT\, 06604\, United States
CATEGORIES:Community
END:VEVENT
BEGIN:VEVENT
DTSTART;TZID=America/New_York:20240511T080000
DTEND;TZID=America/New_York:20240511T130000
DTSTAMP:20260421T204339
CREATED:20240403T134853Z
LAST-MODIFIED:20240511T163249Z
UID:71579-1715414400-1715432400@events.bridgeport.edu
SUMMARY:Bridgeport Caribe Youth Leaders Spring Tutoring Program: April 20-June 8th 2024
DESCRIPTION:
URL:https://events.bridgeport.edu/event/bridgeport-caribe-youth-leaders-spring-tutoring-program-april-20-june-8th-2024-27/
LOCATION:MAN 311 Campus: Main Campus\, 230 Park Avenue\, Bridgeport\, CT\, 06604\, United States
CATEGORIES:Community
END:VEVENT
BEGIN:VEVENT
DTSTART;TZID=America/New_York:20240511T080000
DTEND;TZID=America/New_York:20240511T130000
DTSTAMP:20260421T204339
CREATED:20240403T134853Z
LAST-MODIFIED:20240511T163249Z
UID:71580-1715414400-1715432400@events.bridgeport.edu
SUMMARY:Bridgeport Caribe Youth Leaders Spring Tutoring Program: April 20-June 8th 2024
DESCRIPTION:
URL:https://events.bridgeport.edu/event/bridgeport-caribe-youth-leaders-spring-tutoring-program-april-20-june-8th-2024-28/
LOCATION:MAN 310 Campus: Main Campus\, 230 Park Avenue\, Bridgeport\, CT\, 06604\, United States
CATEGORIES:Community
END:VEVENT
BEGIN:VEVENT
DTSTART;TZID=America/New_York:20240511T080000
DTEND;TZID=America/New_York:20240511T130000
DTSTAMP:20260421T204339
CREATED:20240403T134853Z
LAST-MODIFIED:20240511T163249Z
UID:71581-1715414400-1715432400@events.bridgeport.edu
SUMMARY:Bridgeport Caribe Youth Leaders Spring Tutoring Program: April 20-June 8th 2024
DESCRIPTION:
URL:https://events.bridgeport.edu/event/bridgeport-caribe-youth-leaders-spring-tutoring-program-april-20-june-8th-2024-29/
LOCATION:MAN 318 Campus: Main Campus\, 230 Park Avenue\, Bridgeport\, CT\, 06604\, United States
CATEGORIES:Community
END:VEVENT
BEGIN:VEVENT
DTSTART;TZID=America/New_York:20240511T080000
DTEND;TZID=America/New_York:20240511T130000
DTSTAMP:20260421T204339
CREATED:20240403T134854Z
LAST-MODIFIED:20240511T163249Z
UID:71582-1715414400-1715432400@events.bridgeport.edu
SUMMARY:Bridgeport Caribe Youth Leaders Spring Tutoring Program: April 20-June 8th 2024
DESCRIPTION:
URL:https://events.bridgeport.edu/event/bridgeport-caribe-youth-leaders-spring-tutoring-program-april-20-june-8th-2024-30/
LOCATION:MAN 319 Campus: Main Campus\, 230 Park Avenue\, Bridgeport\, CT\, 06604\, United States
CATEGORIES:Community
END:VEVENT
BEGIN:VEVENT
DTSTART;TZID=America/New_York:20240511T080000
DTEND;TZID=America/New_York:20240511T130000
DTSTAMP:20260421T204339
CREATED:20240403T134905Z
LAST-MODIFIED:20240511T163249Z
UID:71583-1715414400-1715432400@events.bridgeport.edu
SUMMARY:Bridgeport Caribe Youth Leaders Spring Tutoring Program: April 20-June 8th 2024
DESCRIPTION:
URL:https://events.bridgeport.edu/event/bridgeport-caribe-youth-leaders-spring-tutoring-program-april-20-june-8th-2024-31/
LOCATION:MAN 321 Campus: Main Campus\, 230 Park Avenue\, Bridgeport\, CT\, 06604\, United States
CATEGORIES:Community
END:VEVENT
BEGIN:VEVENT
DTSTART;TZID=America/New_York:20240511T080000
DTEND;TZID=America/New_York:20240511T130000
DTSTAMP:20260421T204339
CREATED:20240403T134905Z
LAST-MODIFIED:20240511T163250Z
UID:71584-1715414400-1715432400@events.bridgeport.edu
SUMMARY:Bridgeport Caribe Youth Leaders Spring Tutoring Program: April 20-June 8th 2024
DESCRIPTION:
URL:https://events.bridgeport.edu/event/bridgeport-caribe-youth-leaders-spring-tutoring-program-april-20-june-8th-2024-32/
LOCATION:MAN 320 Campus: Main Campus\, 230 Park Avenue\, Bridgeport\, CT\, 06604\, United States
CATEGORIES:Community
END:VEVENT
BEGIN:VEVENT
DTSTART;TZID=America/New_York:20240511T080000
DTEND;TZID=America/New_York:20240511T130000
DTSTAMP:20260421T204339
CREATED:20240403T134905Z
LAST-MODIFIED:20240511T163250Z
UID:71585-1715414400-1715432400@events.bridgeport.edu
SUMMARY:Bridgeport Caribe Youth Leaders Spring Tutoring Program: April 20-June 8th 2024
DESCRIPTION:
URL:https://events.bridgeport.edu/event/bridgeport-caribe-youth-leaders-spring-tutoring-program-april-20-june-8th-2024-33/
LOCATION:MAN 323 Campus: Main Campus\, 230 Park Avenue\, Bridgeport\, CT\, 06604\, United States
CATEGORIES:Community
END:VEVENT
BEGIN:VEVENT
DTSTART;TZID=America/New_York:20240511T080000
DTEND;TZID=America/New_York:20240511T130000
DTSTAMP:20260421T204339
CREATED:20240419T074931Z
LAST-MODIFIED:20240511T163302Z
UID:73337-1715414400-1715432400@events.bridgeport.edu
SUMMARY:Bridgeport Caribe Youth Leaders Spring Tutoring Program: April 20-June 8th 2024
DESCRIPTION:
URL:https://events.bridgeport.edu/event/bridgeport-caribe-youth-leaders-spring-tutoring-program-april-20-june-8th-2024-80/
LOCATION:MAN 1 Campus: Main Campus\, 230 Park Avenue\, Bridgeport\, CT\, 06604\, United States
CATEGORIES:Community
END:VEVENT
BEGIN:VEVENT
DTSTART;TZID=America/New_York:20240511T083000
DTEND;TZID=America/New_York:20240511T160000
DTSTAMP:20260421T204339
CREATED:20240105T124856Z
LAST-MODIFIED:20240511T184749Z
UID:60958-1715416200-1715443200@events.bridgeport.edu
SUMMARY:32BJ Benefits Saturday Training Courses
DESCRIPTION:
URL:https://events.bridgeport.edu/event/32bj-benefits-saturday-training-courses-13/
LOCATION:MAN 220 Campus: Main Campus\, 230 Park Avenue\, Bridgeport\, CT\, 06604\, United States
CATEGORIES:Community
END:VEVENT
BEGIN:VEVENT
DTSTART;TZID=America/New_York:20240511T100000
DTEND;TZID=America/New_York:20240511T120000
DTSTAMP:20260421T204339
CREATED:20240321T044840Z
LAST-MODIFIED:20240507T190251Z
UID:70092-1715421600-1715428800@events.bridgeport.edu
SUMMARY:STEM End of Year Ceremony
DESCRIPTION:
URL:https://events.bridgeport.edu/event/stem-end-of-year-ceremony/
LOCATION:JCSC 100 Campus: Main Campus\, 244 University Avenue\, Bridgeport\, CT\, 06604\, United States
CATEGORIES:Community
END:VEVENT
BEGIN:VEVENT
DTSTART;TZID=America/New_York:20240511T100000
DTEND;TZID=America/New_York:20240511T120000
DTSTAMP:20260421T204339
CREATED:20240508T080248Z
LAST-MODIFIED:20240511T151801Z
UID:75323-1715421600-1715428800@events.bridgeport.edu
SUMMARY:Greater Faith Parent Training
DESCRIPTION:
URL:https://events.bridgeport.edu/event/greater-faith-parent-training/
LOCATION:MAN 203 Campus: Main Campus\, 230 Park Avenue\, Bridgeport\, CT\, 06604\, United States
CATEGORIES:Community
END:VEVENT
BEGIN:VEVENT
DTSTART;TZID=America/New_York:20240511T190000
DTEND;TZID=America/New_York:20240511T230000
DTSTAMP:20260421T204339
CREATED:20231220T000345Z
LAST-MODIFIED:20240512T024748Z
UID:59170-1715454000-1715468400@events.bridgeport.edu
SUMMARY:Barnum Festival Event
DESCRIPTION:
URL:https://events.bridgeport.edu/event/barnum-festival-event/
LOCATION:JCSC KNIGHT S1 – Social Room Campus: Main Campus
CATEGORIES:Community
END:VEVENT
END:VCALENDAR