

BEGIN:VCALENDAR
VERSION:2.0
PRODID:-//Campus Events - ECPv6.15.20//NONSGML v1.0//EN
CALSCALE:GREGORIAN
METHOD:PUBLISH
X-WR-CALNAME:Campus Events
X-ORIGINAL-URL:https://events.bridgeport.edu
X-WR-CALDESC:Events for Campus Events
REFRESH-INTERVAL;VALUE=DURATION:PT1H
X-Robots-Tag:noindex
X-PUBLISHED-TTL:PT1H
BEGIN:VTIMEZONE
TZID:America/New_York
BEGIN:DAYLIGHT
TZOFFSETFROM:-0500
TZOFFSETTO:-0400
TZNAME:EDT
DTSTART:20250309T070000
END:DAYLIGHT
BEGIN:STANDARD
TZOFFSETFROM:-0400
TZOFFSETTO:-0500
TZNAME:EST
DTSTART:20251102T060000
END:STANDARD
BEGIN:DAYLIGHT
TZOFFSETFROM:-0500
TZOFFSETTO:-0400
TZNAME:EDT
DTSTART:20260308T070000
END:DAYLIGHT
BEGIN:STANDARD
TZOFFSETFROM:-0400
TZOFFSETTO:-0500
TZNAME:EST
DTSTART:20261101T060000
END:STANDARD
BEGIN:DAYLIGHT
TZOFFSETFROM:-0500
TZOFFSETTO:-0400
TZNAME:EDT
DTSTART:20270314T070000
END:DAYLIGHT
BEGIN:STANDARD
TZOFFSETFROM:-0400
TZOFFSETTO:-0500
TZNAME:EST
DTSTART:20271107T060000
END:STANDARD
END:VTIMEZONE
BEGIN:VEVENT
DTSTART;TZID=America/New_York:20260301T000000
DTEND;TZID=America/New_York:20260301T235900
DTSTAMP:20260420T094557
CREATED:20260124T001758Z
LAST-MODIFIED:20260223T054625Z
UID:143443-1772323200-1772409540@events.bridgeport.edu
SUMMARY:Ramadan Prayer Room - Student Affairs
DESCRIPTION:
URL:https://events.bridgeport.edu/event/ramadan-prayer-room-student-affairs-13/
LOCATION:JCSC 003 Campus: Main Campus
CATEGORIES:Community
END:VEVENT
BEGIN:VEVENT
DTSTART;TZID=America/New_York:20260302T000000
DTEND;TZID=America/New_York:20260302T235900
DTSTAMP:20260420T094557
CREATED:20260124T001758Z
LAST-MODIFIED:20260223T054625Z
UID:143444-1772409600-1772495940@events.bridgeport.edu
SUMMARY:Ramadan Prayer Room - Student Affairs
DESCRIPTION:
URL:https://events.bridgeport.edu/event/ramadan-prayer-room-student-affairs-14/
LOCATION:JCSC 003 Campus: Main Campus
CATEGORIES:Community
END:VEVENT
BEGIN:VEVENT
DTSTART;TZID=America/New_York:20260303T000000
DTEND;TZID=America/New_York:20260303T235900
DTSTAMP:20260420T094557
CREATED:20260124T001758Z
LAST-MODIFIED:20260223T054625Z
UID:143445-1772496000-1772582340@events.bridgeport.edu
SUMMARY:Ramadan Prayer Room - Student Affairs
DESCRIPTION:
URL:https://events.bridgeport.edu/event/ramadan-prayer-room-student-affairs-15/
LOCATION:JCSC 003 Campus: Main Campus
CATEGORIES:Community
END:VEVENT
BEGIN:VEVENT
DTSTART;TZID=America/New_York:20260304T000000
DTEND;TZID=America/New_York:20260304T235900
DTSTAMP:20260420T094557
CREATED:20260124T001758Z
LAST-MODIFIED:20260223T054637Z
UID:143446-1772582400-1772668740@events.bridgeport.edu
SUMMARY:Ramadan Prayer Room - Student Affairs
DESCRIPTION:
URL:https://events.bridgeport.edu/event/ramadan-prayer-room-student-affairs-16/
LOCATION:JCSC 003 Campus: Main Campus
CATEGORIES:Community
END:VEVENT
BEGIN:VEVENT
DTSTART;TZID=America/New_York:20260304T140000
DTEND;TZID=America/New_York:20260304T193000
DTSTAMP:20260420T094557
CREATED:20260121T001724Z
LAST-MODIFIED:20260223T054625Z
UID:142349-1772632800-1772652600@events.bridgeport.edu
SUMMARY:Bassick eSports Club - ACCESS for Kidz and School of Business
DESCRIPTION:
URL:https://events.bridgeport.edu/event/bassick-esports-club-access-for-kidz-and-school-of-business-7/
LOCATION:JCSC JCSC Campus: Main Campus
CATEGORIES:Community
END:VEVENT
BEGIN:VEVENT
DTSTART;TZID=America/New_York:20260304T180000
DTEND;TZID=America/New_York:20260304T200000
DTSTAMP:20260420T094557
CREATED:20260121T001724Z
LAST-MODIFIED:20260223T054637Z
UID:142348-1772647200-1772654400@events.bridgeport.edu
SUMMARY:BPD Citizens Academy
DESCRIPTION:
URL:https://events.bridgeport.edu/event/bpd-citizens-academy-6/
LOCATION:CARH 153 Campus: Main Campus\, 303 University Avenue\, Bridgeport\, CT\, 06604\, United States
CATEGORIES:Community
END:VEVENT
BEGIN:VEVENT
DTSTART;TZID=America/New_York:20260305T000000
DTEND;TZID=America/New_York:20260305T235900
DTSTAMP:20260420T094557
CREATED:20260124T001758Z
LAST-MODIFIED:20260223T054637Z
UID:143447-1772668800-1772755140@events.bridgeport.edu
SUMMARY:Ramadan Prayer Room - Student Affairs
DESCRIPTION:
URL:https://events.bridgeport.edu/event/ramadan-prayer-room-student-affairs-17/
LOCATION:JCSC 003 Campus: Main Campus
CATEGORIES:Community
END:VEVENT
BEGIN:VEVENT
DTSTART;TZID=America/New_York:20260306T000000
DTEND;TZID=America/New_York:20260306T235900
DTSTAMP:20260420T094557
CREATED:20260124T001812Z
LAST-MODIFIED:20260223T054637Z
UID:143449-1772755200-1772841540@events.bridgeport.edu
SUMMARY:Ramadan Prayer Room - Student Affairs
DESCRIPTION:
URL:https://events.bridgeport.edu/event/ramadan-prayer-room-student-affairs-18/
LOCATION:JCSC 003 Campus: Main Campus
CATEGORIES:Community
END:VEVENT
BEGIN:VEVENT
DTSTART;TZID=America/New_York:20260306T153000
DTEND;TZID=America/New_York:20260306T173000
DTSTAMP:20260420T094557
CREATED:20260121T001724Z
LAST-MODIFIED:20260223T054637Z
UID:142350-1772811000-1772818200@events.bridgeport.edu
SUMMARY:BackCountry Jazz -Friday Music Program
DESCRIPTION:
URL:https://events.bridgeport.edu/event/backcountry-jazz-friday-music-program-13/
LOCATION:JCSC Knight S7 Campus: Main Campus
CATEGORIES:Community
END:VEVENT
BEGIN:VEVENT
DTSTART;TZID=America/New_York:20260306T153000
DTEND;TZID=America/New_York:20260306T173000
DTSTAMP:20260420T094557
CREATED:20260121T001724Z
LAST-MODIFIED:20260223T054637Z
UID:142351-1772811000-1772818200@events.bridgeport.edu
SUMMARY:BackCountry Jazz -Friday Music Program
DESCRIPTION:
URL:https://events.bridgeport.edu/event/backcountry-jazz-friday-music-program-14/
LOCATION:JCSC 207-209 Campus: Main Campus\, 244 University Avenue\, Bridgeport\, CT\, 06604\, United States
CATEGORIES:Community
END:VEVENT
BEGIN:VEVENT
DTSTART;TZID=America/New_York:20260307T000000
DTEND;TZID=America/New_York:20260307T235900
DTSTAMP:20260420T094557
CREATED:20260124T001812Z
LAST-MODIFIED:20260223T054637Z
UID:143450-1772841600-1772927940@events.bridgeport.edu
SUMMARY:Ramadan Prayer Room - Student Affairs
DESCRIPTION:
URL:https://events.bridgeport.edu/event/ramadan-prayer-room-student-affairs-19/
LOCATION:JCSC 003 Campus: Main Campus
CATEGORIES:Community
END:VEVENT
BEGIN:VEVENT
DTSTART;TZID=America/New_York:20260307T080000
DTEND;TZID=America/New_York:20260307T130000
DTSTAMP:20260420T094557
CREATED:20260121T001724Z
LAST-MODIFIED:20260223T054637Z
UID:142354-1772870400-1772888400@events.bridgeport.edu
SUMMARY:BCYL-SAT MATH
DESCRIPTION:
URL:https://events.bridgeport.edu/event/bcyl-sat-math-7/
LOCATION:MAN 301 Campus: Main Campus\, 230 Park Avenue\, Bridgeport\, CT\, 06604\, United States
CATEGORIES:Community
END:VEVENT
BEGIN:VEVENT
DTSTART;TZID=America/New_York:20260307T080000
DTEND;TZID=America/New_York:20260307T130000
DTSTAMP:20260420T094557
CREATED:20260121T001736Z
LAST-MODIFIED:20260223T054637Z
UID:142366-1772870400-1772888400@events.bridgeport.edu
SUMMARY:BCYL Winter/Spring Tutoring
DESCRIPTION:
URL:https://events.bridgeport.edu/event/bcyl-winter-spring-tutoring-7/
LOCATION:MAN 210 Campus: Main Campus\, 230 Park Avenue\, Bridgeport\, CT\, 06604\, United States
CATEGORIES:Community
END:VEVENT
BEGIN:VEVENT
DTSTART;TZID=America/New_York:20260307T080000
DTEND;TZID=America/New_York:20260307T160000
DTSTAMP:20260420T094557
CREATED:20260121T001724Z
LAST-MODIFIED:20260223T054649Z
UID:142355-1772870400-1772899200@events.bridgeport.edu
SUMMARY:32BJ Training and ESL Citizenship Courses
DESCRIPTION:
URL:https://events.bridgeport.edu/event/32bj-training-and-esl-citizenship-courses-14/
LOCATION:MAN 303 Campus: Main Campus\, 230 Park Avenue\, Bridgeport\, CT\, 06604\, United States
CATEGORIES:Community
END:VEVENT
BEGIN:VEVENT
DTSTART;TZID=America/New_York:20260307T080000
DTEND;TZID=America/New_York:20260307T160000
DTSTAMP:20260420T094557
CREATED:20260121T001724Z
LAST-MODIFIED:20260223T054649Z
UID:142352-1772870400-1772899200@events.bridgeport.edu
SUMMARY:32BJ Training and ESL Citizenship Courses
DESCRIPTION:
URL:https://events.bridgeport.edu/event/32bj-training-and-esl-citizenship-courses-13/
LOCATION:MAN 216 Campus: Main Campus\, 230 Park Avenue\, Bridgeport\, CT\, 06604\, United States
CATEGORIES:Community
END:VEVENT
BEGIN:VEVENT
DTSTART;TZID=America/New_York:20260307T100000
DTEND;TZID=America/New_York:20260307T140000
DTSTAMP:20260420T094557
CREATED:20260121T001736Z
LAST-MODIFIED:20260223T054637Z
UID:142367-1772877600-1772892000@events.bridgeport.edu
SUMMARY:STEM Girls - National Coalition of 100 Black Women/NCBW
DESCRIPTION:
URL:https://events.bridgeport.edu/event/stem-girls-national-coalition-of-100-black-women-ncbw-2/
LOCATION:WAHL 613 Campus: Main Campus
CATEGORIES:Community
END:VEVENT
BEGIN:VEVENT
DTSTART;TZID=America/New_York:20260308T000000
DTEND;TZID=America/New_York:20260308T235900
DTSTAMP:20260420T094557
CREATED:20260124T001812Z
LAST-MODIFIED:20260223T054649Z
UID:143451-1772928000-1773014340@events.bridgeport.edu
SUMMARY:Ramadan Prayer Room - Student Affairs
DESCRIPTION:
URL:https://events.bridgeport.edu/event/ramadan-prayer-room-student-affairs-20/
LOCATION:JCSC 003 Campus: Main Campus
CATEGORIES:Community
END:VEVENT
BEGIN:VEVENT
DTSTART;TZID=America/New_York:20260309T000000
DTEND;TZID=America/New_York:20260309T235900
DTSTAMP:20260420T094557
CREATED:20260124T001824Z
LAST-MODIFIED:20260223T054649Z
UID:143453-1773014400-1773100740@events.bridgeport.edu
SUMMARY:Ramadan Prayer Room - Student Affairs
DESCRIPTION:
URL:https://events.bridgeport.edu/event/ramadan-prayer-room-student-affairs-21/
LOCATION:JCSC 003 Campus: Main Campus
CATEGORIES:Community
END:VEVENT
BEGIN:VEVENT
DTSTART;TZID=America/New_York:20260309T123000
DTEND;TZID=America/New_York:20260309T134500
DTSTAMP:20260420T094557
CREATED:20260121T001736Z
LAST-MODIFIED:20260223T054649Z
UID:142368-1773059400-1773063900@events.bridgeport.edu
SUMMARY:Bowling - Fairfield Education
DESCRIPTION:
URL:https://events.bridgeport.edu/event/bowling-fairfield-education-5/
LOCATION:JCSC UBowl Campus: Main Campus
CATEGORIES:Community
END:VEVENT
BEGIN:VEVENT
DTSTART;TZID=America/New_York:20260310T000000
DTEND;TZID=America/New_York:20260310T235900
DTSTAMP:20260420T094557
CREATED:20260124T001824Z
LAST-MODIFIED:20260223T054649Z
UID:143454-1773100800-1773187140@events.bridgeport.edu
SUMMARY:Ramadan Prayer Room - Student Affairs
DESCRIPTION:
URL:https://events.bridgeport.edu/event/ramadan-prayer-room-student-affairs-22/
LOCATION:JCSC 003 Campus: Main Campus
CATEGORIES:Community
END:VEVENT
BEGIN:VEVENT
DTSTART;TZID=America/New_York:20260311T000000
DTEND;TZID=America/New_York:20260311T235900
DTSTAMP:20260420T094557
CREATED:20260124T001824Z
LAST-MODIFIED:20260223T054700Z
UID:143455-1773187200-1773273540@events.bridgeport.edu
SUMMARY:Ramadan Prayer Room - Student Affairs
DESCRIPTION:
URL:https://events.bridgeport.edu/event/ramadan-prayer-room-student-affairs-23/
LOCATION:JCSC 003 Campus: Main Campus
CATEGORIES:Community
END:VEVENT
BEGIN:VEVENT
DTSTART;TZID=America/New_York:20260311T140000
DTEND;TZID=America/New_York:20260311T193000
DTSTAMP:20260420T094557
CREATED:20260121T001736Z
LAST-MODIFIED:20260223T054700Z
UID:142371-1773237600-1773257400@events.bridgeport.edu
SUMMARY:Bassick eSports Club - ACCESS for Kidz and School of Business
DESCRIPTION:
URL:https://events.bridgeport.edu/event/bassick-esports-club-access-for-kidz-and-school-of-business-8/
LOCATION:JCSC JCSC Campus: Main Campus
CATEGORIES:Community
END:VEVENT
BEGIN:VEVENT
DTSTART;TZID=America/New_York:20260311T180000
DTEND;TZID=America/New_York:20260311T200000
DTSTAMP:20260420T094557
CREATED:20260121T001736Z
LAST-MODIFIED:20260223T054649Z
UID:142370-1773252000-1773259200@events.bridgeport.edu
SUMMARY:BPD Citizens Academy
DESCRIPTION:
URL:https://events.bridgeport.edu/event/bpd-citizens-academy-7/
LOCATION:CARH 153 Campus: Main Campus\, 303 University Avenue\, Bridgeport\, CT\, 06604\, United States
CATEGORIES:Community
END:VEVENT
BEGIN:VEVENT
DTSTART;TZID=America/New_York:20260312T000000
DTEND;TZID=America/New_York:20260312T235900
DTSTAMP:20260420T094557
CREATED:20260124T001824Z
LAST-MODIFIED:20260223T054700Z
UID:143456-1773273600-1773359940@events.bridgeport.edu
SUMMARY:Ramadan Prayer Room - Student Affairs
DESCRIPTION:
URL:https://events.bridgeport.edu/event/ramadan-prayer-room-student-affairs-24/
LOCATION:JCSC 003 Campus: Main Campus
CATEGORIES:Community
END:VEVENT
BEGIN:VEVENT
DTSTART;TZID=America/New_York:20260312T180000
DTEND;TZID=America/New_York:20260312T210000
DTSTAMP:20260420T094557
CREATED:20260202T181744Z
LAST-MODIFIED:20260223T054700Z
UID:144544-1773338400-1773349200@events.bridgeport.edu
SUMMARY:South End: NRZ Meetings
DESCRIPTION:
URL:https://events.bridgeport.edu/event/south-end-nrz-meetings-7/
LOCATION:BAUH 111 Campus: Main Campus\, 82 Marina Park Street\, Bridgeport\, CT\, 06604\, United States
CATEGORIES:Community
END:VEVENT
BEGIN:VEVENT
DTSTART;TZID=America/New_York:20260312T180000
DTEND;TZID=America/New_York:20260312T223000
DTSTAMP:20260420T094557
CREATED:20260121T001736Z
LAST-MODIFIED:20260305T190949Z
UID:142372-1773338400-1773354600@events.bridgeport.edu
SUMMARY:Rehearsal - Bridgeport Symphony
DESCRIPTION:
URL:https://events.bridgeport.edu/event/rehearsal-bridgeport-symphony-2/
LOCATION:ABC 118 Campus: Main Campus\, 84 Iranistan Avenue\, Bridgeport\, CT\, 06604\, United States
CATEGORIES:Community
END:VEVENT
BEGIN:VEVENT
DTSTART;TZID=America/New_York:20260313T000000
DTEND;TZID=America/New_York:20260313T235900
DTSTAMP:20260420T094557
CREATED:20260124T001824Z
LAST-MODIFIED:20260223T054700Z
UID:143457-1773360000-1773446340@events.bridgeport.edu
SUMMARY:Ramadan Prayer Room - Student Affairs
DESCRIPTION:
URL:https://events.bridgeport.edu/event/ramadan-prayer-room-student-affairs-25/
LOCATION:JCSC 003 Campus: Main Campus
CATEGORIES:Community
END:VEVENT
BEGIN:VEVENT
DTSTART;TZID=America/New_York:20260313T153000
DTEND;TZID=America/New_York:20260313T173000
DTSTAMP:20260420T094557
CREATED:20260121T001736Z
LAST-MODIFIED:20260223T054700Z
UID:142373-1773415800-1773423000@events.bridgeport.edu
SUMMARY:BackCountry Jazz -Friday Music Program
DESCRIPTION:
URL:https://events.bridgeport.edu/event/backcountry-jazz-friday-music-program-15/
LOCATION:JCSC 207-209 Campus: Main Campus\, 244 University Avenue\, Bridgeport\, CT\, 06604\, United States
CATEGORIES:Community
END:VEVENT
BEGIN:VEVENT
DTSTART;TZID=America/New_York:20260313T153000
DTEND;TZID=America/New_York:20260313T173000
DTSTAMP:20260420T094557
CREATED:20260121T001736Z
LAST-MODIFIED:20260223T054700Z
UID:142374-1773415800-1773423000@events.bridgeport.edu
SUMMARY:BackCountry Jazz -Friday Music Program
DESCRIPTION:
URL:https://events.bridgeport.edu/event/backcountry-jazz-friday-music-program-16/
LOCATION:JCSC Knight S7 Campus: Main Campus
CATEGORIES:Community
END:VEVENT
BEGIN:VEVENT
DTSTART;TZID=America/New_York:20260313T180000
DTEND;TZID=America/New_York:20260313T223000
DTSTAMP:20260420T094557
CREATED:20260121T001736Z
LAST-MODIFIED:20260305T191017Z
UID:142375-1773424800-1773441000@events.bridgeport.edu
SUMMARY:Rehearsal - Bridgeport Symphony
DESCRIPTION:
URL:https://events.bridgeport.edu/event/rehearsal-bridgeport-symphony-3/
LOCATION:ABC 118 Campus: Main Campus\, 84 Iranistan Avenue\, Bridgeport\, CT\, 06604\, United States
CATEGORIES:Community
END:VEVENT
END:VCALENDAR