

BEGIN:VCALENDAR
VERSION:2.0
PRODID:-//Campus Events - ECPv6.15.20//NONSGML v1.0//EN
CALSCALE:GREGORIAN
METHOD:PUBLISH
X-WR-CALNAME:Campus Events
X-ORIGINAL-URL:https://events.bridgeport.edu
X-WR-CALDESC:Events for Campus Events
REFRESH-INTERVAL;VALUE=DURATION:PT1H
X-Robots-Tag:noindex
X-PUBLISHED-TTL:PT1H
BEGIN:VTIMEZONE
TZID:America/New_York
BEGIN:DAYLIGHT
TZOFFSETFROM:-0500
TZOFFSETTO:-0400
TZNAME:EDT
DTSTART:20250309T070000
END:DAYLIGHT
BEGIN:STANDARD
TZOFFSETFROM:-0400
TZOFFSETTO:-0500
TZNAME:EST
DTSTART:20251102T060000
END:STANDARD
BEGIN:DAYLIGHT
TZOFFSETFROM:-0500
TZOFFSETTO:-0400
TZNAME:EDT
DTSTART:20260308T070000
END:DAYLIGHT
BEGIN:STANDARD
TZOFFSETFROM:-0400
TZOFFSETTO:-0500
TZNAME:EST
DTSTART:20261101T060000
END:STANDARD
BEGIN:DAYLIGHT
TZOFFSETFROM:-0500
TZOFFSETTO:-0400
TZNAME:EDT
DTSTART:20270314T070000
END:DAYLIGHT
BEGIN:STANDARD
TZOFFSETFROM:-0400
TZOFFSETTO:-0500
TZNAME:EST
DTSTART:20271107T060000
END:STANDARD
END:VTIMEZONE
BEGIN:VEVENT
DTSTART;VALUE=DATE:20260511
DTEND;VALUE=DATE:20260512
DTSTAMP:20260423T075134
CREATED:20250508T125351Z
LAST-MODIFIED:20250508T125351Z
UID:115943-1778457600-1778543999@events.bridgeport.edu
SUMMARY:Summer semester begins (15-week\, first module\, and CHS 18-week courses)
DESCRIPTION:
URL:https://events.bridgeport.edu/event/summer-semester-begins-15-week-first-module-and-chs-18-week-courses/
CATEGORIES:Academics
END:VEVENT
BEGIN:VEVENT
DTSTART;VALUE=DATE:20260511
DTEND;VALUE=DATE:20260512
DTSTAMP:20260423T075134
CREATED:20250508T125351Z
LAST-MODIFIED:20250508T125351Z
UID:115942-1778457600-1778543999@events.bridgeport.edu
SUMMARY:Faculty return to campus (CHS 18-week Acupuncture and Chiropractic)
DESCRIPTION:
URL:https://events.bridgeport.edu/event/faculty-return-to-campus-chs-18-week-acupuncture-and-chiropractic-2/
CATEGORIES:Academics
END:VEVENT
BEGIN:VEVENT
DTSTART;TZID=America/New_York:20260511T080000
DTEND;TZID=America/New_York:20260511T210000
DTSTAMP:20260423T075134
CREATED:20260121T001857Z
LAST-MODIFIED:20260223T054833Z
UID:142517-1778486400-1778533200@events.bridgeport.edu
SUMMARY:SOE Situation Room and Data Management
DESCRIPTION:
URL:https://events.bridgeport.edu/event/soe-situation-room-and-data-management-80/
LOCATION:CARH 113 Campus: Main Campus
CATEGORIES:Academics
END:VEVENT
BEGIN:VEVENT
DTSTART;TZID=America/New_York:20260512T080000
DTEND;TZID=America/New_York:20260512T210000
DTSTAMP:20260423T075134
CREATED:20260121T001857Z
LAST-MODIFIED:20260223T054833Z
UID:142518-1778572800-1778619600@events.bridgeport.edu
SUMMARY:SOE Situation Room and Data Management
DESCRIPTION:
URL:https://events.bridgeport.edu/event/soe-situation-room-and-data-management-81/
LOCATION:CARH 113 Campus: Main Campus
CATEGORIES:Academics
END:VEVENT
BEGIN:VEVENT
DTSTART;TZID=America/New_York:20260512T123000
DTEND;TZID=America/New_York:20260512T133000
DTSTAMP:20260423T075134
CREATED:20260121T001908Z
LAST-MODIFIED:20260223T054833Z
UID:142519-1778589000-1778592600@events.bridgeport.edu
SUMMARY:Faculty Senate Executive Committee Meeting via Zoom
DESCRIPTION:
URL:https://events.bridgeport.edu/event/faculty-senate-executive-committee-meeting-via-zoom-4/
LOCATION:ONLN ZOOM Campus: Distance Learning-On Line
CATEGORIES:Academics
END:VEVENT
BEGIN:VEVENT
DTSTART;TZID=America/New_York:20260513T080000
DTEND;TZID=America/New_York:20260513T210000
DTSTAMP:20260423T075134
CREATED:20260121T001908Z
LAST-MODIFIED:20260223T054845Z
UID:142520-1778659200-1778706000@events.bridgeport.edu
SUMMARY:SOE Situation Room and Data Management
DESCRIPTION:
URL:https://events.bridgeport.edu/event/soe-situation-room-and-data-management-82/
LOCATION:CARH 113 Campus: Main Campus
CATEGORIES:Academics
END:VEVENT
BEGIN:VEVENT
DTSTART;TZID=America/New_York:20260514T080000
DTEND;TZID=America/New_York:20260514T210000
DTSTAMP:20260423T075134
CREATED:20260121T001908Z
LAST-MODIFIED:20260223T054845Z
UID:142521-1778745600-1778792400@events.bridgeport.edu
SUMMARY:SOE Situation Room and Data Management
DESCRIPTION:
URL:https://events.bridgeport.edu/event/soe-situation-room-and-data-management-83/
LOCATION:CARH 113 Campus: Main Campus
CATEGORIES:Academics
END:VEVENT
BEGIN:VEVENT
DTSTART;TZID=America/New_York:20260515T080000
DTEND;TZID=America/New_York:20260515T210000
DTSTAMP:20260423T075134
CREATED:20260121T001908Z
LAST-MODIFIED:20260223T054845Z
UID:142522-1778832000-1778878800@events.bridgeport.edu
SUMMARY:SOE Situation Room and Data Management
DESCRIPTION:
URL:https://events.bridgeport.edu/event/soe-situation-room-and-data-management-84/
LOCATION:CARH 113 Campus: Main Campus
CATEGORIES:Academics
END:VEVENT
BEGIN:VEVENT
DTSTART;TZID=America/New_York:20260516T093000
DTEND;TZID=America/New_York:20260516T120000
DTSTAMP:20260423T075134
CREATED:20260122T171917Z
LAST-MODIFIED:20260225T195340Z
UID:143243-1778923800-1778932800@events.bridgeport.edu
SUMMARY:UG Spring Open House - Admissions
DESCRIPTION:
URL:https://events.bridgeport.edu/event/ug-spring-open-house-admissions/
LOCATION:WAHL Main Floor Campus: Main Campus
CATEGORIES:Academics,Social
END:VEVENT
BEGIN:VEVENT
DTSTART;VALUE=DATE:20260517
DTEND;VALUE=DATE:20260518
DTSTAMP:20260423T075134
CREATED:20250508T125351Z
LAST-MODIFIED:20250811T160602Z
UID:115944-1778976000-1779062399@events.bridgeport.edu
SUMMARY:Last day to ADD a 15-week\, first module\, or CHS 18-week Acupuncture or Chiropractic course
DESCRIPTION:
URL:https://events.bridgeport.edu/event/last-day-to-add-a-15-week-or-first-module-course-4/
CATEGORIES:Academics
END:VEVENT
BEGIN:VEVENT
DTSTART;TZID=America/New_York:20260518T080000
DTEND;TZID=America/New_York:20260518T210000
DTSTAMP:20260423T075134
CREATED:20260121T001908Z
LAST-MODIFIED:20260223T054845Z
UID:142523-1779091200-1779138000@events.bridgeport.edu
SUMMARY:SOE Situation Room and Data Management
DESCRIPTION:
URL:https://events.bridgeport.edu/event/soe-situation-room-and-data-management-85/
LOCATION:CARH 113 Campus: Main Campus
CATEGORIES:Academics
END:VEVENT
BEGIN:VEVENT
DTSTART;TZID=America/New_York:20260519T080000
DTEND;TZID=America/New_York:20260519T210000
DTSTAMP:20260423T075134
CREATED:20260121T001908Z
LAST-MODIFIED:20260223T054845Z
UID:142525-1779177600-1779224400@events.bridgeport.edu
SUMMARY:SOE Situation Room and Data Management
DESCRIPTION:
URL:https://events.bridgeport.edu/event/soe-situation-room-and-data-management-86/
LOCATION:CARH 113 Campus: Main Campus
CATEGORIES:Academics
END:VEVENT
BEGIN:VEVENT
DTSTART;TZID=America/New_York:20260519T123000
DTEND;TZID=America/New_York:20260519T133000
DTSTAMP:20260423T075134
CREATED:20260121T001908Z
LAST-MODIFIED:20260223T054845Z
UID:142524-1779193800-1779197400@events.bridgeport.edu
SUMMARY:Faculty Senate Advisory Committee Meetings via Zoom
DESCRIPTION:
URL:https://events.bridgeport.edu/event/faculty-senate-advisory-committee-meetings-via-zoom-4/
LOCATION:ONLN ZOOM Campus: Distance Learning-On Line
CATEGORIES:Academics
END:VEVENT
BEGIN:VEVENT
DTSTART;TZID=America/New_York:20260520T080000
DTEND;TZID=America/New_York:20260520T210000
DTSTAMP:20260423T075134
CREATED:20260121T001908Z
LAST-MODIFIED:20260223T054845Z
UID:142526-1779264000-1779310800@events.bridgeport.edu
SUMMARY:SOE Situation Room and Data Management
DESCRIPTION:
URL:https://events.bridgeport.edu/event/soe-situation-room-and-data-management-87/
LOCATION:CARH 113 Campus: Main Campus
CATEGORIES:Academics
END:VEVENT
BEGIN:VEVENT
DTSTART;TZID=America/New_York:20260521T080000
DTEND;TZID=America/New_York:20260521T210000
DTSTAMP:20260423T075134
CREATED:20260121T001908Z
LAST-MODIFIED:20260223T054845Z
UID:142527-1779350400-1779397200@events.bridgeport.edu
SUMMARY:SOE Situation Room and Data Management
DESCRIPTION:
URL:https://events.bridgeport.edu/event/soe-situation-room-and-data-management-88/
LOCATION:CARH 113 Campus: Main Campus
CATEGORIES:Academics
END:VEVENT
BEGIN:VEVENT
DTSTART;VALUE=DATE:20260522
DTEND;VALUE=DATE:20260523
DTSTAMP:20260423T075134
CREATED:20250508T125351Z
LAST-MODIFIED:20250508T125351Z
UID:115945-1779408000-1779494399@events.bridgeport.edu
SUMMARY:Last day to elect pass/fail
DESCRIPTION:
URL:https://events.bridgeport.edu/event/last-day-to-elect-pass-fail-4/
CATEGORIES:Academics
END:VEVENT
BEGIN:VEVENT
DTSTART;TZID=America/New_York:20260522T080000
DTEND;TZID=America/New_York:20260522T210000
DTSTAMP:20260423T075134
CREATED:20260121T001908Z
LAST-MODIFIED:20260223T054845Z
UID:142528-1779436800-1779483600@events.bridgeport.edu
SUMMARY:SOE Situation Room and Data Management
DESCRIPTION:
URL:https://events.bridgeport.edu/event/soe-situation-room-and-data-management-89/
LOCATION:CARH 113 Campus: Main Campus
CATEGORIES:Academics
END:VEVENT
BEGIN:VEVENT
DTSTART;VALUE=DATE:20260524
DTEND;VALUE=DATE:20260525
DTSTAMP:20260423T075134
CREATED:20250508T125351Z
LAST-MODIFIED:20250811T160637Z
UID:115946-1779580800-1779667199@events.bridgeport.edu
SUMMARY:Last day to ADD a 15-week or CHS 18-week Acupuncture or Chiropractic course (instructor approved courses only)
DESCRIPTION:
URL:https://events.bridgeport.edu/event/last-day-to-add-a-15-week-course-instructor-approved-courses-only-2/
CATEGORIES:Academics
END:VEVENT
BEGIN:VEVENT
DTSTART;VALUE=DATE:20260524
DTEND;VALUE=DATE:20260525
DTSTAMP:20260423T075134
CREATED:20250508T125406Z
LAST-MODIFIED:20250508T125406Z
UID:115947-1779580800-1779667199@events.bridgeport.edu
SUMMARY:Last day to WITHDRAW from 15-week and first module courses without academic penalty\, but with financial penalty
DESCRIPTION:See Refund Policy
URL:https://events.bridgeport.edu/event/last-day-to-withdraw-from-15-week-and-first-module-courses-without-academic-penalty-but-with-financial-penalty/
CATEGORIES:Academics
END:VEVENT
BEGIN:VEVENT
DTSTART;VALUE=DATE:20260525
DTEND;VALUE=DATE:20260526
DTSTAMP:20260423T075134
CREATED:20250508T125406Z
LAST-MODIFIED:20250508T125406Z
UID:115948-1779667200-1779753599@events.bridgeport.edu
SUMMARY:Memorial Day - No classes - University is closed
DESCRIPTION:
URL:https://events.bridgeport.edu/event/memorial-day-no-classes-university-is-closed-2/
CATEGORIES:Academics
END:VEVENT
BEGIN:VEVENT
DTSTART;VALUE=DATE:20260526
DTEND;VALUE=DATE:20260527
DTSTAMP:20260423T075134
CREATED:20250508T125406Z
LAST-MODIFIED:20250508T125406Z
UID:115949-1779753600-1779839999@events.bridgeport.edu
SUMMARY:Faculty Census Day (15-week and first module courses)
DESCRIPTION:
URL:https://events.bridgeport.edu/event/faculty-census-day-15-week-and-first-module-courses-3/
CATEGORIES:Academics
END:VEVENT
BEGIN:VEVENT
DTSTART;TZID=America/New_York:20260526T080000
DTEND;TZID=America/New_York:20260526T210000
DTSTAMP:20260423T075134
CREATED:20260121T001919Z
LAST-MODIFIED:20260223T054857Z
UID:142539-1779782400-1779829200@events.bridgeport.edu
SUMMARY:SOE Situation Room and Data Management
DESCRIPTION:
URL:https://events.bridgeport.edu/event/soe-situation-room-and-data-management-90/
LOCATION:CARH 113 Campus: Main Campus
CATEGORIES:Academics
END:VEVENT
BEGIN:VEVENT
DTSTART;TZID=America/New_York:20260527T080000
DTEND;TZID=America/New_York:20260527T210000
DTSTAMP:20260423T075134
CREATED:20260121T001919Z
LAST-MODIFIED:20260223T054857Z
UID:142540-1779868800-1779915600@events.bridgeport.edu
SUMMARY:SOE Situation Room and Data Management
DESCRIPTION:
URL:https://events.bridgeport.edu/event/soe-situation-room-and-data-management-91/
LOCATION:CARH 113 Campus: Main Campus
CATEGORIES:Academics
END:VEVENT
BEGIN:VEVENT
DTSTART;TZID=America/New_York:20260528T080000
DTEND;TZID=America/New_York:20260528T210000
DTSTAMP:20260423T075134
CREATED:20260121T001919Z
LAST-MODIFIED:20260223T054857Z
UID:142541-1779955200-1780002000@events.bridgeport.edu
SUMMARY:SOE Situation Room and Data Management
DESCRIPTION:
URL:https://events.bridgeport.edu/event/soe-situation-room-and-data-management-92/
LOCATION:CARH 113 Campus: Main Campus
CATEGORIES:Academics
END:VEVENT
BEGIN:VEVENT
DTSTART;TZID=America/New_York:20260529T080000
DTEND;TZID=America/New_York:20260529T210000
DTSTAMP:20260423T075134
CREATED:20260121T001919Z
LAST-MODIFIED:20260223T054857Z
UID:142542-1780041600-1780088400@events.bridgeport.edu
SUMMARY:SOE Situation Room and Data Management
DESCRIPTION:
URL:https://events.bridgeport.edu/event/soe-situation-room-and-data-management-93/
LOCATION:CARH 113 Campus: Main Campus
CATEGORIES:Academics
END:VEVENT
BEGIN:VEVENT
DTSTART;VALUE=DATE:20260531
DTEND;VALUE=DATE:20260601
DTSTAMP:20260423T075134
CREATED:20250508T125406Z
LAST-MODIFIED:20250508T125406Z
UID:115950-1780185600-1780271999@events.bridgeport.edu
SUMMARY:Last day to WITHDRAW from CHS 18-week Acupuncture and Chiropractic courses without academic penalty\, but with financial penalty
DESCRIPTION:See Refund Policy
URL:https://events.bridgeport.edu/event/last-day-to-withdraw-from-chs-18-week-acupuncture-and-chiropractic-courses-without-academic-penalty-but-with-financial-penalty-2/
CATEGORIES:Academics
END:VEVENT
BEGIN:VEVENT
DTSTART;VALUE=DATE:20260601
DTEND;VALUE=DATE:20260602
DTSTAMP:20260423T075134
CREATED:20250508T125406Z
LAST-MODIFIED:20250508T125406Z
UID:115951-1780272000-1780358399@events.bridgeport.edu
SUMMARY:Faculty Census Day (CHS 18-week Acupuncture and Chiropractic courses)
DESCRIPTION:
URL:https://events.bridgeport.edu/event/faculty-census-day-chs-18-week-acupuncture-and-chiropractic-courses-3/
CATEGORIES:Academics
END:VEVENT
BEGIN:VEVENT
DTSTART;TZID=America/New_York:20260601T080000
DTEND;TZID=America/New_York:20260601T210000
DTSTAMP:20260423T075134
CREATED:20260121T001919Z
LAST-MODIFIED:20260223T054857Z
UID:142543-1780300800-1780347600@events.bridgeport.edu
SUMMARY:SOE Situation Room and Data Management
DESCRIPTION:
URL:https://events.bridgeport.edu/event/soe-situation-room-and-data-management-94/
LOCATION:CARH 113 Campus: Main Campus
CATEGORIES:Academics
END:VEVENT
BEGIN:VEVENT
DTSTART;TZID=America/New_York:20260602T080000
DTEND;TZID=America/New_York:20260602T210000
DTSTAMP:20260423T075134
CREATED:20260121T001919Z
LAST-MODIFIED:20260223T054857Z
UID:142544-1780387200-1780434000@events.bridgeport.edu
SUMMARY:SOE Situation Room and Data Management
DESCRIPTION:
URL:https://events.bridgeport.edu/event/soe-situation-room-and-data-management-95/
LOCATION:CARH 113 Campus: Main Campus
CATEGORIES:Academics
END:VEVENT
BEGIN:VEVENT
DTSTART;TZID=America/New_York:20260603T080000
DTEND;TZID=America/New_York:20260603T210000
DTSTAMP:20260423T075134
CREATED:20260121T001919Z
LAST-MODIFIED:20260223T054857Z
UID:142545-1780473600-1780520400@events.bridgeport.edu
SUMMARY:SOE Situation Room and Data Management
DESCRIPTION:
URL:https://events.bridgeport.edu/event/soe-situation-room-and-data-management-96/
LOCATION:CARH 113 Campus: Main Campus
CATEGORIES:Academics
END:VEVENT
END:VCALENDAR