

BEGIN:VCALENDAR
VERSION:2.0
PRODID:-//Campus Events - ECPv6.15.20//NONSGML v1.0//EN
CALSCALE:GREGORIAN
METHOD:PUBLISH
X-WR-CALNAME:Campus Events
X-ORIGINAL-URL:https://events.bridgeport.edu
X-WR-CALDESC:Events for Campus Events
REFRESH-INTERVAL;VALUE=DURATION:PT1H
X-Robots-Tag:noindex
X-PUBLISHED-TTL:PT1H
BEGIN:VTIMEZONE
TZID:America/New_York
BEGIN:DAYLIGHT
TZOFFSETFROM:-0500
TZOFFSETTO:-0400
TZNAME:EDT
DTSTART:20250309T070000
END:DAYLIGHT
BEGIN:STANDARD
TZOFFSETFROM:-0400
TZOFFSETTO:-0500
TZNAME:EST
DTSTART:20251102T060000
END:STANDARD
BEGIN:DAYLIGHT
TZOFFSETFROM:-0500
TZOFFSETTO:-0400
TZNAME:EDT
DTSTART:20260308T070000
END:DAYLIGHT
BEGIN:STANDARD
TZOFFSETFROM:-0400
TZOFFSETTO:-0500
TZNAME:EST
DTSTART:20261101T060000
END:STANDARD
BEGIN:DAYLIGHT
TZOFFSETFROM:-0500
TZOFFSETTO:-0400
TZNAME:EDT
DTSTART:20270314T070000
END:DAYLIGHT
BEGIN:STANDARD
TZOFFSETFROM:-0400
TZOFFSETTO:-0500
TZNAME:EST
DTSTART:20271107T060000
END:STANDARD
END:VTIMEZONE
BEGIN:VEVENT
DTSTART;TZID=America/New_York:20260428T150000
DTEND;TZID=America/New_York:20260428T190000
DTSTAMP:20260423T062446
CREATED:20260123T211851Z
LAST-MODIFIED:20260223T054821Z
UID:143416-1777388400-1777402800@events.bridgeport.edu
SUMMARY:VITA Tax Clinic
DESCRIPTION:
URL:https://events.bridgeport.edu/event/vita-tax-clinic-30/
LOCATION:MAN 303 Campus: Main Campus\, 230 Park Avenue\, Bridgeport\, CT\, 06604\, United States
CATEGORIES:Academics
END:VEVENT
BEGIN:VEVENT
DTSTART;TZID=America/New_York:20260429T080000
DTEND;TZID=America/New_York:20260429T210000
DTSTAMP:20260423T062446
CREATED:20260121T001846Z
LAST-MODIFIED:20260223T054821Z
UID:142497-1777449600-1777496400@events.bridgeport.edu
SUMMARY:SOE Situation Room and Data Management
DESCRIPTION:
URL:https://events.bridgeport.edu/event/soe-situation-room-and-data-management-72/
LOCATION:CARH 113 Campus: Main Campus
CATEGORIES:Academics
END:VEVENT
BEGIN:VEVENT
DTSTART;TZID=America/New_York:20260429T110000
DTEND;TZID=America/New_York:20260429T123000
DTSTAMP:20260423T062446
CREATED:20260330T172030Z
LAST-MODIFIED:20260330T172034Z
UID:153175-1777460400-1777465800@events.bridgeport.edu
SUMMARY:37th Annual Induction of the CT Delta Chapter of Upsilon Pi Epsilon
DESCRIPTION:
URL:https://events.bridgeport.edu/event/37th-annual-induction-of-the-ct-delta-chapter-of-upsilon-pi-epsilon/
LOCATION:MAN 107
CATEGORIES:Academics,Convocation,Social,Student
END:VEVENT
BEGIN:VEVENT
DTSTART;TZID=America/New_York:20260429T130000
DTEND;TZID=America/New_York:20260429T150000
DTSTAMP:20260423T062446
CREATED:20260212T171841Z
LAST-MODIFIED:20260223T054821Z
UID:145754-1777467600-1777474800@events.bridgeport.edu
SUMMARY:School of Engineering Academic Honors Convocation
DESCRIPTION:
URL:https://events.bridgeport.edu/event/school-of-engineering-academic-honors-convocation-2/
LOCATION:MAN 104 Campus: Main Campus\, 230 Park Avenue\, Bridgeport\, CT\, 06604\, United States
CATEGORIES:Academics
END:VEVENT
BEGIN:VEVENT
DTSTART;TZID=America/New_York:20260429T150000
DTEND;TZID=America/New_York:20260429T153000
DTSTAMP:20260423T062446
CREATED:20260123T211902Z
LAST-MODIFIED:20260223T054821Z
UID:143417-1777474800-1777476600@events.bridgeport.edu
SUMMARY:Vita Tax Clinic
DESCRIPTION:
URL:https://events.bridgeport.edu/event/vita-tax-clinic-31/
LOCATION:MAN 303 Campus: Main Campus\, 230 Park Avenue\, Bridgeport\, CT\, 06604\, United States
CATEGORIES:Academics
END:VEVENT
BEGIN:VEVENT
DTSTART;TZID=America/New_York:20260430T080000
DTEND;TZID=America/New_York:20260430T210000
DTSTAMP:20260423T062446
CREATED:20260121T001857Z
LAST-MODIFIED:20260223T054821Z
UID:142510-1777536000-1777582800@events.bridgeport.edu
SUMMARY:SOE Situation Room and Data Management
DESCRIPTION:
URL:https://events.bridgeport.edu/event/soe-situation-room-and-data-management-73/
LOCATION:CARH 113 Campus: Main Campus
CATEGORIES:Academics
END:VEVENT
BEGIN:VEVENT
DTSTART;TZID=America/New_York:20260430T130000
DTEND;TZID=America/New_York:20260430T150000
DTSTAMP:20260423T062446
CREATED:20260209T211845Z
LAST-MODIFIED:20260223T054821Z
UID:145448-1777554000-1777561200@events.bridgeport.edu
SUMMARY:Trefz School of Business Academic Honors Ceremony
DESCRIPTION:
URL:https://events.bridgeport.edu/event/trefz-school-of-business-academic-honors-ceremony/
LOCATION:MAN 104 Campus: Main Campus\, 230 Park Avenue\, Bridgeport\, CT\, 06604\, United States
CATEGORIES:Academics
END:VEVENT
BEGIN:VEVENT
DTSTART;TZID=America/New_York:20260430T180000
DTEND;TZID=America/New_York:20260430T203000
DTSTAMP:20260423T062446
CREATED:20260122T034851Z
LAST-MODIFIED:20260223T054833Z
UID:143178-1777572000-1777581000@events.bridgeport.edu
SUMMARY:School of Education Awards and Doctoral Hooding
DESCRIPTION:
URL:https://events.bridgeport.edu/event/school-of-education-awards-and-doctoral-hooding/
LOCATION:JCSC KNIGHT S1 – Social Room Campus: Main Campus
CATEGORIES:Academics
END:VEVENT
BEGIN:VEVENT
DTSTART;TZID=America/New_York:20260501T080000
DTEND;TZID=America/New_York:20260501T210000
DTSTAMP:20260423T062446
CREATED:20260121T001857Z
LAST-MODIFIED:20260223T054833Z
UID:142511-1777622400-1777669200@events.bridgeport.edu
SUMMARY:SOE Situation Room and Data Management
DESCRIPTION:
URL:https://events.bridgeport.edu/event/soe-situation-room-and-data-management-74/
LOCATION:CARH 113 Campus: Main Campus
CATEGORIES:Academics
END:VEVENT
BEGIN:VEVENT
DTSTART;VALUE=DATE:20260502
DTEND;VALUE=DATE:20260503
DTSTAMP:20260423T062446
CREATED:20250508T125313Z
LAST-MODIFIED:20260422T185241Z
UID:115935-1777680000-1777766399@events.bridgeport.edu
SUMMARY:CONGRATULATIONS GRADUATES!          UB Commencement Exercises: UG ceremony @ 10am...MA/DR ceremony @ 3pm
DESCRIPTION:
URL:https://events.bridgeport.edu/event/commencement/
LOCATION:Hartford HealthCare Amphitheater\, 500 Broad Street\, Bridgeport\, CT\, 06604\, United States
CATEGORIES:Academics,Commencement
END:VEVENT
BEGIN:VEVENT
DTSTART;VALUE=DATE:20260502
DTEND;VALUE=DATE:20260503
DTSTAMP:20260423T062446
CREATED:20250508T125313Z
LAST-MODIFIED:20250508T125313Z
UID:115936-1777680000-1777766399@events.bridgeport.edu
SUMMARY:CHS 18-week Acupuncture and Chiropractic courses end
DESCRIPTION:
URL:https://events.bridgeport.edu/event/chs-18-week-acupuncture-and-chiropractic-courses-end/
CATEGORIES:Academics
END:VEVENT
BEGIN:VEVENT
DTSTART;VALUE=DATE:20260504
DTEND;VALUE=DATE:20260505
DTSTAMP:20260423T062446
CREATED:20250508T125328Z
LAST-MODIFIED:20250508T125328Z
UID:115937-1777852800-1777939199@events.bridgeport.edu
SUMMARY:Final grades due (CHS 18-week Acupuncture and Chiropractic)
DESCRIPTION:
URL:https://events.bridgeport.edu/event/final-grades-due-chs-18-week-acupuncture-and-chiropractic-2/
CATEGORIES:Academics
END:VEVENT
BEGIN:VEVENT
DTSTART;VALUE=DATE:20260504
DTEND;VALUE=DATE:20260505
DTSTAMP:20260423T062446
CREATED:20250508T125328Z
LAST-MODIFIED:20250508T125328Z
UID:115940-1777852800-1777939199@events.bridgeport.edu
SUMMARY:Faculty return to campus
DESCRIPTION:
URL:https://events.bridgeport.edu/event/faculty-return-to-campus/
CATEGORIES:Academics
END:VEVENT
BEGIN:VEVENT
DTSTART;VALUE=DATE:20260504
DTEND;VALUE=DATE:20260505
DTSTAMP:20260423T062446
CREATED:20251022T165638Z
LAST-MODIFIED:20251022T165736Z
UID:133098-1777852800-1777939199@events.bridgeport.edu
SUMMARY:Degree posting date
DESCRIPTION:
URL:https://events.bridgeport.edu/event/spring-2026-degree-posting-date/
CATEGORIES:Academics
END:VEVENT
BEGIN:VEVENT
DTSTART;TZID=America/New_York:20260504T080000
DTEND;TZID=America/New_York:20260504T210000
DTSTAMP:20260423T062446
CREATED:20260121T001857Z
LAST-MODIFIED:20260223T054833Z
UID:142512-1777881600-1777928400@events.bridgeport.edu
SUMMARY:SOE Situation Room and Data Management
DESCRIPTION:
URL:https://events.bridgeport.edu/event/soe-situation-room-and-data-management-75/
LOCATION:CARH 113 Campus: Main Campus
CATEGORIES:Academics
END:VEVENT
BEGIN:VEVENT
DTSTART;TZID=America/New_York:20260505T080000
DTEND;TZID=America/New_York:20260505T210000
DTSTAMP:20260423T062446
CREATED:20260121T001857Z
LAST-MODIFIED:20260223T054833Z
UID:142513-1777968000-1778014800@events.bridgeport.edu
SUMMARY:SOE Situation Room and Data Management
DESCRIPTION:
URL:https://events.bridgeport.edu/event/soe-situation-room-and-data-management-76/
LOCATION:CARH 113 Campus: Main Campus
CATEGORIES:Academics
END:VEVENT
BEGIN:VEVENT
DTSTART;TZID=America/New_York:20260506T080000
DTEND;TZID=America/New_York:20260506T210000
DTSTAMP:20260423T062446
CREATED:20260121T001857Z
LAST-MODIFIED:20260223T054833Z
UID:142514-1778054400-1778101200@events.bridgeport.edu
SUMMARY:SOE Situation Room and Data Management
DESCRIPTION:
URL:https://events.bridgeport.edu/event/soe-situation-room-and-data-management-77/
LOCATION:CARH 113 Campus: Main Campus
CATEGORIES:Academics
END:VEVENT
BEGIN:VEVENT
DTSTART;TZID=America/New_York:20260507T080000
DTEND;TZID=America/New_York:20260507T210000
DTSTAMP:20260423T062446
CREATED:20260121T001857Z
LAST-MODIFIED:20260223T054833Z
UID:142515-1778140800-1778187600@events.bridgeport.edu
SUMMARY:SOE Situation Room and Data Management
DESCRIPTION:
URL:https://events.bridgeport.edu/event/soe-situation-room-and-data-management-78/
LOCATION:CARH 113 Campus: Main Campus
CATEGORIES:Academics
END:VEVENT
BEGIN:VEVENT
DTSTART;TZID=America/New_York:20260508T080000
DTEND;TZID=America/New_York:20260508T210000
DTSTAMP:20260423T062446
CREATED:20260121T001857Z
LAST-MODIFIED:20260223T054833Z
UID:142516-1778227200-1778274000@events.bridgeport.edu
SUMMARY:SOE Situation Room and Data Management
DESCRIPTION:
URL:https://events.bridgeport.edu/event/soe-situation-room-and-data-management-79/
LOCATION:CARH 113 Campus: Main Campus
CATEGORIES:Academics
END:VEVENT
BEGIN:VEVENT
DTSTART;VALUE=DATE:20260510
DTEND;VALUE=DATE:20260511
DTSTAMP:20260423T062446
CREATED:20250508T125328Z
LAST-MODIFIED:20250508T125328Z
UID:115941-1778371200-1778457599@events.bridgeport.edu
SUMMARY:Last day to WITHDRAW from 15-week and first module courses without academic and financial penalty
DESCRIPTION:See Refund Policy
URL:https://events.bridgeport.edu/event/last-day-to-withdraw-from-15-week-and-first-module-courses-without-academic-and-financial-penalty/
CATEGORIES:Academics
END:VEVENT
BEGIN:VEVENT
DTSTART;VALUE=DATE:20260511
DTEND;VALUE=DATE:20260512
DTSTAMP:20260423T062446
CREATED:20250508T125351Z
LAST-MODIFIED:20250508T125351Z
UID:115942-1778457600-1778543999@events.bridgeport.edu
SUMMARY:Faculty return to campus (CHS 18-week Acupuncture and Chiropractic)
DESCRIPTION:
URL:https://events.bridgeport.edu/event/faculty-return-to-campus-chs-18-week-acupuncture-and-chiropractic-2/
CATEGORIES:Academics
END:VEVENT
BEGIN:VEVENT
DTSTART;VALUE=DATE:20260511
DTEND;VALUE=DATE:20260512
DTSTAMP:20260423T062446
CREATED:20250508T125351Z
LAST-MODIFIED:20250508T125351Z
UID:115943-1778457600-1778543999@events.bridgeport.edu
SUMMARY:Summer semester begins (15-week\, first module\, and CHS 18-week courses)
DESCRIPTION:
URL:https://events.bridgeport.edu/event/summer-semester-begins-15-week-first-module-and-chs-18-week-courses/
CATEGORIES:Academics
END:VEVENT
BEGIN:VEVENT
DTSTART;TZID=America/New_York:20260511T080000
DTEND;TZID=America/New_York:20260511T210000
DTSTAMP:20260423T062446
CREATED:20260121T001857Z
LAST-MODIFIED:20260223T054833Z
UID:142517-1778486400-1778533200@events.bridgeport.edu
SUMMARY:SOE Situation Room and Data Management
DESCRIPTION:
URL:https://events.bridgeport.edu/event/soe-situation-room-and-data-management-80/
LOCATION:CARH 113 Campus: Main Campus
CATEGORIES:Academics
END:VEVENT
BEGIN:VEVENT
DTSTART;TZID=America/New_York:20260512T080000
DTEND;TZID=America/New_York:20260512T210000
DTSTAMP:20260423T062446
CREATED:20260121T001857Z
LAST-MODIFIED:20260223T054833Z
UID:142518-1778572800-1778619600@events.bridgeport.edu
SUMMARY:SOE Situation Room and Data Management
DESCRIPTION:
URL:https://events.bridgeport.edu/event/soe-situation-room-and-data-management-81/
LOCATION:CARH 113 Campus: Main Campus
CATEGORIES:Academics
END:VEVENT
BEGIN:VEVENT
DTSTART;TZID=America/New_York:20260512T123000
DTEND;TZID=America/New_York:20260512T133000
DTSTAMP:20260423T062446
CREATED:20260121T001908Z
LAST-MODIFIED:20260223T054833Z
UID:142519-1778589000-1778592600@events.bridgeport.edu
SUMMARY:Faculty Senate Executive Committee Meeting via Zoom
DESCRIPTION:
URL:https://events.bridgeport.edu/event/faculty-senate-executive-committee-meeting-via-zoom-4/
LOCATION:ONLN ZOOM Campus: Distance Learning-On Line
CATEGORIES:Academics
END:VEVENT
BEGIN:VEVENT
DTSTART;TZID=America/New_York:20260513T080000
DTEND;TZID=America/New_York:20260513T210000
DTSTAMP:20260423T062446
CREATED:20260121T001908Z
LAST-MODIFIED:20260223T054845Z
UID:142520-1778659200-1778706000@events.bridgeport.edu
SUMMARY:SOE Situation Room and Data Management
DESCRIPTION:
URL:https://events.bridgeport.edu/event/soe-situation-room-and-data-management-82/
LOCATION:CARH 113 Campus: Main Campus
CATEGORIES:Academics
END:VEVENT
BEGIN:VEVENT
DTSTART;TZID=America/New_York:20260514T080000
DTEND;TZID=America/New_York:20260514T210000
DTSTAMP:20260423T062446
CREATED:20260121T001908Z
LAST-MODIFIED:20260223T054845Z
UID:142521-1778745600-1778792400@events.bridgeport.edu
SUMMARY:SOE Situation Room and Data Management
DESCRIPTION:
URL:https://events.bridgeport.edu/event/soe-situation-room-and-data-management-83/
LOCATION:CARH 113 Campus: Main Campus
CATEGORIES:Academics
END:VEVENT
BEGIN:VEVENT
DTSTART;TZID=America/New_York:20260515T080000
DTEND;TZID=America/New_York:20260515T210000
DTSTAMP:20260423T062446
CREATED:20260121T001908Z
LAST-MODIFIED:20260223T054845Z
UID:142522-1778832000-1778878800@events.bridgeport.edu
SUMMARY:SOE Situation Room and Data Management
DESCRIPTION:
URL:https://events.bridgeport.edu/event/soe-situation-room-and-data-management-84/
LOCATION:CARH 113 Campus: Main Campus
CATEGORIES:Academics
END:VEVENT
BEGIN:VEVENT
DTSTART;TZID=America/New_York:20260516T093000
DTEND;TZID=America/New_York:20260516T120000
DTSTAMP:20260423T062446
CREATED:20260122T171917Z
LAST-MODIFIED:20260225T195340Z
UID:143243-1778923800-1778932800@events.bridgeport.edu
SUMMARY:UG Spring Open House - Admissions
DESCRIPTION:
URL:https://events.bridgeport.edu/event/ug-spring-open-house-admissions/
LOCATION:WAHL Main Floor Campus: Main Campus
CATEGORIES:Academics,Social
END:VEVENT
BEGIN:VEVENT
DTSTART;VALUE=DATE:20260517
DTEND;VALUE=DATE:20260518
DTSTAMP:20260423T062446
CREATED:20250508T125351Z
LAST-MODIFIED:20250811T160602Z
UID:115944-1778976000-1779062399@events.bridgeport.edu
SUMMARY:Last day to ADD a 15-week\, first module\, or CHS 18-week Acupuncture or Chiropractic course
DESCRIPTION:
URL:https://events.bridgeport.edu/event/last-day-to-add-a-15-week-or-first-module-course-4/
CATEGORIES:Academics
END:VEVENT
END:VCALENDAR