

BEGIN:VCALENDAR
VERSION:2.0
PRODID:-//Campus Events - ECPv6.15.20//NONSGML v1.0//EN
CALSCALE:GREGORIAN
METHOD:PUBLISH
X-WR-CALNAME:Campus Events
X-ORIGINAL-URL:https://events.bridgeport.edu
X-WR-CALDESC:Events for Campus Events
REFRESH-INTERVAL;VALUE=DURATION:PT1H
X-Robots-Tag:noindex
X-PUBLISHED-TTL:PT1H
BEGIN:VTIMEZONE
TZID:America/New_York
BEGIN:DAYLIGHT
TZOFFSETFROM:-0500
TZOFFSETTO:-0400
TZNAME:EDT
DTSTART:20250309T070000
END:DAYLIGHT
BEGIN:STANDARD
TZOFFSETFROM:-0400
TZOFFSETTO:-0500
TZNAME:EST
DTSTART:20251102T060000
END:STANDARD
BEGIN:DAYLIGHT
TZOFFSETFROM:-0500
TZOFFSETTO:-0400
TZNAME:EDT
DTSTART:20260308T070000
END:DAYLIGHT
BEGIN:STANDARD
TZOFFSETFROM:-0400
TZOFFSETTO:-0500
TZNAME:EST
DTSTART:20261101T060000
END:STANDARD
BEGIN:DAYLIGHT
TZOFFSETFROM:-0500
TZOFFSETTO:-0400
TZNAME:EDT
DTSTART:20270314T070000
END:DAYLIGHT
BEGIN:STANDARD
TZOFFSETFROM:-0400
TZOFFSETTO:-0500
TZNAME:EST
DTSTART:20271107T060000
END:STANDARD
END:VTIMEZONE
BEGIN:VEVENT
DTSTART;TZID=America/New_York:20260324T150000
DTEND;TZID=America/New_York:20260324T190000
DTSTAMP:20260422T224334
CREATED:20260121T001759Z
LAST-MODIFIED:20260223T054700Z
UID:142396-1774364400-1774378800@events.bridgeport.edu
SUMMARY:Vita Tax Clinic
DESCRIPTION:
URL:https://events.bridgeport.edu/event/vita-tax-clinic-20/
LOCATION:MAN 303 Campus: Main Campus\, 230 Park Avenue\, Bridgeport\, CT\, 06604\, United States
CATEGORIES:Academics
END:VEVENT
BEGIN:VEVENT
DTSTART;TZID=America/New_York:20260325T080000
DTEND;TZID=America/New_York:20260325T210000
DTSTAMP:20260422T224334
CREATED:20260121T001759Z
LAST-MODIFIED:20260223T054713Z
UID:142401-1774425600-1774472400@events.bridgeport.edu
SUMMARY:SOE Situation Room and Data Management
DESCRIPTION:
URL:https://events.bridgeport.edu/event/soe-situation-room-and-data-management-47/
LOCATION:CARH 113 Campus: Main Campus
CATEGORIES:Academics
END:VEVENT
BEGIN:VEVENT
DTSTART;TZID=America/New_York:20260325T120000
DTEND;TZID=America/New_York:20260325T130000
DTSTAMP:20260422T224334
CREATED:20260121T001759Z
LAST-MODIFIED:20260223T054700Z
UID:142398-1774440000-1774443600@events.bridgeport.edu
SUMMARY:Integrated Grand Rounds - Health Sciences
DESCRIPTION:
URL:https://events.bridgeport.edu/event/integrated-grand-rounds-health-sciences/
LOCATION:DANA 107 Campus: Main Campus\, 169 University Avenue\, Bridgeport\, CT\, 06604\, United States
CATEGORIES:Academics
END:VEVENT
BEGIN:VEVENT
DTSTART;TZID=America/New_York:20260325T120000
DTEND;TZID=America/New_York:20260325T140000
DTSTAMP:20260422T224334
CREATED:20260121T001759Z
LAST-MODIFIED:20260223T054700Z
UID:142404-1774440000-1774447200@events.bridgeport.edu
SUMMARY:Beyond the Resume Series - Center for Career Development
DESCRIPTION:
URL:https://events.bridgeport.edu/event/beyond-the-resume-series-center-for-career-development/
LOCATION:WAHL HC – South Campus: Main Campus
CATEGORIES:Academics
END:VEVENT
BEGIN:VEVENT
DTSTART;TZID=America/New_York:20260325T122000
DTEND;TZID=America/New_York:20260325T132000
DTSTAMP:20260422T224334
CREATED:20260121T001759Z
LAST-MODIFIED:20260223T054700Z
UID:142399-1774441200-1774444800@events.bridgeport.edu
SUMMARY:Monthly research Forum- College of Engineering\, Business and Education
DESCRIPTION:
URL:https://events.bridgeport.edu/event/monthly-research-forum-college-of-engineering-business-and-education-2/
LOCATION:MAN 104 Campus: Main Campus\, 230 Park Avenue\, Bridgeport\, CT\, 06604\, United States
CATEGORIES:Academics
END:VEVENT
BEGIN:VEVENT
DTSTART;TZID=America/New_York:20260325T122000
DTEND;TZID=America/New_York:20260325T133000
DTSTAMP:20260422T224334
CREATED:20260209T211735Z
LAST-MODIFIED:20260223T054700Z
UID:145446-1774441200-1774445400@events.bridgeport.edu
SUMMARY:M&T Lunch & Learn
DESCRIPTION:
URL:https://events.bridgeport.edu/event/mt-lunch-learn-4/
LOCATION:MAN 107 Campus: Main Campus\, 230 Park Avenue\, Bridgeport\, CT\, 06604\, United States
CATEGORIES:Academics
END:VEVENT
BEGIN:VEVENT
DTSTART;TZID=America/New_York:20260325T150000
DTEND;TZID=America/New_York:20260325T153000
DTSTAMP:20260422T224334
CREATED:20260123T211755Z
LAST-MODIFIED:20260223T054700Z
UID:143410-1774450800-1774452600@events.bridgeport.edu
SUMMARY:Vita Tax Clinic
DESCRIPTION:
URL:https://events.bridgeport.edu/event/vita-tax-clinic-24/
LOCATION:MAN 303 Campus: Main Campus\, 230 Park Avenue\, Bridgeport\, CT\, 06604\, United States
CATEGORIES:Academics
END:VEVENT
BEGIN:VEVENT
DTSTART;TZID=America/New_York:20260325T160000
DTEND;TZID=America/New_York:20260325T180000
DTSTAMP:20260422T224334
CREATED:20260217T164949Z
LAST-MODIFIED:20260220T215801Z
UID:146543-1774454400-1774461600@events.bridgeport.edu
SUMMARY:Education Career Fair - Career Development
DESCRIPTION:
URL:https://events.bridgeport.edu/event/education-career-fair-career-development/
LOCATION:JCSC Social Room\, 244 University Avenue\, Bridgeport\, CT\, 06604\, United States
CATEGORIES:Academics
END:VEVENT
BEGIN:VEVENT
DTSTART;TZID=America/New_York:20260326T080000
DTEND;TZID=America/New_York:20260326T210000
DTSTAMP:20260422T224334
CREATED:20260121T001759Z
LAST-MODIFIED:20260223T054713Z
UID:142406-1774512000-1774558800@events.bridgeport.edu
SUMMARY:SOE Situation Room and Data Management
DESCRIPTION:
URL:https://events.bridgeport.edu/event/soe-situation-room-and-data-management-48/
LOCATION:CARH 113 Campus: Main Campus
CATEGORIES:Academics
END:VEVENT
BEGIN:VEVENT
DTSTART;TZID=America/New_York:20260326T123000
DTEND;TZID=America/New_York:20260326T133000
DTSTAMP:20260422T224334
CREATED:20260211T011731Z
LAST-MODIFIED:20260324T163449Z
UID:145582-1774528200-1774531800@events.bridgeport.edu
SUMMARY:College of Science & Society Lunch and Learn
DESCRIPTION:
URL:https://events.bridgeport.edu/event/college-of-science-society-lunch-and-learn/
LOCATION:ABC Littlefield\, 575 University Avenue\, Bridgeport\, CT\, 06604\, United States
CATEGORIES:Academics
END:VEVENT
BEGIN:VEVENT
DTSTART;TZID=America/New_York:20260327T080000
DTEND;TZID=America/New_York:20260327T210000
DTSTAMP:20260422T224334
CREATED:20260121T001800Z
LAST-MODIFIED:20260223T054713Z
UID:142408-1774598400-1774645200@events.bridgeport.edu
SUMMARY:SOE Situation Room and Data Management
DESCRIPTION:
URL:https://events.bridgeport.edu/event/soe-situation-room-and-data-management-49/
LOCATION:CARH 113 Campus: Main Campus
CATEGORIES:Academics
END:VEVENT
BEGIN:VEVENT
DTSTART;TZID=America/New_York:20260327T120000
DTEND;TZID=America/New_York:20260327T133000
DTSTAMP:20260422T224334
CREATED:20260225T193848Z
LAST-MODIFIED:20260225T193848Z
UID:152167-1774612800-1774618200@events.bridgeport.edu
SUMMARY:Cory Bruscia Speaking Event - School of Business
DESCRIPTION:
URL:https://events.bridgeport.edu/event/cory-bruscia-speaking-event-school-of-business/
LOCATION:MAN 107
CATEGORIES:Academics,Social
END:VEVENT
BEGIN:VEVENT
DTSTART;VALUE=DATE:20260330
DTEND;VALUE=DATE:20260331
DTSTAMP:20260422T224334
CREATED:20250508T125258Z
LAST-MODIFIED:20250508T125258Z
UID:115927-1774828800-1774915199@events.bridgeport.edu
SUMMARY:Last day to WITHDRAW from CHS 18-week Acupuncture and Chiropractic courses with academic and financial penalty
DESCRIPTION:See Refund Policy
URL:https://events.bridgeport.edu/event/last-day-to-withdraw-from-chs-18-week-acupuncture-and-chiropractic-courses-with-academic-and-financial-penalty/
CATEGORIES:Academics
END:VEVENT
BEGIN:VEVENT
DTSTART;TZID=America/New_York:20260330T080000
DTEND;TZID=America/New_York:20260330T210000
DTSTAMP:20260422T224334
CREATED:20260121T001800Z
LAST-MODIFIED:20260223T054713Z
UID:142410-1774857600-1774904400@events.bridgeport.edu
SUMMARY:SOE Situation Room and Data Management
DESCRIPTION:
URL:https://events.bridgeport.edu/event/soe-situation-room-and-data-management-50/
LOCATION:CARH 113 Campus: Main Campus
CATEGORIES:Academics
END:VEVENT
BEGIN:VEVENT
DTSTART;TZID=America/New_York:20260331T080000
DTEND;TZID=America/New_York:20260331T210000
DTSTAMP:20260422T224334
CREATED:20260121T001800Z
LAST-MODIFIED:20260223T054713Z
UID:142412-1774944000-1774990800@events.bridgeport.edu
SUMMARY:SOE Situation Room and Data Management
DESCRIPTION:
URL:https://events.bridgeport.edu/event/soe-situation-room-and-data-management-51/
LOCATION:CARH 113 Campus: Main Campus
CATEGORIES:Academics
END:VEVENT
BEGIN:VEVENT
DTSTART;TZID=America/New_York:20260331T090000
DTEND;TZID=America/New_York:20260331T233000
DTSTAMP:20260422T224334
CREATED:20260323T212025Z
LAST-MODIFIED:20260323T212029Z
UID:152978-1774947600-1774999800@events.bridgeport.edu
SUMMARY:MSPA 529 Clinical Medicine
DESCRIPTION:
URL:https://events.bridgeport.edu/event/mspa-529-clinical-medicine/
LOCATION:MAN 107
CATEGORIES:Academics
END:VEVENT
BEGIN:VEVENT
DTSTART;TZID=America/New_York:20260331T130000
DTEND;TZID=America/New_York:20260331T150000
DTSTAMP:20260422T224334
CREATED:20260323T212207Z
LAST-MODIFIED:20260323T212211Z
UID:152982-1774962000-1774969200@events.bridgeport.edu
SUMMARY:MSPA 551 History and Physical Exam
DESCRIPTION:
URL:https://events.bridgeport.edu/event/mspa-551-history-and-physical-exam/
LOCATION:MAN 107 Campus: Main Campus\, 230 Park Avenue\, Bridgeport\, CT\, 06604\, United States
CATEGORIES:Academics
END:VEVENT
BEGIN:VEVENT
DTSTART;TZID=America/New_York:20260331T150000
DTEND;TZID=America/New_York:20260331T190000
DTSTAMP:20260422T224334
CREATED:20260121T001811Z
LAST-MODIFIED:20260223T054713Z
UID:142417-1774969200-1774983600@events.bridgeport.edu
SUMMARY:Vita Tax Clinic
DESCRIPTION:
URL:https://events.bridgeport.edu/event/vita-tax-clinic-21/
LOCATION:MAN 303 Campus: Main Campus\, 230 Park Avenue\, Bridgeport\, CT\, 06604\, United States
CATEGORIES:Academics
END:VEVENT
BEGIN:VEVENT
DTSTART;TZID=America/New_York:20260401T080000
DTEND;TZID=America/New_York:20260401T210000
DTSTAMP:20260422T224334
CREATED:20260121T001811Z
LAST-MODIFIED:20260223T054713Z
UID:142418-1775030400-1775077200@events.bridgeport.edu
SUMMARY:SOE Situation Room and Data Management
DESCRIPTION:
URL:https://events.bridgeport.edu/event/soe-situation-room-and-data-management-52/
LOCATION:CARH 113 Campus: Main Campus
CATEGORIES:Academics
END:VEVENT
BEGIN:VEVENT
DTSTART;TZID=America/New_York:20260401T100000
DTEND;TZID=America/New_York:20260401T130000
DTSTAMP:20260422T224334
CREATED:20260217T170548Z
LAST-MODIFIED:20260217T170615Z
UID:146547-1775037600-1775048400@events.bridgeport.edu
SUMMARY:Health Science Career Fair - Career Development
DESCRIPTION:
URL:https://events.bridgeport.edu/event/health-science-career-fair-career-development/
LOCATION:WAHL HC Main Area
CATEGORIES:Academics
END:VEVENT
BEGIN:VEVENT
DTSTART;TZID=America/New_York:20260401T121500
DTEND;TZID=America/New_York:20260401T133000
DTSTAMP:20260422T224334
CREATED:20260212T171731Z
LAST-MODIFIED:20260401T161037Z
UID:145753-1775045700-1775050200@events.bridgeport.edu
SUMMARY:SOB Event w/ Attorney General
DESCRIPTION:
URL:https://events.bridgeport.edu/event/sob-event-w-attorney-general-2/
LOCATION:MAN 107 Campus: Main Campus\, 230 Park Avenue\, Bridgeport\, CT\, 06604\, United States
CATEGORIES:Academics
END:VEVENT
BEGIN:VEVENT
DTSTART;TZID=America/New_York:20260401T150000
DTEND;TZID=America/New_York:20260401T153000
DTSTAMP:20260422T224334
CREATED:20260123T211806Z
LAST-MODIFIED:20260223T054713Z
UID:143411-1775055600-1775057400@events.bridgeport.edu
SUMMARY:Vita Tax Clinic
DESCRIPTION:
URL:https://events.bridgeport.edu/event/vita-tax-clinic-25/
LOCATION:MAN 303 Campus: Main Campus\, 230 Park Avenue\, Bridgeport\, CT\, 06604\, United States
CATEGORIES:Academics
END:VEVENT
BEGIN:VEVENT
DTSTART;TZID=America/New_York:20260402T080000
DTEND;TZID=America/New_York:20260402T210000
DTSTAMP:20260422T224334
CREATED:20260121T001811Z
LAST-MODIFIED:20260223T054724Z
UID:142419-1775116800-1775163600@events.bridgeport.edu
SUMMARY:SOE Situation Room and Data Management
DESCRIPTION:
URL:https://events.bridgeport.edu/event/soe-situation-room-and-data-management-53/
LOCATION:CARH 113 Campus: Main Campus
CATEGORIES:Academics
END:VEVENT
BEGIN:VEVENT
DTSTART;TZID=America/New_York:20260402T100000
DTEND;TZID=America/New_York:20260402T110000
DTSTAMP:20260422T224334
CREATED:20260319T223549Z
LAST-MODIFIED:20260319T223549Z
UID:152856-1775124000-1775127600@events.bridgeport.edu
SUMMARY:UBSC 7th Semester OSCE
DESCRIPTION:
URL:https://events.bridgeport.edu/event/ubsc-7th-semester-osce/
LOCATION:HSC 728 Campus: Main Campus\, 60 Lafayette Street\, Bridgeport\, CT\, 06604\, United States
CATEGORIES:Academics
END:VEVENT
BEGIN:VEVENT
DTSTART;TZID=America/New_York:20260402T120000
DTEND;TZID=America/New_York:20260402T131500
DTSTAMP:20260422T224334
CREATED:20260204T164748Z
LAST-MODIFIED:20260223T054724Z
UID:144881-1775131200-1775135700@events.bridgeport.edu
SUMMARY:Cognition & Focus - School of Chiropractic
DESCRIPTION:
URL:https://events.bridgeport.edu/event/cognition-focus-school-of-chiropractic/
LOCATION:CC 100 Campus: Main Campus\, 75 Linden Avenue\, Bridgeport\, CT\, 06604\, United States
CATEGORIES:Academics
END:VEVENT
BEGIN:VEVENT
DTSTART;TZID=America/New_York:20260402T122000
DTEND;TZID=America/New_York:20260402T132000
DTSTAMP:20260422T224334
CREATED:20260121T211817Z
LAST-MODIFIED:20260223T054724Z
UID:143142-1775132400-1775136000@events.bridgeport.edu
SUMMARY:CSS Faculty & Staff Meeting
DESCRIPTION:
URL:https://events.bridgeport.edu/event/css-faculty-staff-meeting/
LOCATION:CARH 252 Campus: Main Campus\, 303 University Avenue\, Bridgeport\, CT\, 06604\, United States
CATEGORIES:Academics
END:VEVENT
BEGIN:VEVENT
DTSTART;VALUE=DATE:20260403
DTEND;VALUE=DATE:20260405
DTSTAMP:20260422T224334
CREATED:20250508T125258Z
LAST-MODIFIED:20250508T125258Z
UID:115928-1775174400-1775347199@events.bridgeport.edu
SUMMARY:Good Friday and Easter weekend - No classes - University is open
DESCRIPTION:
URL:https://events.bridgeport.edu/event/good-friday-and-easter-weekend-no-classes-university-is-open-3/
CATEGORIES:Academics
END:VEVENT
BEGIN:VEVENT
DTSTART;TZID=America/New_York:20260403T080000
DTEND;TZID=America/New_York:20260403T210000
DTSTAMP:20260422T224334
CREATED:20260121T001811Z
LAST-MODIFIED:20260223T054724Z
UID:142420-1775203200-1775250000@events.bridgeport.edu
SUMMARY:SOE Situation Room and Data Management
DESCRIPTION:
URL:https://events.bridgeport.edu/event/soe-situation-room-and-data-management-54/
LOCATION:CARH 113 Campus: Main Campus
CATEGORIES:Academics
END:VEVENT
BEGIN:VEVENT
DTSTART;VALUE=DATE:20260405
DTEND;VALUE=DATE:20260406
DTSTAMP:20260422T224334
CREATED:20250508T125258Z
LAST-MODIFIED:20250508T125258Z
UID:115929-1775347200-1775433599@events.bridgeport.edu
SUMMARY:Easter Sunday - No classes - University is closed
DESCRIPTION:
URL:https://events.bridgeport.edu/event/easter-sunday-no-classes-university-is-closed-3/
CATEGORIES:Academics
END:VEVENT
BEGIN:VEVENT
DTSTART;TZID=America/New_York:20260406T080000
DTEND;TZID=America/New_York:20260406T210000
DTSTAMP:20260422T224334
CREATED:20260121T001811Z
LAST-MODIFIED:20260223T054724Z
UID:142421-1775462400-1775509200@events.bridgeport.edu
SUMMARY:SOE Situation Room and Data Management
DESCRIPTION:
URL:https://events.bridgeport.edu/event/soe-situation-room-and-data-management-55/
LOCATION:CARH 113 Campus: Main Campus
CATEGORIES:Academics
END:VEVENT
END:VCALENDAR