

BEGIN:VCALENDAR
VERSION:2.0
PRODID:-//Campus Events - ECPv6.15.20//NONSGML v1.0//EN
CALSCALE:GREGORIAN
METHOD:PUBLISH
X-WR-CALNAME:Campus Events
X-ORIGINAL-URL:https://events.bridgeport.edu
X-WR-CALDESC:Events for Campus Events
REFRESH-INTERVAL;VALUE=DURATION:PT1H
X-Robots-Tag:noindex
X-PUBLISHED-TTL:PT1H
BEGIN:VTIMEZONE
TZID:America/New_York
BEGIN:DAYLIGHT
TZOFFSETFROM:-0500
TZOFFSETTO:-0400
TZNAME:EDT
DTSTART:20250309T070000
END:DAYLIGHT
BEGIN:STANDARD
TZOFFSETFROM:-0400
TZOFFSETTO:-0500
TZNAME:EST
DTSTART:20251102T060000
END:STANDARD
BEGIN:DAYLIGHT
TZOFFSETFROM:-0500
TZOFFSETTO:-0400
TZNAME:EDT
DTSTART:20260308T070000
END:DAYLIGHT
BEGIN:STANDARD
TZOFFSETFROM:-0400
TZOFFSETTO:-0500
TZNAME:EST
DTSTART:20261101T060000
END:STANDARD
BEGIN:DAYLIGHT
TZOFFSETFROM:-0500
TZOFFSETTO:-0400
TZNAME:EDT
DTSTART:20270314T070000
END:DAYLIGHT
BEGIN:STANDARD
TZOFFSETFROM:-0400
TZOFFSETTO:-0500
TZNAME:EST
DTSTART:20271107T060000
END:STANDARD
END:VTIMEZONE
BEGIN:VEVENT
DTSTART;TZID=America/New_York:20260316T130000
DTEND;TZID=America/New_York:20260316T153000
DTSTAMP:20260422T211245
CREATED:20260121T001735Z
LAST-MODIFIED:20260223T054649Z
UID:142364-1773666000-1773675000@events.bridgeport.edu
SUMMARY:HESI Exam - Fones School of Dental Hygiene
DESCRIPTION:
URL:https://events.bridgeport.edu/event/hesi-exam-fones-school-of-dental-hygiene-2/
LOCATION:TECH 164 Campus: Main Campus
CATEGORIES:Academics
END:VEVENT
BEGIN:VEVENT
DTSTART;TZID=America/New_York:20260316T130000
DTEND;TZID=America/New_York:20260316T153000
DTSTAMP:20260422T211245
CREATED:20260121T001735Z
LAST-MODIFIED:20260223T054637Z
UID:142362-1773666000-1773675000@events.bridgeport.edu
SUMMARY:HESI Exam - Fones School of Dental Hygiene
DESCRIPTION:
URL:https://events.bridgeport.edu/event/hesi-exam-fones-school-of-dental-hygiene/
LOCATION:TECH 163 Campus: Main Campus
CATEGORIES:Academics
END:VEVENT
BEGIN:VEVENT
DTSTART;TZID=America/New_York:20260317T080000
DTEND;TZID=America/New_York:20260317T210000
DTSTAMP:20260422T211245
CREATED:20260121T001748Z
LAST-MODIFIED:20260223T054649Z
UID:142377-1773734400-1773781200@events.bridgeport.edu
SUMMARY:SOE Situation Room and Data Management
DESCRIPTION:
URL:https://events.bridgeport.edu/event/soe-situation-room-and-data-management-41/
LOCATION:CARH 113 Campus: Main Campus
CATEGORIES:Academics
END:VEVENT
BEGIN:VEVENT
DTSTART;TZID=America/New_York:20260317T123000
DTEND;TZID=America/New_York:20260317T133000
DTSTAMP:20260422T211245
CREATED:20260121T001735Z
LAST-MODIFIED:20260223T054649Z
UID:142365-1773750600-1773754200@events.bridgeport.edu
SUMMARY:Faculty Senate Advisory Committee Meetings via Zoom
DESCRIPTION:
URL:https://events.bridgeport.edu/event/faculty-senate-advisory-committee-meetings-via-zoom-2/
LOCATION:ONLN ZOOM Campus: Distance Learning-On Line
CATEGORIES:Academics
END:VEVENT
BEGIN:VEVENT
DTSTART;TZID=America/New_York:20260317T150000
DTEND;TZID=America/New_York:20260317T190000
DTSTAMP:20260422T211245
CREATED:20260121T001748Z
LAST-MODIFIED:20260223T054649Z
UID:142376-1773759600-1773774000@events.bridgeport.edu
SUMMARY:Vita Tax Clinic
DESCRIPTION:
URL:https://events.bridgeport.edu/event/vita-tax-clinic-18/
LOCATION:MAN 303 Campus: Main Campus\, 230 Park Avenue\, Bridgeport\, CT\, 06604\, United States
CATEGORIES:Academics
END:VEVENT
BEGIN:VEVENT
DTSTART;TZID=America/New_York:20260318T080000
DTEND;TZID=America/New_York:20260318T210000
DTSTAMP:20260422T211245
CREATED:20260121T001748Z
LAST-MODIFIED:20260223T054649Z
UID:142378-1773820800-1773867600@events.bridgeport.edu
SUMMARY:SOE Situation Room and Data Management
DESCRIPTION:
URL:https://events.bridgeport.edu/event/soe-situation-room-and-data-management-42/
LOCATION:CARH 113 Campus: Main Campus
CATEGORIES:Academics
END:VEVENT
BEGIN:VEVENT
DTSTART;TZID=America/New_York:20260318T110000
DTEND;TZID=America/New_York:20260318T150000
DTSTAMP:20260422T211245
CREATED:20260121T001748Z
LAST-MODIFIED:20260223T054649Z
UID:142379-1773831600-1773846000@events.bridgeport.edu
SUMMARY:Vita Tax Clinic
DESCRIPTION:
URL:https://events.bridgeport.edu/event/vita-tax-clinic-19/
LOCATION:MAN 303 Campus: Main Campus\, 230 Park Avenue\, Bridgeport\, CT\, 06604\, United States
CATEGORIES:Academics
END:VEVENT
BEGIN:VEVENT
DTSTART;TZID=America/New_York:20260318T150000
DTEND;TZID=America/New_York:20260318T180000
DTSTAMP:20260422T211245
CREATED:20260316T213952Z
LAST-MODIFIED:20260316T213955Z
UID:152741-1773846000-1773856800@events.bridgeport.edu
SUMMARY:ATI Testing - UBSN
DESCRIPTION:
URL:https://events.bridgeport.edu/event/ati-testing-ubsn/
LOCATION:MAN 3
CATEGORIES:Academics
END:VEVENT
BEGIN:VEVENT
DTSTART;TZID=America/New_York:20260319T080000
DTEND;TZID=America/New_York:20260319T210000
DTSTAMP:20260422T211245
CREATED:20260121T001748Z
LAST-MODIFIED:20260223T054649Z
UID:142380-1773907200-1773954000@events.bridgeport.edu
SUMMARY:SOE Situation Room and Data Management
DESCRIPTION:
URL:https://events.bridgeport.edu/event/soe-situation-room-and-data-management-43/
LOCATION:CARH 113 Campus: Main Campus
CATEGORIES:Academics
END:VEVENT
BEGIN:VEVENT
DTSTART;TZID=America/New_York:20260319T120000
DTEND;TZID=America/New_York:20260319T133000
DTSTAMP:20260422T211245
CREATED:20260121T001748Z
LAST-MODIFIED:20260223T054649Z
UID:142382-1773921600-1773927000@events.bridgeport.edu
SUMMARY:Faculty Research Forum - College of Engineering\, Business and Education
DESCRIPTION:
URL:https://events.bridgeport.edu/event/faculty-research-forum-college-of-engineering-business-and-education-3/
LOCATION:MAN 104 Campus: Main Campus\, 230 Park Avenue\, Bridgeport\, CT\, 06604\, United States
CATEGORIES:Academics
END:VEVENT
BEGIN:VEVENT
DTSTART;TZID=America/New_York:20260319T120000
DTEND;TZID=America/New_York:20260319T133000
DTSTAMP:20260422T211245
CREATED:20260121T211740Z
LAST-MODIFIED:20260310T222105Z
UID:143141-1773921600-1773927000@events.bridgeport.edu
SUMMARY:College of Science and Society - Lunch and Learn
DESCRIPTION:
URL:https://events.bridgeport.edu/event/college-of-science-and-society-lunch-and-learn-3/
LOCATION:WAHL 158 Campus: Main Campus\, 126 Park Avenue\, Bridgeport\, CT\, 06604\, United States
CATEGORIES:Academics
END:VEVENT
BEGIN:VEVENT
DTSTART;TZID=America/New_York:20260319T122000
DTEND;TZID=America/New_York:20260319T133000
DTSTAMP:20260422T211245
CREATED:20260304T202148Z
LAST-MODIFIED:20260304T202152Z
UID:152405-1773922800-1773927000@events.bridgeport.edu
SUMMARY:Panel Discussion: Careers in Tech - Computer Science and Engineering
DESCRIPTION:
URL:https://events.bridgeport.edu/event/panel-discussion-careers-in-tech-computer-science-and-engineering/
LOCATION:CARH 253 Campus: Main Campus
CATEGORIES:Academics
END:VEVENT
BEGIN:VEVENT
DTSTART;TZID=America/New_York:20260320T080000
DTEND;TZID=America/New_York:20260320T210000
DTSTAMP:20260422T211245
CREATED:20260121T001748Z
LAST-MODIFIED:20260223T054649Z
UID:142386-1773993600-1774040400@events.bridgeport.edu
SUMMARY:SOE Situation Room and Data Management
DESCRIPTION:
URL:https://events.bridgeport.edu/event/soe-situation-room-and-data-management-44/
LOCATION:CARH 113 Campus: Main Campus
CATEGORIES:Academics
END:VEVENT
BEGIN:VEVENT
DTSTART;TZID=America/New_York:20260320T090000
DTEND;TZID=America/New_York:20260320T170000
DTSTAMP:20260422T211245
CREATED:20260121T001748Z
LAST-MODIFIED:20260223T054649Z
UID:142384-1773997200-1774026000@events.bridgeport.edu
SUMMARY:Block 9 EOR Exams and Call Backs
DESCRIPTION:
URL:https://events.bridgeport.edu/event/block-9-eor-exams-and-call-backs/
LOCATION:MAN 104 Campus: Main Campus\, 230 Park Avenue\, Bridgeport\, CT\, 06604\, United States
CATEGORIES:Academics
END:VEVENT
BEGIN:VEVENT
DTSTART;VALUE=DATE:20260322
DTEND;VALUE=DATE:20260323
DTSTAMP:20260422T211245
CREATED:20250508T125213Z
LAST-MODIFIED:20250508T125213Z
UID:115925-1774137600-1774223999@events.bridgeport.edu
SUMMARY:Last day to WITHDRAW from second module (7-week) courses without academic penalty\, but with financial penalty
DESCRIPTION:See Refund Policy
URL:https://events.bridgeport.edu/event/last-day-to-withdraw-from-second-module-7-week-courses-without-academic-penalty-but-with-financial-penalty-2/
CATEGORIES:Academics
END:VEVENT
BEGIN:VEVENT
DTSTART;VALUE=DATE:20260323
DTEND;VALUE=DATE:20260324
DTSTAMP:20260422T211245
CREATED:20250508T125213Z
LAST-MODIFIED:20250508T125213Z
UID:115926-1774224000-1774310399@events.bridgeport.edu
SUMMARY:Faculty Census Day (second module courses)
DESCRIPTION:
URL:https://events.bridgeport.edu/event/faculty-census-day-second-module-courses-5/
CATEGORIES:Academics
END:VEVENT
BEGIN:VEVENT
DTSTART;TZID=America/New_York:20260323T080000
DTEND;TZID=America/New_York:20260323T210000
DTSTAMP:20260422T211245
CREATED:20260121T001748Z
LAST-MODIFIED:20260223T054700Z
UID:142388-1774252800-1774299600@events.bridgeport.edu
SUMMARY:SOE Situation Room and Data Management
DESCRIPTION:
URL:https://events.bridgeport.edu/event/soe-situation-room-and-data-management-45/
LOCATION:CARH 113 Campus: Main Campus
CATEGORIES:Academics
END:VEVENT
BEGIN:VEVENT
DTSTART;TZID=America/New_York:20260323T120000
DTEND;TZID=America/New_York:20260323T140000
DTSTAMP:20260422T211245
CREATED:20260209T211723Z
LAST-MODIFIED:20260225T193141Z
UID:145445-1774267200-1774274400@events.bridgeport.edu
SUMMARY:PAI Career Fair - Career Development
DESCRIPTION:
URL:https://events.bridgeport.edu/event/pai-career-fair-career-development/
LOCATION:WAHL HC Main Area  Campus: Main Campus
CATEGORIES:Academics,Conference
END:VEVENT
BEGIN:VEVENT
DTSTART;TZID=America/New_York:20260324T080000
DTEND;TZID=America/New_York:20260324T210000
DTSTAMP:20260422T211245
CREATED:20260121T001759Z
LAST-MODIFIED:20260223T054700Z
UID:142397-1774339200-1774386000@events.bridgeport.edu
SUMMARY:SOE Situation Room and Data Management
DESCRIPTION:
URL:https://events.bridgeport.edu/event/soe-situation-room-and-data-management-46/
LOCATION:CARH 113 Campus: Main Campus
CATEGORIES:Academics
END:VEVENT
BEGIN:VEVENT
DTSTART;TZID=America/New_York:20260324T133000
DTEND;TZID=America/New_York:20260324T143000
DTSTAMP:20260422T211245
CREATED:20260121T001748Z
LAST-MODIFIED:20260223T054700Z
UID:142390-1774359000-1774362600@events.bridgeport.edu
SUMMARY:Necessary Voices: Aaron Della Cioppa on the Faust Legend - English/CSS
DESCRIPTION:
URL:https://events.bridgeport.edu/event/necessary-voices-aaron-della-cioppa-on-the-faust-legend-english-css/
LOCATION:CARH 152 Campus: Main Campus\, 303 University Avenue\, Bridgeport\, CT\, United States
CATEGORIES:Academics
END:VEVENT
BEGIN:VEVENT
DTSTART;TZID=America/New_York:20260324T150000
DTEND;TZID=America/New_York:20260324T190000
DTSTAMP:20260422T211245
CREATED:20260121T001759Z
LAST-MODIFIED:20260223T054700Z
UID:142396-1774364400-1774378800@events.bridgeport.edu
SUMMARY:Vita Tax Clinic
DESCRIPTION:
URL:https://events.bridgeport.edu/event/vita-tax-clinic-20/
LOCATION:MAN 303 Campus: Main Campus\, 230 Park Avenue\, Bridgeport\, CT\, 06604\, United States
CATEGORIES:Academics
END:VEVENT
BEGIN:VEVENT
DTSTART;TZID=America/New_York:20260325T080000
DTEND;TZID=America/New_York:20260325T210000
DTSTAMP:20260422T211245
CREATED:20260121T001759Z
LAST-MODIFIED:20260223T054713Z
UID:142401-1774425600-1774472400@events.bridgeport.edu
SUMMARY:SOE Situation Room and Data Management
DESCRIPTION:
URL:https://events.bridgeport.edu/event/soe-situation-room-and-data-management-47/
LOCATION:CARH 113 Campus: Main Campus
CATEGORIES:Academics
END:VEVENT
BEGIN:VEVENT
DTSTART;TZID=America/New_York:20260325T120000
DTEND;TZID=America/New_York:20260325T130000
DTSTAMP:20260422T211245
CREATED:20260121T001759Z
LAST-MODIFIED:20260223T054700Z
UID:142398-1774440000-1774443600@events.bridgeport.edu
SUMMARY:Integrated Grand Rounds - Health Sciences
DESCRIPTION:
URL:https://events.bridgeport.edu/event/integrated-grand-rounds-health-sciences/
LOCATION:DANA 107 Campus: Main Campus\, 169 University Avenue\, Bridgeport\, CT\, 06604\, United States
CATEGORIES:Academics
END:VEVENT
BEGIN:VEVENT
DTSTART;TZID=America/New_York:20260325T120000
DTEND;TZID=America/New_York:20260325T140000
DTSTAMP:20260422T211245
CREATED:20260121T001759Z
LAST-MODIFIED:20260223T054700Z
UID:142404-1774440000-1774447200@events.bridgeport.edu
SUMMARY:Beyond the Resume Series - Center for Career Development
DESCRIPTION:
URL:https://events.bridgeport.edu/event/beyond-the-resume-series-center-for-career-development/
LOCATION:WAHL HC – South Campus: Main Campus
CATEGORIES:Academics
END:VEVENT
BEGIN:VEVENT
DTSTART;TZID=America/New_York:20260325T122000
DTEND;TZID=America/New_York:20260325T132000
DTSTAMP:20260422T211245
CREATED:20260121T001759Z
LAST-MODIFIED:20260223T054700Z
UID:142399-1774441200-1774444800@events.bridgeport.edu
SUMMARY:Monthly research Forum- College of Engineering\, Business and Education
DESCRIPTION:
URL:https://events.bridgeport.edu/event/monthly-research-forum-college-of-engineering-business-and-education-2/
LOCATION:MAN 104 Campus: Main Campus\, 230 Park Avenue\, Bridgeport\, CT\, 06604\, United States
CATEGORIES:Academics
END:VEVENT
BEGIN:VEVENT
DTSTART;TZID=America/New_York:20260325T122000
DTEND;TZID=America/New_York:20260325T133000
DTSTAMP:20260422T211245
CREATED:20260209T211735Z
LAST-MODIFIED:20260223T054700Z
UID:145446-1774441200-1774445400@events.bridgeport.edu
SUMMARY:M&T Lunch & Learn
DESCRIPTION:
URL:https://events.bridgeport.edu/event/mt-lunch-learn-4/
LOCATION:MAN 107 Campus: Main Campus\, 230 Park Avenue\, Bridgeport\, CT\, 06604\, United States
CATEGORIES:Academics
END:VEVENT
BEGIN:VEVENT
DTSTART;TZID=America/New_York:20260325T150000
DTEND;TZID=America/New_York:20260325T153000
DTSTAMP:20260422T211245
CREATED:20260123T211755Z
LAST-MODIFIED:20260223T054700Z
UID:143410-1774450800-1774452600@events.bridgeport.edu
SUMMARY:Vita Tax Clinic
DESCRIPTION:
URL:https://events.bridgeport.edu/event/vita-tax-clinic-24/
LOCATION:MAN 303 Campus: Main Campus\, 230 Park Avenue\, Bridgeport\, CT\, 06604\, United States
CATEGORIES:Academics
END:VEVENT
BEGIN:VEVENT
DTSTART;TZID=America/New_York:20260325T160000
DTEND;TZID=America/New_York:20260325T180000
DTSTAMP:20260422T211245
CREATED:20260217T164949Z
LAST-MODIFIED:20260220T215801Z
UID:146543-1774454400-1774461600@events.bridgeport.edu
SUMMARY:Education Career Fair - Career Development
DESCRIPTION:
URL:https://events.bridgeport.edu/event/education-career-fair-career-development/
LOCATION:JCSC Social Room\, 244 University Avenue\, Bridgeport\, CT\, 06604\, United States
CATEGORIES:Academics
END:VEVENT
BEGIN:VEVENT
DTSTART;TZID=America/New_York:20260326T080000
DTEND;TZID=America/New_York:20260326T210000
DTSTAMP:20260422T211245
CREATED:20260121T001759Z
LAST-MODIFIED:20260223T054713Z
UID:142406-1774512000-1774558800@events.bridgeport.edu
SUMMARY:SOE Situation Room and Data Management
DESCRIPTION:
URL:https://events.bridgeport.edu/event/soe-situation-room-and-data-management-48/
LOCATION:CARH 113 Campus: Main Campus
CATEGORIES:Academics
END:VEVENT
BEGIN:VEVENT
DTSTART;TZID=America/New_York:20260326T123000
DTEND;TZID=America/New_York:20260326T133000
DTSTAMP:20260422T211245
CREATED:20260211T011731Z
LAST-MODIFIED:20260324T163449Z
UID:145582-1774528200-1774531800@events.bridgeport.edu
SUMMARY:College of Science & Society Lunch and Learn
DESCRIPTION:
URL:https://events.bridgeport.edu/event/college-of-science-society-lunch-and-learn/
LOCATION:ABC Littlefield\, 575 University Avenue\, Bridgeport\, CT\, 06604\, United States
CATEGORIES:Academics
END:VEVENT
END:VCALENDAR