

BEGIN:VCALENDAR
VERSION:2.0
PRODID:-//Campus Events - ECPv6.15.20//NONSGML v1.0//EN
CALSCALE:GREGORIAN
METHOD:PUBLISH
X-ORIGINAL-URL:https://events.bridgeport.edu
X-WR-CALDESC:Events for Campus Events
REFRESH-INTERVAL;VALUE=DURATION:PT1H
X-Robots-Tag:noindex
X-PUBLISHED-TTL:PT1H
BEGIN:VTIMEZONE
TZID:America/New_York
BEGIN:DAYLIGHT
TZOFFSETFROM:-0500
TZOFFSETTO:-0400
TZNAME:EDT
DTSTART:20250309T070000
END:DAYLIGHT
BEGIN:STANDARD
TZOFFSETFROM:-0400
TZOFFSETTO:-0500
TZNAME:EST
DTSTART:20251102T060000
END:STANDARD
BEGIN:DAYLIGHT
TZOFFSETFROM:-0500
TZOFFSETTO:-0400
TZNAME:EDT
DTSTART:20260308T070000
END:DAYLIGHT
BEGIN:STANDARD
TZOFFSETFROM:-0400
TZOFFSETTO:-0500
TZNAME:EST
DTSTART:20261101T060000
END:STANDARD
BEGIN:DAYLIGHT
TZOFFSETFROM:-0500
TZOFFSETTO:-0400
TZNAME:EDT
DTSTART:20270314T070000
END:DAYLIGHT
BEGIN:STANDARD
TZOFFSETFROM:-0400
TZOFFSETTO:-0500
TZNAME:EST
DTSTART:20271107T060000
END:STANDARD
END:VTIMEZONE
BEGIN:VEVENT
DTSTART;VALUE=DATE:20260223
DTEND;VALUE=DATE:20260228
DTSTAMP:20260422T174835
CREATED:20250508T125143Z
LAST-MODIFIED:20250508T125143Z
UID:115915-1771804800-1772236799@events.bridgeport.edu
SUMMARY:Mid-semester exam week (week 7 for 15-week courses)
DESCRIPTION:
URL:https://events.bridgeport.edu/event/mid-semester-exam-week-week-7-for-15-week-courses/
LOCATION:CT
CATEGORIES:Academics
END:VEVENT
BEGIN:VEVENT
DTSTART;TZID=America/New_York:20260223T080000
DTEND;TZID=America/New_York:20260223T210000
DTSTAMP:20260422T174835
CREATED:20260121T001712Z
LAST-MODIFIED:20260223T054612Z
UID:142317-1771833600-1771880400@events.bridgeport.edu
SUMMARY:SOE Situation Room and Data Management
DESCRIPTION:
URL:https://events.bridgeport.edu/event/soe-situation-room-and-data-management-25/
LOCATION:CARH 113 Campus: Main Campus
CATEGORIES:Academics
END:VEVENT
BEGIN:VEVENT
DTSTART;TZID=America/New_York:20260224T080000
DTEND;TZID=America/New_York:20260224T210000
DTSTAMP:20260422T174835
CREATED:20260121T001712Z
LAST-MODIFIED:20260223T054612Z
UID:142320-1771920000-1771966800@events.bridgeport.edu
SUMMARY:SOE Situation Room and Data Management
DESCRIPTION:
URL:https://events.bridgeport.edu/event/soe-situation-room-and-data-management-26/
LOCATION:CARH 113 Campus: Main Campus
CATEGORIES:Academics
END:VEVENT
BEGIN:VEVENT
DTSTART;TZID=America/New_York:20260224T122000
DTEND;TZID=America/New_York:20260224T133000
DTSTAMP:20260422T174835
CREATED:20260121T001712Z
LAST-MODIFIED:20260210T234635Z
UID:142318-1771935600-1771939800@events.bridgeport.edu
SUMMARY:M&T Lunch & Learn
DESCRIPTION:
URL:https://events.bridgeport.edu/event/mt-lunch-learn-2/
LOCATION:MAN 107 Campus: Main Campus\, 230 Park Avenue\, Bridgeport\, CT\, 06604\, United States
CATEGORIES:Academics
END:VEVENT
BEGIN:VEVENT
DTSTART;TZID=America/New_York:20260224T150000
DTEND;TZID=America/New_York:20260224T190000
DTSTAMP:20260422T174835
CREATED:20260121T001712Z
LAST-MODIFIED:20260223T054612Z
UID:142319-1771945200-1771959600@events.bridgeport.edu
SUMMARY:Vita Tax Clinic
DESCRIPTION:
URL:https://events.bridgeport.edu/event/vita-tax-clinic-12/
LOCATION:MAN 303 Campus: Main Campus\, 230 Park Avenue\, Bridgeport\, CT\, 06604\, United States
CATEGORIES:Academics
END:VEVENT
BEGIN:VEVENT
DTSTART;TZID=America/New_York:20260225T080000
DTEND;TZID=America/New_York:20260225T210000
DTSTAMP:20260422T174835
CREATED:20260121T001712Z
LAST-MODIFIED:20260223T054612Z
UID:142321-1772006400-1772053200@events.bridgeport.edu
SUMMARY:SOE Situation Room and Data Management
DESCRIPTION:
URL:https://events.bridgeport.edu/event/soe-situation-room-and-data-management-27/
LOCATION:CARH 113 Campus: Main Campus
CATEGORIES:Academics
END:VEVENT
BEGIN:VEVENT
DTSTART;TZID=America/New_York:20260225T110000
DTEND;TZID=America/New_York:20260225T150000
DTSTAMP:20260422T174835
CREATED:20260121T001712Z
LAST-MODIFIED:20260223T054612Z
UID:142325-1772017200-1772031600@events.bridgeport.edu
SUMMARY:Vita Tax Clinic
DESCRIPTION:
URL:https://events.bridgeport.edu/event/vita-tax-clinic-13/
LOCATION:MAN 303 Campus: Main Campus\, 230 Park Avenue\, Bridgeport\, CT\, 06604\, United States
CATEGORIES:Academics
END:VEVENT
BEGIN:VEVENT
DTSTART;TZID=America/New_York:20260225T122000
DTEND;TZID=America/New_York:20260225T132000
DTSTAMP:20260422T174835
CREATED:20260121T001712Z
LAST-MODIFIED:20260223T054612Z
UID:142323-1772022000-1772025600@events.bridgeport.edu
SUMMARY:Monthly research Forum- College of Engineering\, Business and Education
DESCRIPTION:
URL:https://events.bridgeport.edu/event/monthly-research-forum-college-of-engineering-business-and-education/
LOCATION:MAN 104 Campus: Main Campus\, 230 Park Avenue\, Bridgeport\, CT\, 06604\, United States
CATEGORIES:Academics
END:VEVENT
BEGIN:VEVENT
DTSTART;TZID=America/New_York:20260225T122000
DTEND;TZID=America/New_York:20260225T133000
DTSTAMP:20260422T174835
CREATED:20260129T174658Z
LAST-MODIFIED:20260223T054612Z
UID:144135-1772022000-1772026200@events.bridgeport.edu
SUMMARY:Faculty Research Forum - Criminal Justice and Human Security; School of Business
DESCRIPTION:
URL:https://events.bridgeport.edu/event/faculty-research-forum-criminal-justice-and-human-security-school-of-business/
LOCATION:JCSC KNIGHT S1 – Social Room Campus: Main Campus
CATEGORIES:Academics
END:VEVENT
BEGIN:VEVENT
DTSTART;TZID=America/New_York:20260225T122000
DTEND;TZID=America/New_York:20260225T133000
DTSTAMP:20260422T174835
CREATED:20260211T011635Z
LAST-MODIFIED:20260223T054612Z
UID:145580-1772022000-1772026200@events.bridgeport.edu
SUMMARY:M&T Lunch & Learn
DESCRIPTION:
URL:https://events.bridgeport.edu/event/mt-lunch-learn-6/
LOCATION:MAN 107 Campus: Main Campus\, 230 Park Avenue\, Bridgeport\, CT\, 06604\, United States
CATEGORIES:Academics
END:VEVENT
BEGIN:VEVENT
DTSTART;TZID=America/New_York:20260226T080000
DTEND;TZID=America/New_York:20260226T210000
DTSTAMP:20260422T174835
CREATED:20260121T001712Z
LAST-MODIFIED:20260223T054612Z
UID:142327-1772092800-1772139600@events.bridgeport.edu
SUMMARY:SOE Situation Room and Data Management
DESCRIPTION:
URL:https://events.bridgeport.edu/event/soe-situation-room-and-data-management-28/
LOCATION:CARH 113 Campus: Main Campus
CATEGORIES:Academics
END:VEVENT
BEGIN:VEVENT
DTSTART;TZID=America/New_York:20260226T122000
DTEND;TZID=America/New_York:20260226T132000
DTSTAMP:20260422T174835
CREATED:20260211T011646Z
LAST-MODIFIED:20260223T054612Z
UID:145581-1772108400-1772112000@events.bridgeport.edu
SUMMARY:Faculty Student Meet Up - School of Business
DESCRIPTION:
URL:https://events.bridgeport.edu/event/faculty-student-meet-up-school-of-business/
LOCATION:MAN Lobby  Campus: Main Campus\, 230 Park Avenue\, Bridgeport\, CT\, 06604\, United States
CATEGORIES:Academics
END:VEVENT
BEGIN:VEVENT
DTSTART;TZID=America/New_York:20260227T080000
DTEND;TZID=America/New_York:20260227T210000
DTSTAMP:20260422T174835
CREATED:20260121T001712Z
LAST-MODIFIED:20260223T054624Z
UID:142329-1772179200-1772226000@events.bridgeport.edu
SUMMARY:SOE Situation Room and Data Management
DESCRIPTION:
URL:https://events.bridgeport.edu/event/soe-situation-room-and-data-management-29/
LOCATION:CARH 113 Campus: Main Campus
CATEGORIES:Academics
END:VEVENT
BEGIN:VEVENT
DTSTART;VALUE=DATE:20260301
DTEND;VALUE=DATE:20260302
DTSTAMP:20260422T174835
CREATED:20250508T125143Z
LAST-MODIFIED:20250508T125143Z
UID:115916-1772323200-1772409599@events.bridgeport.edu
SUMMARY:First module ends
DESCRIPTION:
URL:https://events.bridgeport.edu/event/first-module-ends/
LOCATION:CT
CATEGORIES:Academics
END:VEVENT
BEGIN:VEVENT
DTSTART;VALUE=DATE:20260301
DTEND;VALUE=DATE:20260308
DTSTAMP:20260422T174835
CREATED:20250508T125158Z
LAST-MODIFIED:20250508T125158Z
UID:115918-1772323200-1772927999@events.bridgeport.edu
SUMMARY:Spring break - No classes – University is open
DESCRIPTION:
URL:https://events.bridgeport.edu/event/spring-break-no-classes-university-is-open/
LOCATION:CT
CATEGORIES:Academics
END:VEVENT
BEGIN:VEVENT
DTSTART;VALUE=DATE:20260302
DTEND;VALUE=DATE:20260303
DTSTAMP:20260422T174835
CREATED:20250508T125158Z
LAST-MODIFIED:20250508T125158Z
UID:115917-1772409600-1772495999@events.bridgeport.edu
SUMMARY:Mid-semester (15-week) and final first module grades due
DESCRIPTION:
URL:https://events.bridgeport.edu/event/mid-semester-15-week-and-final-first-module-grades-due/
LOCATION:CT
CATEGORIES:Academics
END:VEVENT
BEGIN:VEVENT
DTSTART;VALUE=DATE:20260302
DTEND;VALUE=DATE:20260307
DTSTAMP:20260422T174835
CREATED:20250508T125158Z
LAST-MODIFIED:20250508T125158Z
UID:115919-1772409600-1772841599@events.bridgeport.edu
SUMMARY:Mid-semester exam week (CHS 18-week Acupuncture and Chiropractic)
DESCRIPTION:
URL:https://events.bridgeport.edu/event/mid-semester-exam-week-chs-18-week-acupuncture-and-chiropractic/
LOCATION:CT
CATEGORIES:Academics
END:VEVENT
BEGIN:VEVENT
DTSTART;TZID=America/New_York:20260302T080000
DTEND;TZID=America/New_York:20260302T210000
DTSTAMP:20260422T174835
CREATED:20260121T001723Z
LAST-MODIFIED:20260223T054624Z
UID:142336-1772438400-1772485200@events.bridgeport.edu
SUMMARY:SOE Situation Room and Data Management
DESCRIPTION:
URL:https://events.bridgeport.edu/event/soe-situation-room-and-data-management-30/
LOCATION:CARH 113 Campus: Main Campus
CATEGORIES:Academics
END:VEVENT
BEGIN:VEVENT
DTSTART;TZID=America/New_York:20260303T080000
DTEND;TZID=America/New_York:20260303T210000
DTSTAMP:20260422T174835
CREATED:20260121T001724Z
LAST-MODIFIED:20260223T054624Z
UID:142337-1772524800-1772571600@events.bridgeport.edu
SUMMARY:SOE Situation Room and Data Management
DESCRIPTION:
URL:https://events.bridgeport.edu/event/soe-situation-room-and-data-management-31/
LOCATION:CARH 113 Campus: Main Campus
CATEGORIES:Academics
END:VEVENT
BEGIN:VEVENT
DTSTART;TZID=America/New_York:20260303T130000
DTEND;TZID=America/New_York:20260303T180000
DTSTAMP:20260422T174835
CREATED:20260121T001659Z
LAST-MODIFIED:20260302T164433Z
UID:142299-1772542800-1772560800@events.bridgeport.edu
SUMMARY:AI Applications in the Manufacturing Industry Summit-Engineering
DESCRIPTION:
URL:https://events.bridgeport.edu/event/ai-applications-in-the-manufacturing-industry-engineering/
LOCATION:JCSC KNIGHT S1 – Social Room Campus: Main Campus
CATEGORIES:Academics
END:VEVENT
BEGIN:VEVENT
DTSTART;TZID=America/New_York:20260303T150000
DTEND;TZID=America/New_York:20260303T190000
DTSTAMP:20260422T174835
CREATED:20260121T001724Z
LAST-MODIFIED:20260223T054624Z
UID:142338-1772550000-1772564400@events.bridgeport.edu
SUMMARY:Vita Tax Clinic
DESCRIPTION:
URL:https://events.bridgeport.edu/event/vita-tax-clinic-14/
LOCATION:MAN 303 Campus: Main Campus\, 230 Park Avenue\, Bridgeport\, CT\, 06604\, United States
CATEGORIES:Academics
END:VEVENT
BEGIN:VEVENT
DTSTART;TZID=America/New_York:20260304T080000
DTEND;TZID=America/New_York:20260304T210000
DTSTAMP:20260422T174835
CREATED:20260121T001724Z
LAST-MODIFIED:20260223T054625Z
UID:142339-1772611200-1772658000@events.bridgeport.edu
SUMMARY:SOE Situation Room and Data Management
DESCRIPTION:
URL:https://events.bridgeport.edu/event/soe-situation-room-and-data-management-32/
LOCATION:CARH 113 Campus: Main Campus
CATEGORIES:Academics
END:VEVENT
BEGIN:VEVENT
DTSTART;TZID=America/New_York:20260304T110000
DTEND;TZID=America/New_York:20260304T150000
DTSTAMP:20260422T174835
CREATED:20260121T001724Z
LAST-MODIFIED:20260223T054625Z
UID:142340-1772622000-1772636400@events.bridgeport.edu
SUMMARY:Vita Tax Clinic
DESCRIPTION:
URL:https://events.bridgeport.edu/event/vita-tax-clinic-15/
LOCATION:MAN 303 Campus: Main Campus\, 230 Park Avenue\, Bridgeport\, CT\, 06604\, United States
CATEGORIES:Academics
END:VEVENT
BEGIN:VEVENT
DTSTART;TZID=America/New_York:20260305T080000
DTEND;TZID=America/New_York:20260305T210000
DTSTAMP:20260422T174835
CREATED:20260121T001724Z
LAST-MODIFIED:20260223T054625Z
UID:142341-1772697600-1772744400@events.bridgeport.edu
SUMMARY:SOE Situation Room and Data Management
DESCRIPTION:
URL:https://events.bridgeport.edu/event/soe-situation-room-and-data-management-33/
LOCATION:CARH 113 Campus: Main Campus
CATEGORIES:Academics
END:VEVENT
BEGIN:VEVENT
DTSTART;TZID=America/New_York:20260306T080000
DTEND;TZID=America/New_York:20260306T210000
DTSTAMP:20260422T174835
CREATED:20260121T001724Z
LAST-MODIFIED:20260223T054625Z
UID:142342-1772784000-1772830800@events.bridgeport.edu
SUMMARY:SOE Situation Room and Data Management
DESCRIPTION:
URL:https://events.bridgeport.edu/event/soe-situation-room-and-data-management-34/
LOCATION:CARH 113 Campus: Main Campus
CATEGORIES:Academics
END:VEVENT
BEGIN:VEVENT
DTSTART;VALUE=DATE:20260308
DTEND;VALUE=DATE:20260309
DTSTAMP:20260422T174835
CREATED:20250508T125158Z
LAST-MODIFIED:20250508T125158Z
UID:115920-1772928000-1773014399@events.bridgeport.edu
SUMMARY:Last day to WITHDRAW from second module courses without academic and financial penalty
DESCRIPTION:See Refund Policy
URL:https://events.bridgeport.edu/event/last-day-to-withdraw-from-second-module-courses-without-academic-and-financial-penalty/
LOCATION:CT
CATEGORIES:Academics
END:VEVENT
BEGIN:VEVENT
DTSTART;VALUE=DATE:20260309
DTEND;VALUE=DATE:20260310
DTSTAMP:20260422T174835
CREATED:20250508T125158Z
LAST-MODIFIED:20250508T125158Z
UID:115921-1773014400-1773100799@events.bridgeport.edu
SUMMARY:Registration for summer/fall semester begins
DESCRIPTION:
URL:https://events.bridgeport.edu/event/registration-for-summer-fall-semester-begins-2/
LOCATION:CT
CATEGORIES:Academics
END:VEVENT
BEGIN:VEVENT
DTSTART;VALUE=DATE:20260309
DTEND;VALUE=DATE:20260310
DTSTAMP:20260422T174835
CREATED:20250508T125213Z
LAST-MODIFIED:20250508T125213Z
UID:115922-1773014400-1773100799@events.bridgeport.edu
SUMMARY:Second module (7-week) courses begin
DESCRIPTION:
URL:https://events.bridgeport.edu/event/second-module-7-week-courses-begin-2/
LOCATION:CT
CATEGORIES:Academics
END:VEVENT
BEGIN:VEVENT
DTSTART;VALUE=DATE:20260309
DTEND;VALUE=DATE:20260310
DTSTAMP:20260422T174835
CREATED:20250508T125213Z
LAST-MODIFIED:20250508T125213Z
UID:115923-1773014400-1773100799@events.bridgeport.edu
SUMMARY:Mid-semester grades due (CHS Acupuncture and Chiropractic)
DESCRIPTION:
URL:https://events.bridgeport.edu/event/mid-semester-grades-due-chs-acupuncture-and-chiropractic/
LOCATION:CT
CATEGORIES:Academics
END:VEVENT
BEGIN:VEVENT
DTSTART;TZID=America/New_York:20260309T080000
DTEND;TZID=America/New_York:20260309T210000
DTSTAMP:20260422T174835
CREATED:20260121T001724Z
LAST-MODIFIED:20260223T054625Z
UID:142343-1773043200-1773090000@events.bridgeport.edu
SUMMARY:SOE Situation Room and Data Management
DESCRIPTION:
URL:https://events.bridgeport.edu/event/soe-situation-room-and-data-management-35/
LOCATION:CARH 113 Campus: Main Campus
CATEGORIES:Academics
END:VEVENT
END:VCALENDAR