

BEGIN:VCALENDAR
VERSION:2.0
PRODID:-//Campus Events - ECPv6.15.20//NONSGML v1.0//EN
CALSCALE:GREGORIAN
METHOD:PUBLISH
X-WR-CALNAME:Campus Events
X-ORIGINAL-URL:https://events.bridgeport.edu
X-WR-CALDESC:Events for Campus Events
REFRESH-INTERVAL;VALUE=DURATION:PT1H
X-Robots-Tag:noindex
X-PUBLISHED-TTL:PT1H
BEGIN:VTIMEZONE
TZID:America/New_York
BEGIN:DAYLIGHT
TZOFFSETFROM:-0500
TZOFFSETTO:-0400
TZNAME:EDT
DTSTART:20250309T070000
END:DAYLIGHT
BEGIN:STANDARD
TZOFFSETFROM:-0400
TZOFFSETTO:-0500
TZNAME:EST
DTSTART:20251102T060000
END:STANDARD
BEGIN:DAYLIGHT
TZOFFSETFROM:-0500
TZOFFSETTO:-0400
TZNAME:EDT
DTSTART:20260308T070000
END:DAYLIGHT
BEGIN:STANDARD
TZOFFSETFROM:-0400
TZOFFSETTO:-0500
TZNAME:EST
DTSTART:20261101T060000
END:STANDARD
BEGIN:DAYLIGHT
TZOFFSETFROM:-0500
TZOFFSETTO:-0400
TZNAME:EDT
DTSTART:20270314T070000
END:DAYLIGHT
BEGIN:STANDARD
TZOFFSETFROM:-0400
TZOFFSETTO:-0500
TZNAME:EST
DTSTART:20271107T060000
END:STANDARD
END:VTIMEZONE
BEGIN:VEVENT
DTSTART;TZID=America/New_York:20260202T122000
DTEND;TZID=America/New_York:20260202T132000
DTSTAMP:20260422T144035
CREATED:20260122T171623Z
LAST-MODIFIED:20260202T181610Z
UID:143239-1770034800-1770038400@events.bridgeport.edu
SUMMARY:Faculty Research Forum - College of EBE
DESCRIPTION:
URL:https://events.bridgeport.edu/event/faculty-research-forum-college-of-ebe-2/
LOCATION:MAN 104 Campus: Main Campus\, 230 Park Avenue\, Bridgeport\, CT\, 06604\, United States
CATEGORIES:Academics
END:VEVENT
BEGIN:VEVENT
DTSTART;TZID=America/New_York:20260203T080000
DTEND;TZID=America/New_York:20260203T210000
DTSTAMP:20260422T144035
CREATED:20260121T001634Z
LAST-MODIFIED:20260204T004611Z
UID:142248-1770105600-1770152400@events.bridgeport.edu
SUMMARY:SOE Situation Room and Data Management
DESCRIPTION:
URL:https://events.bridgeport.edu/event/soe-situation-room-and-data-management-11/
LOCATION:CARH 113 Campus: Main Campus
CATEGORIES:Academics
END:VEVENT
BEGIN:VEVENT
DTSTART;TZID=America/New_York:20260203T150000
DTEND;TZID=America/New_York:20260203T190000
DTSTAMP:20260422T144035
CREATED:20260121T001634Z
LAST-MODIFIED:20260203T214613Z
UID:142247-1770130800-1770145200@events.bridgeport.edu
SUMMARY:Vita Tax Clinic
DESCRIPTION:
URL:https://events.bridgeport.edu/event/vita-tax-clinic-6/
LOCATION:MAN 303 Campus: Main Campus\, 230 Park Avenue\, Bridgeport\, CT\, 06604\, United States
CATEGORIES:Academics
END:VEVENT
BEGIN:VEVENT
DTSTART;TZID=America/New_York:20260204T080000
DTEND;TZID=America/New_York:20260204T210000
DTSTAMP:20260422T144035
CREATED:20260121T001634Z
LAST-MODIFIED:20260205T004610Z
UID:142249-1770192000-1770238800@events.bridgeport.edu
SUMMARY:SOE Situation Room and Data Management
DESCRIPTION:
URL:https://events.bridgeport.edu/event/soe-situation-room-and-data-management-12/
LOCATION:CARH 113 Campus: Main Campus
CATEGORIES:Academics
END:VEVENT
BEGIN:VEVENT
DTSTART;TZID=America/New_York:20260204T090000
DTEND;TZID=America/New_York:20260204T170000
DTSTAMP:20260422T144035
CREATED:20260203T201610Z
LAST-MODIFIED:20260204T021612Z
UID:144674-1770195600-1770224400@events.bridgeport.edu
SUMMARY:PA ACLS/BLS Training - Physician Assistant Institute
DESCRIPTION:
URL:https://events.bridgeport.edu/event/pa-acls-bls-training-physician-assistant-institute-2/
LOCATION:JCSC KNIGHT S1 – Social Room Campus: Main Campus
CATEGORIES:Academics
END:VEVENT
BEGIN:VEVENT
DTSTART;TZID=America/New_York:20260204T110000
DTEND;TZID=America/New_York:20260204T150000
DTSTAMP:20260422T144035
CREATED:20260121T001634Z
LAST-MODIFIED:20260204T191610Z
UID:142250-1770202800-1770217200@events.bridgeport.edu
SUMMARY:Vita Tax Clinic
DESCRIPTION:
URL:https://events.bridgeport.edu/event/vita-tax-clinic-7/
LOCATION:MAN 303 Campus: Main Campus\, 230 Park Avenue\, Bridgeport\, CT\, 06604\, United States
CATEGORIES:Academics
END:VEVENT
BEGIN:VEVENT
DTSTART;TZID=America/New_York:20260204T122000
DTEND;TZID=America/New_York:20260204T132000
DTSTAMP:20260422T144035
CREATED:20260129T034624Z
LAST-MODIFIED:20260204T181611Z
UID:144053-1770207600-1770211200@events.bridgeport.edu
SUMMARY:Department of Criminal Justice and Human Security Speaker Series
DESCRIPTION:
URL:https://events.bridgeport.edu/event/department-of-criminal-justice-and-human-security-speaker-series/
LOCATION:CARH 214 Campus: Main Campus
CATEGORIES:Academics
END:VEVENT
BEGIN:VEVENT
DTSTART;TZID=America/New_York:20260205T080000
DTEND;TZID=America/New_York:20260205T210000
DTSTAMP:20260422T144035
CREATED:20260121T001634Z
LAST-MODIFIED:20260206T004610Z
UID:142251-1770278400-1770325200@events.bridgeport.edu
SUMMARY:SOE Situation Room and Data Management
DESCRIPTION:
URL:https://events.bridgeport.edu/event/soe-situation-room-and-data-management-13/
LOCATION:CARH 113 Campus: Main Campus
CATEGORIES:Academics
END:VEVENT
BEGIN:VEVENT
DTSTART;TZID=America/New_York:20260205T083000
DTEND;TZID=America/New_York:20260205T133000
DTSTAMP:20260422T144035
CREATED:20260121T001634Z
LAST-MODIFIED:20260205T174612Z
UID:142252-1770280200-1770298200@events.bridgeport.edu
SUMMARY:Bridgeport Public Schools STEM EXPO 2026
DESCRIPTION:
URL:https://events.bridgeport.edu/event/bridgeport-public-schools-stem-expo-2026/
LOCATION:JCSC KNIGHT S1 – Social Room Campus: Main Campus
CATEGORIES:Academics
END:VEVENT
BEGIN:VEVENT
DTSTART;TZID=America/New_York:20260206T080000
DTEND;TZID=America/New_York:20260206T210000
DTSTAMP:20260422T144035
CREATED:20260121T001634Z
LAST-MODIFIED:20260207T004612Z
UID:142254-1770364800-1770411600@events.bridgeport.edu
SUMMARY:SOE Situation Room and Data Management
DESCRIPTION:
URL:https://events.bridgeport.edu/event/soe-situation-room-and-data-management-14/
LOCATION:CARH 113 Campus: Main Campus
CATEGORIES:Academics
END:VEVENT
BEGIN:VEVENT
DTSTART;TZID=America/New_York:20260206T100000
DTEND;TZID=America/New_York:20260206T120000
DTSTAMP:20260422T144035
CREATED:20260121T001634Z
LAST-MODIFIED:20260206T164610Z
UID:142253-1770372000-1770379200@events.bridgeport.edu
SUMMARY:Spring 2026 Community Day - Office of the President
DESCRIPTION:
URL:https://events.bridgeport.edu/event/spring-2026-community-day-office-of-the-president/
LOCATION:JCSC KNIGHT S1 – Social Room Campus: Main Campus
CATEGORIES:Academics
END:VEVENT
BEGIN:VEVENT
DTSTART;TZID=America/New_York:20260209T080000
DTEND;TZID=America/New_York:20260209T210000
DTSTAMP:20260422T144035
CREATED:20260121T001634Z
LAST-MODIFIED:20260210T014610Z
UID:142255-1770624000-1770670800@events.bridgeport.edu
SUMMARY:SOE Situation Room and Data Management
DESCRIPTION:
URL:https://events.bridgeport.edu/event/soe-situation-room-and-data-management-15/
LOCATION:CARH 113 Campus: Main Campus
CATEGORIES:Academics
END:VEVENT
BEGIN:VEVENT
DTSTART;TZID=America/New_York:20260210T080000
DTEND;TZID=America/New_York:20260210T210000
DTSTAMP:20260422T144035
CREATED:20260121T001647Z
LAST-MODIFIED:20260211T011612Z
UID:142277-1770710400-1770757200@events.bridgeport.edu
SUMMARY:SOE Situation Room and Data Management
DESCRIPTION:
URL:https://events.bridgeport.edu/event/soe-situation-room-and-data-management-16/
LOCATION:CARH 113 Campus: Main Campus
CATEGORIES:Academics
END:VEVENT
BEGIN:VEVENT
DTSTART;TZID=America/New_York:20260210T123000
DTEND;TZID=America/New_York:20260210T133000
DTSTAMP:20260422T144035
CREATED:20260121T001634Z
LAST-MODIFIED:20260210T181610Z
UID:142256-1770726600-1770730200@events.bridgeport.edu
SUMMARY:Faculty Senate Executive Committee Meeting via Zoom
DESCRIPTION:
URL:https://events.bridgeport.edu/event/faculty-senate-executive-committee-meeting-via-zoom/
LOCATION:ONLN ZOOM Campus: Distance Learning-On Line
CATEGORIES:Academics
END:VEVENT
BEGIN:VEVENT
DTSTART;TZID=America/New_York:20260210T150000
DTEND;TZID=America/New_York:20260210T190000
DTSTAMP:20260422T144035
CREATED:20260121T001647Z
LAST-MODIFIED:20260210T234611Z
UID:142276-1770735600-1770750000@events.bridgeport.edu
SUMMARY:Vita Tax Clinic
DESCRIPTION:
URL:https://events.bridgeport.edu/event/vita-tax-clinic-8/
LOCATION:MAN 303 Campus: Main Campus\, 230 Park Avenue\, Bridgeport\, CT\, 06604\, United States
CATEGORIES:Academics
END:VEVENT
BEGIN:VEVENT
DTSTART;TZID=America/New_York:20260211T080000
DTEND;TZID=America/New_York:20260211T210000
DTSTAMP:20260422T144035
CREATED:20260121T001647Z
LAST-MODIFIED:20260212T004612Z
UID:142278-1770796800-1770843600@events.bridgeport.edu
SUMMARY:SOE Situation Room and Data Management
DESCRIPTION:
URL:https://events.bridgeport.edu/event/soe-situation-room-and-data-management-17/
LOCATION:CARH 113 Campus: Main Campus
CATEGORIES:Academics
END:VEVENT
BEGIN:VEVENT
DTSTART;TZID=America/New_York:20260211T110000
DTEND;TZID=America/New_York:20260211T150000
DTSTAMP:20260422T144035
CREATED:20260121T001647Z
LAST-MODIFIED:20260211T191613Z
UID:142279-1770807600-1770822000@events.bridgeport.edu
SUMMARY:Vita Tax Clinic
DESCRIPTION:
URL:https://events.bridgeport.edu/event/vita-tax-clinic-9/
LOCATION:MAN 303 Campus: Main Campus\, 230 Park Avenue\, Bridgeport\, CT\, 06604\, United States
CATEGORIES:Academics
END:VEVENT
BEGIN:VEVENT
DTSTART;TZID=America/New_York:20260212T080000
DTEND;TZID=America/New_York:20260212T210000
DTSTAMP:20260422T144035
CREATED:20260121T001647Z
LAST-MODIFIED:20260213T014612Z
UID:142281-1770883200-1770930000@events.bridgeport.edu
SUMMARY:SOE Situation Room and Data Management
DESCRIPTION:
URL:https://events.bridgeport.edu/event/soe-situation-room-and-data-management-18/
LOCATION:CARH 113 Campus: Main Campus
CATEGORIES:Academics
END:VEVENT
BEGIN:VEVENT
DTSTART;TZID=America/New_York:20260212T090000
DTEND;TZID=America/New_York:20260212T170000
DTSTAMP:20260422T144035
CREATED:20260121T001647Z
LAST-MODIFIED:20260212T214609Z
UID:142280-1770886800-1770915600@events.bridgeport.edu
SUMMARY:Block 8 EOR Exams and Call Backs - Physician Assistant Institute
DESCRIPTION:
URL:https://events.bridgeport.edu/event/block-8-eor-exams-and-call-backs-physician-assistant-institute/
LOCATION:MAN 104 Campus: Main Campus\, 230 Park Avenue\, Bridgeport\, CT\, 06604\, United States
CATEGORIES:Academics
END:VEVENT
BEGIN:VEVENT
DTSTART;TZID=America/New_York:20260212T122000
DTEND;TZID=America/New_York:20260212T133000
DTSTAMP:20260422T144035
CREATED:20260121T211650Z
LAST-MODIFIED:20260212T171611Z
UID:143140-1770898800-1770903000@events.bridgeport.edu
SUMMARY:College of Science and Society - Lunch and Learn
DESCRIPTION:
URL:https://events.bridgeport.edu/event/college-of-science-and-society-lunch-and-learn-2/
LOCATION:WAHL 158 Campus: Main Campus\, 126 Park Avenue\, Bridgeport\, CT\, 06604\, United States
CATEGORIES:Academics
END:VEVENT
BEGIN:VEVENT
DTSTART;TZID=America/New_York:20260213T080000
DTEND;TZID=America/New_York:20260213T210000
DTSTAMP:20260422T144035
CREATED:20260121T001647Z
LAST-MODIFIED:20260214T004611Z
UID:142282-1770969600-1771016400@events.bridgeport.edu
SUMMARY:SOE Situation Room and Data Management
DESCRIPTION:
URL:https://events.bridgeport.edu/event/soe-situation-room-and-data-management-19/
LOCATION:CARH 113 Campus: Main Campus
CATEGORIES:Academics
END:VEVENT
BEGIN:VEVENT
DTSTART;TZID=America/New_York:20260213T090000
DTEND;TZID=America/New_York:20260213T170000
DTSTAMP:20260422T144035
CREATED:20260121T001647Z
LAST-MODIFIED:20260213T214613Z
UID:142283-1770973200-1771002000@events.bridgeport.edu
SUMMARY:End of Curriculum Exam - Physician Assistant Institute
DESCRIPTION:
URL:https://events.bridgeport.edu/event/end-of-curriculum-exam-physician-assistant-institute/
LOCATION:MAN 104 Campus: Main Campus\, 230 Park Avenue\, Bridgeport\, CT\, 06604\, United States
CATEGORIES:Academics
END:VEVENT
BEGIN:VEVENT
DTSTART;TZID=America/New_York:20260213T101500
DTEND;TZID=America/New_York:20260213T104500
DTSTAMP:20260422T144035
CREATED:20260121T001647Z
LAST-MODIFIED:20260213T151611Z
UID:142284-1770977700-1770979500@events.bridgeport.edu
SUMMARY:Orville Platt High School Group Visit - Admissions
DESCRIPTION:
URL:https://events.bridgeport.edu/event/orville-platt-high-school-group-visit-admissions/
LOCATION:DANA 107 Campus: Main Campus\, 169 University Avenue\, Bridgeport\, CT\, 06604\, United States
CATEGORIES:Academics
END:VEVENT
BEGIN:VEVENT
DTSTART;VALUE=DATE:20260215
DTEND;VALUE=DATE:20260216
DTSTAMP:20260422T144035
CREATED:20250508T125143Z
LAST-MODIFIED:20250508T125143Z
UID:115913-1771113600-1771199999@events.bridgeport.edu
SUMMARY:Last day to WITHDRAW from first module (7-week) courses with academic and financial penalty (see Refund Policy)
DESCRIPTION:See Refund Policy
URL:https://events.bridgeport.edu/event/last-day-to-withdraw-from-first-module-7-week-courses-with-academic-and-financial-penalty-see-refund-policy/
CATEGORIES:Academics
END:VEVENT
BEGIN:VEVENT
DTSTART;VALUE=DATE:20260216
DTEND;VALUE=DATE:20260217
DTSTAMP:20260422T144035
CREATED:20250508T125143Z
LAST-MODIFIED:20250508T125143Z
UID:115914-1771200000-1771286399@events.bridgeport.edu
SUMMARY:President's Day - No classes - University is open
DESCRIPTION:
URL:https://events.bridgeport.edu/event/presidents-day-no-classes-university-is-open-2/
CATEGORIES:Academics
END:VEVENT
BEGIN:VEVENT
DTSTART;TZID=America/New_York:20260216T080000
DTEND;TZID=America/New_York:20260216T210000
DTSTAMP:20260422T144035
CREATED:20260121T001647Z
LAST-MODIFIED:20260217T014612Z
UID:142285-1771228800-1771275600@events.bridgeport.edu
SUMMARY:SOE Situation Room and Data Management
DESCRIPTION:
URL:https://events.bridgeport.edu/event/soe-situation-room-and-data-management-20/
LOCATION:CARH 113 Campus: Main Campus
CATEGORIES:Academics
END:VEVENT
BEGIN:VEVENT
DTSTART;TZID=America/New_York:20260217T080000
DTEND;TZID=America/New_York:20260217T210000
DTSTAMP:20260422T144035
CREATED:20260121T001659Z
LAST-MODIFIED:20260218T004610Z
UID:142300-1771315200-1771362000@events.bridgeport.edu
SUMMARY:SOE Situation Room and Data Management
DESCRIPTION:
URL:https://events.bridgeport.edu/event/soe-situation-room-and-data-management-21/
LOCATION:CARH 113 Campus: Main Campus
CATEGORIES:Academics
END:VEVENT
BEGIN:VEVENT
DTSTART;TZID=America/New_York:20260217T121500
DTEND;TZID=America/New_York:20260217T133000
DTSTAMP:20260422T144035
CREATED:20260121T001659Z
LAST-MODIFIED:20260217T161611Z
UID:142297-1771330500-1771335000@events.bridgeport.edu
SUMMARY:Women's Sports Panel - School of Business
DESCRIPTION:
URL:https://events.bridgeport.edu/event/womens-sports-panel-school-of-business/
LOCATION:MAN 107 Campus: Main Campus\, 230 Park Avenue\, Bridgeport\, CT\, 06604\, United States
CATEGORIES:Academics
END:VEVENT
BEGIN:VEVENT
DTSTART;TZID=America/New_York:20260217T122000
DTEND;TZID=America/New_York:20260217T132000
DTSTAMP:20260422T144035
CREATED:20260206T221622Z
LAST-MODIFIED:20260217T161611Z
UID:145125-1771330800-1771334400@events.bridgeport.edu
SUMMARY:Faculty and Student Meetup - School of Engineering
DESCRIPTION:
URL:https://events.bridgeport.edu/event/faculty-and-student-meetup-school-of-engineering/
LOCATION:WAHL 613 Campus: Main Campus
CATEGORIES:Academics
END:VEVENT
BEGIN:VEVENT
DTSTART;TZID=America/New_York:20260217T123000
DTEND;TZID=America/New_York:20260217T133000
DTSTAMP:20260422T144035
CREATED:20260121T001659Z
LAST-MODIFIED:20260217T161611Z
UID:142296-1771331400-1771335000@events.bridgeport.edu
SUMMARY:Faculty Senate Advisory Committee Meetings via Zoom
DESCRIPTION:
URL:https://events.bridgeport.edu/event/faculty-senate-advisory-committee-meetings-via-zoom/
LOCATION:ONLN ZOOM Campus: Distance Learning-On Line
CATEGORIES:Academics
END:VEVENT
END:VCALENDAR