

BEGIN:VCALENDAR
VERSION:2.0
PRODID:-//Campus Events - ECPv6.15.20//NONSGML v1.0//EN
CALSCALE:GREGORIAN
METHOD:PUBLISH
X-WR-CALNAME:Campus Events
X-ORIGINAL-URL:https://events.bridgeport.edu
X-WR-CALDESC:Events for Campus Events
REFRESH-INTERVAL;VALUE=DURATION:PT1H
X-Robots-Tag:noindex
X-PUBLISHED-TTL:PT1H
BEGIN:VTIMEZONE
TZID:America/New_York
BEGIN:DAYLIGHT
TZOFFSETFROM:-0500
TZOFFSETTO:-0400
TZNAME:EDT
DTSTART:20250309T070000
END:DAYLIGHT
BEGIN:STANDARD
TZOFFSETFROM:-0400
TZOFFSETTO:-0500
TZNAME:EST
DTSTART:20251102T060000
END:STANDARD
BEGIN:DAYLIGHT
TZOFFSETFROM:-0500
TZOFFSETTO:-0400
TZNAME:EDT
DTSTART:20260308T070000
END:DAYLIGHT
BEGIN:STANDARD
TZOFFSETFROM:-0400
TZOFFSETTO:-0500
TZNAME:EST
DTSTART:20261101T060000
END:STANDARD
BEGIN:DAYLIGHT
TZOFFSETFROM:-0500
TZOFFSETTO:-0400
TZNAME:EDT
DTSTART:20270314T070000
END:DAYLIGHT
BEGIN:STANDARD
TZOFFSETFROM:-0400
TZOFFSETTO:-0500
TZNAME:EST
DTSTART:20271107T060000
END:STANDARD
END:VTIMEZONE
BEGIN:VEVENT
DTSTART;VALUE=DATE:20260101
DTEND;VALUE=DATE:20260102
DTSTAMP:20260422T114059
CREATED:20240514T181550Z
LAST-MODIFIED:20240516T144455Z
UID:76111-1767225600-1767311999@events.bridgeport.edu
SUMMARY:New Year's Day
DESCRIPTION:
URL:https://events.bridgeport.edu/event/spring-2026-new-years-day/
CATEGORIES:Academics
END:VEVENT
BEGIN:VEVENT
DTSTART;VALUE=DATE:20260101
DTEND;VALUE=DATE:20260102
DTSTAMP:20260422T114059
CREATED:20250508T125111Z
LAST-MODIFIED:20250508T125111Z
UID:115892-1767225600-1767311999@events.bridgeport.edu
SUMMARY:New Year's Day - No classes - University is closed
DESCRIPTION:
URL:https://events.bridgeport.edu/event/new-years-day-no-classes-university-is-closed-3/
CATEGORIES:Academics
END:VEVENT
BEGIN:VEVENT
DTSTART;VALUE=DATE:20260102
DTEND;VALUE=DATE:20260103
DTSTAMP:20260422T114059
CREATED:20250508T125111Z
LAST-MODIFIED:20250919T190329Z
UID:115893-1767312000-1767398399@events.bridgeport.edu
SUMMARY:Last day to WITHDRAW from CHS 18-week Acupuncture and Chiropractic courses without academic and financial penalty
DESCRIPTION:See Refund Policy
URL:https://events.bridgeport.edu/event/spring-2026-last-day-to-withdraw-from-chs-18-week-acupuncture-and-chiropractic-courses-without-academic-and-financial-penalty/
CATEGORIES:Academics
END:VEVENT
BEGIN:VEVENT
DTSTART;VALUE=DATE:20260102
DTEND;VALUE=DATE:20260103
DTSTAMP:20260422T114059
CREATED:20250508T125111Z
LAST-MODIFIED:20250508T125111Z
UID:115894-1767312000-1767398399@events.bridgeport.edu
SUMMARY:Spring semester begins (CHS Acupuncture and Chiropractic)
DESCRIPTION:
URL:https://events.bridgeport.edu/event/spring-semester-begins-chs-acupuncture-and-chiropractic/
CATEGORIES:Academics
END:VEVENT
BEGIN:VEVENT
DTSTART;VALUE=DATE:20260105
DTEND;VALUE=DATE:20260106
DTSTAMP:20260422T114059
CREATED:20250508T125111Z
LAST-MODIFIED:20250508T125111Z
UID:115895-1767571200-1767657599@events.bridgeport.edu
SUMMARY:All faculty return to campus
DESCRIPTION:
URL:https://events.bridgeport.edu/event/all-faculty-return-to-campus/
CATEGORIES:Academics
END:VEVENT
BEGIN:VEVENT
DTSTART;VALUE=DATE:20260107
DTEND;VALUE=DATE:20260108
DTSTAMP:20260422T114059
CREATED:20250508T125111Z
LAST-MODIFIED:20250508T125111Z
UID:115896-1767744000-1767830399@events.bridgeport.edu
SUMMARY:Last day to ADD a CHS 18-week Acupuncture and Chiropractic course
DESCRIPTION:
URL:https://events.bridgeport.edu/event/last-day-to-add-a-chs-18-week-acupuncture-and-chiropractic-course/
CATEGORIES:Academics
END:VEVENT
BEGIN:VEVENT
DTSTART;VALUE=DATE:20260111
DTEND;VALUE=DATE:20260112
DTSTAMP:20260422T114059
CREATED:20250508T125112Z
LAST-MODIFIED:20250508T125113Z
UID:115897-1768089600-1768175999@events.bridgeport.edu
SUMMARY:Last day to WITHDRAW from 15-week and first module courses without academic or financial penalty
DESCRIPTION:See Refund Policy
URL:https://events.bridgeport.edu/event/last-day-to-withdraw-from-15-week-and-first-module-courses-without-academic-or-financial-penalty/
CATEGORIES:Academics
END:VEVENT
BEGIN:VEVENT
DTSTART;VALUE=DATE:20260112
DTEND;VALUE=DATE:20260113
DTSTAMP:20260422T114059
CREATED:20250508T125112Z
LAST-MODIFIED:20250508T125113Z
UID:115898-1768176000-1768262399@events.bridgeport.edu
SUMMARY:Spring semester begins (15-week and first module courses)
DESCRIPTION:
URL:https://events.bridgeport.edu/event/spring-semester-begins-15-week-and-first-module-courses/
CATEGORIES:Academics
END:VEVENT
BEGIN:VEVENT
DTSTART;VALUE=DATE:20260118
DTEND;VALUE=DATE:20260119
DTSTAMP:20260422T114059
CREATED:20250508T125112Z
LAST-MODIFIED:20250508T125113Z
UID:115899-1768694400-1768780799@events.bridgeport.edu
SUMMARY:Last day to ADD a 15-week or first module course
DESCRIPTION:
URL:https://events.bridgeport.edu/event/last-day-to-add-a-15-week-or-first-module-course-3/
CATEGORIES:Academics
END:VEVENT
BEGIN:VEVENT
DTSTART;VALUE=DATE:20260119
DTEND;VALUE=DATE:20260120
DTSTAMP:20260422T114059
CREATED:20250508T125112Z
LAST-MODIFIED:20250508T125113Z
UID:115900-1768780800-1768867199@events.bridgeport.edu
SUMMARY:Martin Luther King Day - No classes - University is closed
DESCRIPTION:
URL:https://events.bridgeport.edu/event/martin-luther-king-day-no-classes-university-is-closed-2/
CATEGORIES:Academics
END:VEVENT
BEGIN:VEVENT
DTSTART;TZID=America/New_York:20260120T080000
DTEND;TZID=America/New_York:20260120T210000
DTSTAMP:20260422T114059
CREATED:20260121T001610Z
LAST-MODIFIED:20260121T004611Z
UID:142186-1768896000-1768942800@events.bridgeport.edu
SUMMARY:SOE Situation Room and Data Management
DESCRIPTION:
URL:https://events.bridgeport.edu/event/soe-situation-room-and-data-management/
LOCATION:CARH 113 Campus: Main Campus
CATEGORIES:Academics
END:VEVENT
BEGIN:VEVENT
DTSTART;VALUE=DATE:20260121
DTEND;VALUE=DATE:20260122
DTSTAMP:20260422T114059
CREATED:20250508T125112Z
LAST-MODIFIED:20250508T125113Z
UID:115901-1768953600-1769039999@events.bridgeport.edu
SUMMARY:Last day to WITHDRAW from CHS 18-week Acupuncture and Chiropractic courses without academic penalty\, but with financial penalty
DESCRIPTION:See Refund Policy
URL:https://events.bridgeport.edu/event/last-day-to-withdraw-from-chs-18-week-acupuncture-and-chiropractic-courses-without-academic-penalty-but-with-financial-penalty/
CATEGORIES:Academics
END:VEVENT
BEGIN:VEVENT
DTSTART;VALUE=DATE:20260121
DTEND;VALUE=DATE:20260122
DTSTAMP:20260422T114059
CREATED:20250508T125128Z
LAST-MODIFIED:20250508T125128Z
UID:115907-1768953600-1769039999@events.bridgeport.edu
SUMMARY:Faculty Census Day (CHS Acupuncture and Chiropractic)
DESCRIPTION:
URL:https://events.bridgeport.edu/event/faculty-census-day-chs-acupuncture-and-chiropractic/
CATEGORIES:Academics
END:VEVENT
BEGIN:VEVENT
DTSTART;TZID=America/New_York:20260121T080000
DTEND;TZID=America/New_York:20260121T210000
DTSTAMP:20260422T114059
CREATED:20260121T001610Z
LAST-MODIFIED:20260122T004611Z
UID:142188-1768982400-1769029200@events.bridgeport.edu
SUMMARY:SOE Situation Room and Data Management
DESCRIPTION:
URL:https://events.bridgeport.edu/event/soe-situation-room-and-data-management-2/
LOCATION:CARH 113 Campus: Main Campus
CATEGORIES:Academics
END:VEVENT
BEGIN:VEVENT
DTSTART;TZID=America/New_York:20260121T110000
DTEND;TZID=America/New_York:20260121T150000
DTSTAMP:20260422T114059
CREATED:20260121T001610Z
LAST-MODIFIED:20260121T194611Z
UID:142187-1768993200-1769007600@events.bridgeport.edu
SUMMARY:Vita Tax Clinic
DESCRIPTION:
URL:https://events.bridgeport.edu/event/vita-tax-clinic-3/
LOCATION:MAN 303 Campus: Main Campus\, 230 Park Avenue\, Bridgeport\, CT\, 06604\, United States
CATEGORIES:Academics
END:VEVENT
BEGIN:VEVENT
DTSTART;TZID=America/New_York:20260122T080000
DTEND;TZID=America/New_York:20260122T210000
DTSTAMP:20260422T114059
CREATED:20260121T001610Z
LAST-MODIFIED:20260123T004612Z
UID:142189-1769068800-1769115600@events.bridgeport.edu
SUMMARY:SOE Situation Room and Data Management
DESCRIPTION:
URL:https://events.bridgeport.edu/event/soe-situation-room-and-data-management-3/
LOCATION:CARH 113 Campus: Main Campus
CATEGORIES:Academics
END:VEVENT
BEGIN:VEVENT
DTSTART;TZID=America/New_York:20260122T120000
DTEND;TZID=America/New_York:20260122T133000
DTSTAMP:20260422T114059
CREATED:20260121T001611Z
LAST-MODIFIED:20260122T181610Z
UID:142190-1769083200-1769088600@events.bridgeport.edu
SUMMARY:Faculty Research Forum - College of Engineering\, Business and Education
DESCRIPTION:
URL:https://events.bridgeport.edu/event/faculty-research-forum-college-of-engineering-business-and-education/
LOCATION:MAN 104 Campus: Main Campus\, 230 Park Avenue\, Bridgeport\, CT\, 06604\, United States
CATEGORIES:Academics
END:VEVENT
BEGIN:VEVENT
DTSTART;TZID=America/New_York:20260123T080000
DTEND;TZID=America/New_York:20260123T210000
DTSTAMP:20260422T114059
CREATED:20260121T001611Z
LAST-MODIFIED:20260124T004621Z
UID:142191-1769155200-1769202000@events.bridgeport.edu
SUMMARY:SOE Situation Room and Data Management
DESCRIPTION:
URL:https://events.bridgeport.edu/event/soe-situation-room-and-data-management-4/
LOCATION:CARH 113 Campus: Main Campus
CATEGORIES:Academics
END:VEVENT
BEGIN:VEVENT
DTSTART;TZID=America/New_York:20260124T080000
DTEND;TZID=America/New_York:20260124T180000
DTSTAMP:20260422T114059
CREATED:20260121T001611Z
LAST-MODIFIED:20260124T221610Z
UID:142192-1769241600-1769277600@events.bridgeport.edu
SUMMARY:Regenerative Medicine - Health Sciences Postgraduate Education Department
DESCRIPTION:
URL:https://events.bridgeport.edu/event/regenerative-medicine-health-sciences-postgraduate-education-department/
LOCATION:ONLN ONLN Campus: Distance Learning-On Line
CATEGORIES:Academics
END:VEVENT
BEGIN:VEVENT
DTSTART;VALUE=DATE:20260125
DTEND;VALUE=DATE:20260126
DTSTAMP:20260422T114059
CREATED:20250508T125128Z
LAST-MODIFIED:20250508T125128Z
UID:115908-1769299200-1769385599@events.bridgeport.edu
SUMMARY:Last day to elect pass/fail
DESCRIPTION:
URL:https://events.bridgeport.edu/event/last-day-to-elect-pass-fail-3/
CATEGORIES:Academics
END:VEVENT
BEGIN:VEVENT
DTSTART;VALUE=DATE:20260125
DTEND;VALUE=DATE:20260126
DTSTAMP:20260422T114059
CREATED:20250508T125128Z
LAST-MODIFIED:20250508T125128Z
UID:115909-1769299200-1769385599@events.bridgeport.edu
SUMMARY:Last day to ADD a 15-week course (instructor approved courses only)
DESCRIPTION:
URL:https://events.bridgeport.edu/event/last-day-to-add-a-15-week-course-instructor-approved-courses-only/
CATEGORIES:Academics
END:VEVENT
BEGIN:VEVENT
DTSTART;VALUE=DATE:20260125
DTEND;VALUE=DATE:20260126
DTSTAMP:20260422T114059
CREATED:20250508T125128Z
LAST-MODIFIED:20250508T125128Z
UID:115910-1769299200-1769385599@events.bridgeport.edu
SUMMARY:Last day to WITHDRAW from 15-week and first module classes without academic penalty\, but with financial penalty
DESCRIPTION:See Refund Policy
URL:https://events.bridgeport.edu/event/last-day-to-withdraw-from-15-week-and-first-module-classes-without-academic-penalty-but-with-financial-penalty-2/
CATEGORIES:Academics
END:VEVENT
BEGIN:VEVENT
DTSTART;VALUE=DATE:20260126
DTEND;VALUE=DATE:20260127
DTSTAMP:20260422T114059
CREATED:20250508T125128Z
LAST-MODIFIED:20250508T125128Z
UID:115911-1769385600-1769471999@events.bridgeport.edu
SUMMARY:Faculty Census Day (15-week and first module courses)
DESCRIPTION:
URL:https://events.bridgeport.edu/event/faculty-census-day-15-week-and-first-module-courses/
CATEGORIES:Academics
END:VEVENT
BEGIN:VEVENT
DTSTART;TZID=America/New_York:20260126T080000
DTEND;TZID=America/New_York:20260126T210000
DTSTAMP:20260422T114059
CREATED:20260121T001611Z
LAST-MODIFIED:20260127T004612Z
UID:142193-1769414400-1769461200@events.bridgeport.edu
SUMMARY:SOE Situation Room and Data Management
DESCRIPTION:
URL:https://events.bridgeport.edu/event/soe-situation-room-and-data-management-5/
LOCATION:CARH 113 Campus: Main Campus
CATEGORIES:Academics
END:VEVENT
BEGIN:VEVENT
DTSTART;TZID=America/New_York:20260127T080000
DTEND;TZID=America/New_York:20260127T210000
DTSTAMP:20260422T114059
CREATED:20260121T001622Z
LAST-MODIFIED:20260128T011609Z
UID:142218-1769500800-1769547600@events.bridgeport.edu
SUMMARY:SOE Situation Room and Data Management
DESCRIPTION:
URL:https://events.bridgeport.edu/event/soe-situation-room-and-data-management-6/
LOCATION:CARH 113 Campus: Main Campus
CATEGORIES:Academics
END:VEVENT
BEGIN:VEVENT
DTSTART;TZID=America/New_York:20260127T121500
DTEND;TZID=America/New_York:20260127T133000
DTSTAMP:20260422T114059
CREATED:20260121T001611Z
LAST-MODIFIED:20260127T174610Z
UID:142194-1769516100-1769520600@events.bridgeport.edu
SUMMARY:College of EBE Dean's Meeting
DESCRIPTION:
URL:https://events.bridgeport.edu/event/college-of-ebe-deans-meeting-3/
LOCATION:WAHL 613 Campus: Main Campus
CATEGORIES:Academics
END:VEVENT
BEGIN:VEVENT
DTSTART;TZID=America/New_York:20260127T122000
DTEND;TZID=America/New_York:20260127T132000
DTSTAMP:20260422T114059
CREATED:20260121T001611Z
LAST-MODIFIED:20260122T154611Z
UID:142195-1769516400-1769520000@events.bridgeport.edu
SUMMARY:Faculty Research Forum - College of EBE
DESCRIPTION:
URL:https://events.bridgeport.edu/event/faculty-research-forum-college-of-ebe/
LOCATION:MAN 104 Campus: Main Campus\, 230 Park Avenue\, Bridgeport\, CT\, 06604\, United States
CATEGORIES:Academics
END:VEVENT
BEGIN:VEVENT
DTSTART;TZID=America/New_York:20260127T150000
DTEND;TZID=America/New_York:20260127T190000
DTSTAMP:20260422T114059
CREATED:20260121T001622Z
LAST-MODIFIED:20260127T221611Z
UID:142217-1769526000-1769540400@events.bridgeport.edu
SUMMARY:Vita Tax Clinic
DESCRIPTION:
URL:https://events.bridgeport.edu/event/vita-tax-clinic-4/
LOCATION:MAN 303 Campus: Main Campus\, 230 Park Avenue\, Bridgeport\, CT\, 06604\, United States
CATEGORIES:Academics
END:VEVENT
BEGIN:VEVENT
DTSTART;TZID=America/New_York:20260128T080000
DTEND;TZID=America/New_York:20260128T210000
DTSTAMP:20260422T114059
CREATED:20260121T001622Z
LAST-MODIFIED:20260129T004611Z
UID:142221-1769587200-1769634000@events.bridgeport.edu
SUMMARY:SOE Situation Room and Data Management
DESCRIPTION:
URL:https://events.bridgeport.edu/event/soe-situation-room-and-data-management-7/
LOCATION:CARH 113 Campus: Main Campus
CATEGORIES:Academics
END:VEVENT
BEGIN:VEVENT
DTSTART;TZID=America/New_York:20260128T110000
DTEND;TZID=America/New_York:20260128T150000
DTSTAMP:20260422T114059
CREATED:20260121T001622Z
LAST-MODIFIED:20260128T184611Z
UID:142219-1769598000-1769612400@events.bridgeport.edu
SUMMARY:Vita Tax Clinic
DESCRIPTION:
URL:https://events.bridgeport.edu/event/vita-tax-clinic-5/
LOCATION:MAN 303 Campus: Main Campus\, 230 Park Avenue\, Bridgeport\, CT\, 06604\, United States
CATEGORIES:Academics
END:VEVENT
END:VCALENDAR