

BEGIN:VCALENDAR
VERSION:2.0
PRODID:-//Campus Events - ECPv6.15.20//NONSGML v1.0//EN
CALSCALE:GREGORIAN
METHOD:PUBLISH
X-WR-CALNAME:Campus Events
X-ORIGINAL-URL:https://events.bridgeport.edu
X-WR-CALDESC:Events for Campus Events
REFRESH-INTERVAL;VALUE=DURATION:PT1H
X-Robots-Tag:noindex
X-PUBLISHED-TTL:PT1H
BEGIN:VTIMEZONE
TZID:America/New_York
BEGIN:DAYLIGHT
TZOFFSETFROM:-0500
TZOFFSETTO:-0400
TZNAME:EDT
DTSTART:20240310T070000
END:DAYLIGHT
BEGIN:STANDARD
TZOFFSETFROM:-0400
TZOFFSETTO:-0500
TZNAME:EST
DTSTART:20241103T060000
END:STANDARD
BEGIN:DAYLIGHT
TZOFFSETFROM:-0500
TZOFFSETTO:-0400
TZNAME:EDT
DTSTART:20250309T070000
END:DAYLIGHT
BEGIN:STANDARD
TZOFFSETFROM:-0400
TZOFFSETTO:-0500
TZNAME:EST
DTSTART:20251102T060000
END:STANDARD
BEGIN:DAYLIGHT
TZOFFSETFROM:-0500
TZOFFSETTO:-0400
TZNAME:EDT
DTSTART:20260308T070000
END:DAYLIGHT
BEGIN:STANDARD
TZOFFSETFROM:-0400
TZOFFSETTO:-0500
TZNAME:EST
DTSTART:20261101T060000
END:STANDARD
END:VTIMEZONE
BEGIN:VEVENT
DTSTART;TZID=America/New_York:20250714T080000
DTEND;TZID=America/New_York:20250714T230000
DTSTAMP:20260422T030009
CREATED:20240307T001238Z
LAST-MODIFIED:20250715T024606Z
UID:68133-1752480000-1752534000@events.bridgeport.edu
SUMMARY:CAEP 2025 Accreditation Cycle February 2024 - August 2025
DESCRIPTION:
URL:https://events.bridgeport.edu/event/caep-2025-accreditation-cycle-february-2024-august-2025-344/
LOCATION:CARH 113 Campus: Main Campus
CATEGORIES:Academics
END:VEVENT
BEGIN:VEVENT
DTSTART;VALUE=DATE:20250715
DTEND;VALUE=DATE:20250716
DTSTAMP:20260422T030009
CREATED:20240514T181522Z
LAST-MODIFIED:20240516T141107Z
UID:76056-1752537600-1752623999@events.bridgeport.edu
SUMMARY:Last day to ADD a second module course
DESCRIPTION:
URL:https://events.bridgeport.edu/event/summer-2025-last-day-to-add-second-mod-course/
CATEGORIES:Academics
END:VEVENT
BEGIN:VEVENT
DTSTART;TZID=America/New_York:20250715T080000
DTEND;TZID=America/New_York:20250715T230000
DTSTAMP:20260422T030009
CREATED:20240307T001239Z
LAST-MODIFIED:20250716T024607Z
UID:68134-1752566400-1752620400@events.bridgeport.edu
SUMMARY:CAEP 2025 Accreditation Cycle February 2024 - August 2025
DESCRIPTION:
URL:https://events.bridgeport.edu/event/caep-2025-accreditation-cycle-february-2024-august-2025-345/
LOCATION:CARH 113 Campus: Main Campus
CATEGORIES:Academics
END:VEVENT
BEGIN:VEVENT
DTSTART;TZID=America/New_York:20250716T080000
DTEND;TZID=America/New_York:20250716T230000
DTSTAMP:20260422T030009
CREATED:20240307T001239Z
LAST-MODIFIED:20250717T024606Z
UID:68135-1752652800-1752706800@events.bridgeport.edu
SUMMARY:CAEP 2025 Accreditation Cycle February 2024 - August 2025
DESCRIPTION:
URL:https://events.bridgeport.edu/event/caep-2025-accreditation-cycle-february-2024-august-2025-346/
LOCATION:CARH 113 Campus: Main Campus
CATEGORIES:Academics
END:VEVENT
BEGIN:VEVENT
DTSTART;TZID=America/New_York:20250717T080000
DTEND;TZID=America/New_York:20250717T230000
DTSTAMP:20260422T030009
CREATED:20240307T001250Z
LAST-MODIFIED:20250718T024612Z
UID:68136-1752739200-1752793200@events.bridgeport.edu
SUMMARY:CAEP 2025 Accreditation Cycle February 2024 - August 2025
DESCRIPTION:
URL:https://events.bridgeport.edu/event/caep-2025-accreditation-cycle-february-2024-august-2025-347/
LOCATION:CARH 113 Campus: Main Campus
CATEGORIES:Academics
END:VEVENT
BEGIN:VEVENT
DTSTART;TZID=America/New_York:20250718T080000
DTEND;TZID=America/New_York:20250718T230000
DTSTAMP:20260422T030009
CREATED:20240307T001251Z
LAST-MODIFIED:20250719T024606Z
UID:68137-1752825600-1752879600@events.bridgeport.edu
SUMMARY:CAEP 2025 Accreditation Cycle February 2024 - August 2025
DESCRIPTION:
URL:https://events.bridgeport.edu/event/caep-2025-accreditation-cycle-february-2024-august-2025-348/
LOCATION:CARH 113 Campus: Main Campus
CATEGORIES:Academics
END:VEVENT
BEGIN:VEVENT
DTSTART;VALUE=DATE:20250720
DTEND;VALUE=DATE:20250721
DTSTAMP:20260422T030009
CREATED:20240514T181522Z
LAST-MODIFIED:20240516T141259Z
UID:76057-1752969600-1753055999@events.bridgeport.edu
SUMMARY:Last day to WITHDRAW from a second module course without academic penalty\, but with financial penalty
DESCRIPTION:See Refund Policy
URL:https://events.bridgeport.edu/event/summer-2025-last-day-to-withdraw-from-second-mod-course-wo-academic-penalty-but-with-financial-penalty/
CATEGORIES:Academics
END:VEVENT
BEGIN:VEVENT
DTSTART;VALUE=DATE:20250721
DTEND;VALUE=DATE:20250722
DTSTAMP:20260422T030009
CREATED:20240514T181524Z
LAST-MODIFIED:20240516T141235Z
UID:76058-1753056000-1753142399@events.bridgeport.edu
SUMMARY:Faculty census day (second module courses)
DESCRIPTION:
URL:https://events.bridgeport.edu/event/summer-2025-faculty-census-day-second-mod-courses/
CATEGORIES:Academics
END:VEVENT
BEGIN:VEVENT
DTSTART;VALUE=DATE:20250721
DTEND;VALUE=DATE:20250722
DTSTAMP:20260422T030009
CREATED:20250127T173914Z
LAST-MODIFIED:20250127T182626Z
UID:104896-1753056000-1753142399@events.bridgeport.edu
SUMMARY:Mid-term grades due (10-week summer module)
DESCRIPTION:Mid-term grades due (10-week summer module)
URL:https://events.bridgeport.edu/event/summer-2025-mid-term-grades-due-10-week-module/
CATEGORIES:Academics
END:VEVENT
BEGIN:VEVENT
DTSTART;TZID=America/New_York:20250721T080000
DTEND;TZID=America/New_York:20250721T230000
DTSTAMP:20260422T030009
CREATED:20240307T001251Z
LAST-MODIFIED:20250722T024607Z
UID:68138-1753084800-1753138800@events.bridgeport.edu
SUMMARY:CAEP 2025 Accreditation Cycle February 2024 - August 2025
DESCRIPTION:
URL:https://events.bridgeport.edu/event/caep-2025-accreditation-cycle-february-2024-august-2025-349/
LOCATION:CARH 113 Campus: Main Campus
CATEGORIES:Academics
END:VEVENT
BEGIN:VEVENT
DTSTART;TZID=America/New_York:20250722T080000
DTEND;TZID=America/New_York:20250722T230000
DTSTAMP:20260422T030009
CREATED:20240307T001251Z
LAST-MODIFIED:20250723T014607Z
UID:68139-1753171200-1753225200@events.bridgeport.edu
SUMMARY:CAEP 2025 Accreditation Cycle February 2024 - August 2025
DESCRIPTION:
URL:https://events.bridgeport.edu/event/caep-2025-accreditation-cycle-february-2024-august-2025-350/
LOCATION:CARH 113 Campus: Main Campus
CATEGORIES:Academics
END:VEVENT
BEGIN:VEVENT
DTSTART;TZID=America/New_York:20250723T080000
DTEND;TZID=America/New_York:20250723T230000
DTSTAMP:20260422T030009
CREATED:20240307T001251Z
LAST-MODIFIED:20250724T024606Z
UID:68140-1753257600-1753311600@events.bridgeport.edu
SUMMARY:CAEP 2025 Accreditation Cycle February 2024 - August 2025
DESCRIPTION:
URL:https://events.bridgeport.edu/event/caep-2025-accreditation-cycle-february-2024-august-2025-351/
LOCATION:CARH 113 Campus: Main Campus
CATEGORIES:Academics
END:VEVENT
BEGIN:VEVENT
DTSTART;TZID=America/New_York:20250724T080000
DTEND;TZID=America/New_York:20250724T230000
DTSTAMP:20260422T030009
CREATED:20240307T001252Z
LAST-MODIFIED:20250725T024606Z
UID:68141-1753344000-1753398000@events.bridgeport.edu
SUMMARY:CAEP 2025 Accreditation Cycle February 2024 - August 2025
DESCRIPTION:
URL:https://events.bridgeport.edu/event/caep-2025-accreditation-cycle-february-2024-august-2025-352/
LOCATION:CARH 113 Campus: Main Campus
CATEGORIES:Academics
END:VEVENT
BEGIN:VEVENT
DTSTART;TZID=America/New_York:20250725T080000
DTEND;TZID=America/New_York:20250725T230000
DTSTAMP:20260422T030009
CREATED:20240307T001252Z
LAST-MODIFIED:20250726T024607Z
UID:68142-1753430400-1753484400@events.bridgeport.edu
SUMMARY:CAEP 2025 Accreditation Cycle February 2024 - August 2025
DESCRIPTION:
URL:https://events.bridgeport.edu/event/caep-2025-accreditation-cycle-february-2024-august-2025-353/
LOCATION:CARH 113 Campus: Main Campus
CATEGORIES:Academics
END:VEVENT
BEGIN:VEVENT
DTSTART;TZID=America/New_York:20250728T080000
DTEND;TZID=America/New_York:20250728T230000
DTSTAMP:20260422T030009
CREATED:20240307T001252Z
LAST-MODIFIED:20250729T024606Z
UID:68143-1753689600-1753743600@events.bridgeport.edu
SUMMARY:CAEP 2025 Accreditation Cycle February 2024 - August 2025
DESCRIPTION:
URL:https://events.bridgeport.edu/event/caep-2025-accreditation-cycle-february-2024-august-2025-354/
LOCATION:CARH 113 Campus: Main Campus
CATEGORIES:Academics
END:VEVENT
BEGIN:VEVENT
DTSTART;TZID=America/New_York:20250729T080000
DTEND;TZID=America/New_York:20250729T230000
DTSTAMP:20260422T030009
CREATED:20240307T001253Z
LAST-MODIFIED:20250730T021606Z
UID:68144-1753776000-1753830000@events.bridgeport.edu
SUMMARY:CAEP 2025 Accreditation Cycle February 2024 - August 2025
DESCRIPTION:
URL:https://events.bridgeport.edu/event/caep-2025-accreditation-cycle-february-2024-august-2025-355/
LOCATION:CARH 113 Campus: Main Campus
CATEGORIES:Academics
END:VEVENT
BEGIN:VEVENT
DTSTART;TZID=America/New_York:20250730T080000
DTEND;TZID=America/New_York:20250730T230000
DTSTAMP:20260422T030009
CREATED:20240307T001253Z
LAST-MODIFIED:20250731T024606Z
UID:68145-1753862400-1753916400@events.bridgeport.edu
SUMMARY:CAEP 2025 Accreditation Cycle February 2024 - August 2025
DESCRIPTION:
URL:https://events.bridgeport.edu/event/caep-2025-accreditation-cycle-february-2024-august-2025-356/
LOCATION:CARH 113 Campus: Main Campus
CATEGORIES:Academics
END:VEVENT
BEGIN:VEVENT
DTSTART;TZID=America/New_York:20250731T080000
DTEND;TZID=America/New_York:20250731T230000
DTSTAMP:20260422T030009
CREATED:20240307T001307Z
LAST-MODIFIED:20250801T024606Z
UID:68146-1753948800-1754002800@events.bridgeport.edu
SUMMARY:CAEP 2025 Accreditation Cycle February 2024 - August 2025
DESCRIPTION:
URL:https://events.bridgeport.edu/event/caep-2025-accreditation-cycle-february-2024-august-2025-357/
LOCATION:CARH 113 Campus: Main Campus
CATEGORIES:Academics
END:VEVENT
BEGIN:VEVENT
DTSTART;TZID=America/New_York:20250801T080000
DTEND;TZID=America/New_York:20250801T230000
DTSTAMP:20260422T030009
CREATED:20240307T001307Z
LAST-MODIFIED:20250802T024608Z
UID:68147-1754035200-1754089200@events.bridgeport.edu
SUMMARY:CAEP 2025 Accreditation Cycle February 2024 - August 2025
DESCRIPTION:
URL:https://events.bridgeport.edu/event/caep-2025-accreditation-cycle-february-2024-august-2025-358/
LOCATION:CARH 113 Campus: Main Campus
CATEGORIES:Academics
END:VEVENT
BEGIN:VEVENT
DTSTART;VALUE=DATE:20250803
DTEND;VALUE=DATE:20250804
DTSTAMP:20260422T030009
CREATED:20240514T181524Z
LAST-MODIFIED:20240516T141540Z
UID:76059-1754179200-1754265599@events.bridgeport.edu
SUMMARY:Last day to WITHDRAW from an 18-week Acupuncture and Chiropractic course with academic and financial penalty
DESCRIPTION:See Refund Policy
URL:https://events.bridgeport.edu/event/summer-2025-last-day-to-withdraw-from-18-week-acupuncture-and-chiropractic-course-with-academic-and-financial-penalty/
CATEGORIES:Academics
END:VEVENT
BEGIN:VEVENT
DTSTART;TZID=America/New_York:20250804T080000
DTEND;TZID=America/New_York:20250804T230000
DTSTAMP:20260422T030009
CREATED:20240307T001308Z
LAST-MODIFIED:20250805T024606Z
UID:68148-1754294400-1754348400@events.bridgeport.edu
SUMMARY:CAEP 2025 Accreditation Cycle February 2024 - August 2025
DESCRIPTION:
URL:https://events.bridgeport.edu/event/caep-2025-accreditation-cycle-february-2024-august-2025-359/
LOCATION:CARH 113 Campus: Main Campus
CATEGORIES:Academics
END:VEVENT
BEGIN:VEVENT
DTSTART;TZID=America/New_York:20250805T080000
DTEND;TZID=America/New_York:20250805T230000
DTSTAMP:20260422T030009
CREATED:20240307T001308Z
LAST-MODIFIED:20250806T024607Z
UID:68149-1754380800-1754434800@events.bridgeport.edu
SUMMARY:CAEP 2025 Accreditation Cycle February 2024 - August 2025
DESCRIPTION:
URL:https://events.bridgeport.edu/event/caep-2025-accreditation-cycle-february-2024-august-2025-360/
LOCATION:CARH 113 Campus: Main Campus
CATEGORIES:Academics
END:VEVENT
BEGIN:VEVENT
DTSTART;TZID=America/New_York:20250806T080000
DTEND;TZID=America/New_York:20250806T230000
DTSTAMP:20260422T030009
CREATED:20240307T001308Z
LAST-MODIFIED:20250807T024606Z
UID:68150-1754467200-1754521200@events.bridgeport.edu
SUMMARY:CAEP 2025 Accreditation Cycle February 2024 - August 2025
DESCRIPTION:
URL:https://events.bridgeport.edu/event/caep-2025-accreditation-cycle-february-2024-august-2025-361/
LOCATION:CARH 113 Campus: Main Campus
CATEGORIES:Academics
END:VEVENT
BEGIN:VEVENT
DTSTART;TZID=America/New_York:20250807T080000
DTEND;TZID=America/New_York:20250807T230000
DTSTAMP:20260422T030009
CREATED:20240307T001308Z
LAST-MODIFIED:20250808T014608Z
UID:68151-1754553600-1754607600@events.bridgeport.edu
SUMMARY:CAEP 2025 Accreditation Cycle February 2024 - August 2025
DESCRIPTION:
URL:https://events.bridgeport.edu/event/caep-2025-accreditation-cycle-february-2024-august-2025-362/
LOCATION:CARH 113 Campus: Main Campus
CATEGORIES:Academics
END:VEVENT
BEGIN:VEVENT
DTSTART;VALUE=DATE:20250808
DTEND;VALUE=DATE:20250809
DTSTAMP:20260422T030009
CREATED:20250127T182953Z
LAST-MODIFIED:20250127T183032Z
UID:104901-1754611200-1754697599@events.bridgeport.edu
SUMMARY:Last day to WITHDRAW from a 10-week course with academic and financial penalty (See refund policy)
DESCRIPTION:Last day to WITHDRAW from a 10-week course with academic and financial penalty (See refund policy)
URL:https://events.bridgeport.edu/event/summer-2025-last-day-to-withdraw-from-10-week-course-with-academic-and-financial-penalty/
CATEGORIES:Academics
END:VEVENT
BEGIN:VEVENT
DTSTART;TZID=America/New_York:20250808T080000
DTEND;TZID=America/New_York:20250808T230000
DTSTAMP:20260422T030009
CREATED:20240307T001309Z
LAST-MODIFIED:20250809T024608Z
UID:68152-1754640000-1754694000@events.bridgeport.edu
SUMMARY:CAEP 2025 Accreditation Cycle February 2024 - August 2025
DESCRIPTION:
URL:https://events.bridgeport.edu/event/caep-2025-accreditation-cycle-february-2024-august-2025-363/
LOCATION:CARH 113 Campus: Main Campus
CATEGORIES:Academics
END:VEVENT
BEGIN:VEVENT
DTSTART;VALUE=DATE:20250811
DTEND;VALUE=DATE:20250812
DTSTAMP:20260422T030009
CREATED:20240514T181524Z
LAST-MODIFIED:20240516T141507Z
UID:76060-1754870400-1754956799@events.bridgeport.edu
SUMMARY:Last day to WITHDRAW from a 15-week or second module course with academic and financial penalty
DESCRIPTION:See Refund Policy
URL:https://events.bridgeport.edu/event/summer-2025-last-day-withdraw-from-15-week-or-second-mod-course-with-academic-and-financial-penalty/
CATEGORIES:Academics
END:VEVENT
BEGIN:VEVENT
DTSTART;TZID=America/New_York:20250811T080000
DTEND;TZID=America/New_York:20250811T230000
DTSTAMP:20260422T030009
CREATED:20240307T001309Z
LAST-MODIFIED:20250812T021606Z
UID:68153-1754899200-1754953200@events.bridgeport.edu
SUMMARY:CAEP 2025 Accreditation Cycle February 2024 - August 2025
DESCRIPTION:
URL:https://events.bridgeport.edu/event/caep-2025-accreditation-cycle-february-2024-august-2025-364/
LOCATION:CARH 113 Campus: Main Campus
CATEGORIES:Academics
END:VEVENT
BEGIN:VEVENT
DTSTART;TZID=America/New_York:20250812T080000
DTEND;TZID=America/New_York:20250812T230000
DTSTAMP:20260422T030009
CREATED:20240307T001309Z
LAST-MODIFIED:20250813T014607Z
UID:68154-1754985600-1755039600@events.bridgeport.edu
SUMMARY:CAEP 2025 Accreditation Cycle February 2024 - August 2025
DESCRIPTION:
URL:https://events.bridgeport.edu/event/caep-2025-accreditation-cycle-february-2024-august-2025-365/
LOCATION:CARH 113 Campus: Main Campus
CATEGORIES:Academics
END:VEVENT
BEGIN:VEVENT
DTSTART;TZID=America/New_York:20250813T080000
DTEND;TZID=America/New_York:20250813T230000
DTSTAMP:20260422T030009
CREATED:20240307T001310Z
LAST-MODIFIED:20250814T024607Z
UID:68155-1755072000-1755126000@events.bridgeport.edu
SUMMARY:CAEP 2025 Accreditation Cycle February 2024 - August 2025
DESCRIPTION:
URL:https://events.bridgeport.edu/event/caep-2025-accreditation-cycle-february-2024-august-2025-366/
LOCATION:CARH 113 Campus: Main Campus
CATEGORIES:Academics
END:VEVENT
END:VCALENDAR