

BEGIN:VCALENDAR
VERSION:2.0
PRODID:-//Campus Events - ECPv6.15.20//NONSGML v1.0//EN
CALSCALE:GREGORIAN
METHOD:PUBLISH
X-WR-CALNAME:Campus Events
X-ORIGINAL-URL:https://events.bridgeport.edu
X-WR-CALDESC:Events for Campus Events
REFRESH-INTERVAL;VALUE=DURATION:PT1H
X-Robots-Tag:noindex
X-PUBLISHED-TTL:PT1H
BEGIN:VTIMEZONE
TZID:America/New_York
BEGIN:DAYLIGHT
TZOFFSETFROM:-0500
TZOFFSETTO:-0400
TZNAME:EDT
DTSTART:20240310T070000
END:DAYLIGHT
BEGIN:STANDARD
TZOFFSETFROM:-0400
TZOFFSETTO:-0500
TZNAME:EST
DTSTART:20241103T060000
END:STANDARD
BEGIN:DAYLIGHT
TZOFFSETFROM:-0500
TZOFFSETTO:-0400
TZNAME:EDT
DTSTART:20250309T070000
END:DAYLIGHT
BEGIN:STANDARD
TZOFFSETFROM:-0400
TZOFFSETTO:-0500
TZNAME:EST
DTSTART:20251102T060000
END:STANDARD
BEGIN:DAYLIGHT
TZOFFSETFROM:-0500
TZOFFSETTO:-0400
TZNAME:EDT
DTSTART:20260308T070000
END:DAYLIGHT
BEGIN:STANDARD
TZOFFSETFROM:-0400
TZOFFSETTO:-0500
TZNAME:EST
DTSTART:20261101T060000
END:STANDARD
END:VTIMEZONE
BEGIN:VEVENT
DTSTART;TZID=America/New_York:20250606T080000
DTEND;TZID=America/New_York:20250606T230000
DTSTAMP:20260421T235306
CREATED:20240307T001207Z
LAST-MODIFIED:20250607T014608Z
UID:68107-1749196800-1749250800@events.bridgeport.edu
SUMMARY:CAEP 2025 Accreditation Cycle February 2024 - August 2025
DESCRIPTION:
URL:https://events.bridgeport.edu/event/caep-2025-accreditation-cycle-february-2024-august-2025-318/
LOCATION:CARH 113 Campus: Main Campus
CATEGORIES:Academics
END:VEVENT
BEGIN:VEVENT
DTSTART;TZID=America/New_York:20250609T080000
DTEND;TZID=America/New_York:20250609T230000
DTSTAMP:20260421T235306
CREATED:20240307T001207Z
LAST-MODIFIED:20250610T021608Z
UID:68108-1749456000-1749510000@events.bridgeport.edu
SUMMARY:CAEP 2025 Accreditation Cycle February 2024 - August 2025
DESCRIPTION:
URL:https://events.bridgeport.edu/event/caep-2025-accreditation-cycle-february-2024-august-2025-319/
LOCATION:CARH 113 Campus: Main Campus
CATEGORIES:Academics
END:VEVENT
BEGIN:VEVENT
DTSTART;TZID=America/New_York:20250610T080000
DTEND;TZID=America/New_York:20250610T230000
DTSTAMP:20260421T235306
CREATED:20240307T001207Z
LAST-MODIFIED:20250611T014605Z
UID:68109-1749542400-1749596400@events.bridgeport.edu
SUMMARY:CAEP 2025 Accreditation Cycle February 2024 - August 2025
DESCRIPTION:
URL:https://events.bridgeport.edu/event/caep-2025-accreditation-cycle-february-2024-august-2025-320/
LOCATION:CARH 113 Campus: Main Campus
CATEGORIES:Academics
END:VEVENT
BEGIN:VEVENT
DTSTART;TZID=America/New_York:20250611T080000
DTEND;TZID=America/New_York:20250611T230000
DTSTAMP:20260421T235306
CREATED:20240307T001208Z
LAST-MODIFIED:20250612T014608Z
UID:68110-1749628800-1749682800@events.bridgeport.edu
SUMMARY:CAEP 2025 Accreditation Cycle February 2024 - August 2025
DESCRIPTION:
URL:https://events.bridgeport.edu/event/caep-2025-accreditation-cycle-february-2024-august-2025-321/
LOCATION:CARH 113 Campus: Main Campus
CATEGORIES:Academics
END:VEVENT
BEGIN:VEVENT
DTSTART;TZID=America/New_York:20250612T080000
DTEND;TZID=America/New_York:20250612T230000
DTSTAMP:20260421T235306
CREATED:20240307T001208Z
LAST-MODIFIED:20250613T014606Z
UID:68111-1749715200-1749769200@events.bridgeport.edu
SUMMARY:CAEP 2025 Accreditation Cycle February 2024 - August 2025
DESCRIPTION:
URL:https://events.bridgeport.edu/event/caep-2025-accreditation-cycle-february-2024-august-2025-322/
LOCATION:CARH 113 Campus: Main Campus
CATEGORIES:Academics
END:VEVENT
BEGIN:VEVENT
DTSTART;TZID=America/New_York:20250613T080000
DTEND;TZID=America/New_York:20250613T230000
DTSTAMP:20260421T235306
CREATED:20240307T001208Z
LAST-MODIFIED:20250614T024606Z
UID:68112-1749801600-1749855600@events.bridgeport.edu
SUMMARY:CAEP 2025 Accreditation Cycle February 2024 - August 2025
DESCRIPTION:
URL:https://events.bridgeport.edu/event/caep-2025-accreditation-cycle-february-2024-august-2025-323/
LOCATION:CARH 113 Campus: Main Campus
CATEGORIES:Academics
END:VEVENT
BEGIN:VEVENT
DTSTART;VALUE=DATE:20250615
DTEND;VALUE=DATE:20250616
DTSTAMP:20260421T235306
CREATED:20240514T181519Z
LAST-MODIFIED:20240514T212819Z
UID:76047-1749945600-1750031999@events.bridgeport.edu
SUMMARY:Last day to WITHDRAW from a first module course with academic and financial penalty
DESCRIPTION:See Refund Policy
URL:https://events.bridgeport.edu/event/summer-2025-last-day-to-withdraw-from-first-module-with-academic-and-financial-penalty/
CATEGORIES:Academics
END:VEVENT
BEGIN:VEVENT
DTSTART;VALUE=DATE:20250615
DTEND;VALUE=DATE:20250616
DTSTAMP:20260421T235306
CREATED:20250127T172135Z
LAST-MODIFIED:20250127T172738Z
UID:104883-1749945600-1750031999@events.bridgeport.edu
SUMMARY:Last day to WITHDRAW from a 10-week without academic and financial penalty (See refund policy)
DESCRIPTION:Last day to WITHDRAW from a 10-week without academic and financial penalty (See refund policy)
URL:https://events.bridgeport.edu/event/summer-2025-last-day-withdraw-from-10-week-wo-academic-and-financial-penalty/
CATEGORIES:Academics
END:VEVENT
BEGIN:VEVENT
DTSTART;VALUE=DATE:20250616
DTEND;VALUE=DATE:20250617
DTSTAMP:20260421T235306
CREATED:20250127T172507Z
LAST-MODIFIED:20250127T172807Z
UID:104885-1750032000-1750118399@events.bridgeport.edu
SUMMARY:Summer 10-week module starts
DESCRIPTION:Summer 10-week module starts
URL:https://events.bridgeport.edu/event/summer-2025-10-week-module-starts/
CATEGORIES:Academics
END:VEVENT
BEGIN:VEVENT
DTSTART;TZID=America/New_York:20250616T080000
DTEND;TZID=America/New_York:20250616T230000
DTSTAMP:20260421T235306
CREATED:20240307T001209Z
LAST-MODIFIED:20250616T171607Z
UID:68113-1750060800-1750114800@events.bridgeport.edu
SUMMARY:CAEP 2025 Accreditation Cycle February 2024 - August 2025
DESCRIPTION:
URL:https://events.bridgeport.edu/event/caep-2025-accreditation-cycle-february-2024-august-2025-324/
LOCATION:CARH 113 Campus: Main Campus
CATEGORIES:Academics
END:VEVENT
BEGIN:VEVENT
DTSTART;TZID=America/New_York:20250617T080000
DTEND;TZID=America/New_York:20250617T230000
DTSTAMP:20260421T235306
CREATED:20240307T001209Z
LAST-MODIFIED:20250618T024607Z
UID:68114-1750147200-1750201200@events.bridgeport.edu
SUMMARY:CAEP 2025 Accreditation Cycle February 2024 - August 2025
DESCRIPTION:
URL:https://events.bridgeport.edu/event/caep-2025-accreditation-cycle-february-2024-august-2025-325/
LOCATION:CARH 113 Campus: Main Campus
CATEGORIES:Academics
END:VEVENT
BEGIN:VEVENT
DTSTART;TZID=America/New_York:20250618T080000
DTEND;TZID=America/New_York:20250618T230000
DTSTAMP:20260421T235306
CREATED:20240307T001209Z
LAST-MODIFIED:20250618T174608Z
UID:68115-1750233600-1750287600@events.bridgeport.edu
SUMMARY:CAEP 2025 Accreditation Cycle February 2024 - August 2025
DESCRIPTION:
URL:https://events.bridgeport.edu/event/caep-2025-accreditation-cycle-february-2024-august-2025-326/
LOCATION:CARH 113 Campus: Main Campus
CATEGORIES:Academics
END:VEVENT
BEGIN:VEVENT
DTSTART;VALUE=DATE:20250619
DTEND;VALUE=DATE:20250620
DTSTAMP:20260421T235306
CREATED:20240514T181520Z
LAST-MODIFIED:20240516T140522Z
UID:76048-1750291200-1750377599@events.bridgeport.edu
SUMMARY:Juneteenth - No Classes - University Closed
DESCRIPTION:
URL:https://events.bridgeport.edu/event/juneteenth-no-classes-university-closed/
CATEGORIES:Academics
END:VEVENT
BEGIN:VEVENT
DTSTART;TZID=America/New_York:20250619T080000
DTEND;TZID=America/New_York:20250619T230000
DTSTAMP:20260421T235306
CREATED:20240307T001221Z
LAST-MODIFIED:20250620T024606Z
UID:68116-1750320000-1750374000@events.bridgeport.edu
SUMMARY:CAEP 2025 Accreditation Cycle February 2024 - August 2025
DESCRIPTION:
URL:https://events.bridgeport.edu/event/caep-2025-accreditation-cycle-february-2024-august-2025-327/
LOCATION:CARH 113 Campus: Main Campus
CATEGORIES:Academics
END:VEVENT
BEGIN:VEVENT
DTSTART;TZID=America/New_York:20250620T080000
DTEND;TZID=America/New_York:20250620T230000
DTSTAMP:20260421T235306
CREATED:20240307T001222Z
LAST-MODIFIED:20250621T024608Z
UID:68117-1750406400-1750460400@events.bridgeport.edu
SUMMARY:CAEP 2025 Accreditation Cycle February 2024 - August 2025
DESCRIPTION:
URL:https://events.bridgeport.edu/event/caep-2025-accreditation-cycle-february-2024-august-2025-328/
LOCATION:CARH 113 Campus: Main Campus
CATEGORIES:Academics
END:VEVENT
BEGIN:VEVENT
DTSTART;VALUE=DATE:20250623
DTEND;VALUE=DATE:20250628
DTSTAMP:20260421T235306
CREATED:20240514T181520Z
LAST-MODIFIED:20240516T140557Z
UID:76049-1750636800-1751068799@events.bridgeport.edu
SUMMARY:Mid-semester exam week (week 7 for 15-week courses)
DESCRIPTION:
URL:https://events.bridgeport.edu/event/mid-semester-exam-week-week-7-for-15-week-courses-2/
CATEGORIES:Academics
END:VEVENT
BEGIN:VEVENT
DTSTART;TZID=America/New_York:20250623T080000
DTEND;TZID=America/New_York:20250623T230000
DTSTAMP:20260421T235306
CREATED:20240307T001222Z
LAST-MODIFIED:20250624T014608Z
UID:68118-1750665600-1750719600@events.bridgeport.edu
SUMMARY:CAEP 2025 Accreditation Cycle February 2024 - August 2025
DESCRIPTION:
URL:https://events.bridgeport.edu/event/caep-2025-accreditation-cycle-february-2024-august-2025-329/
LOCATION:CARH 113 Campus: Main Campus
CATEGORIES:Academics
END:VEVENT
BEGIN:VEVENT
DTSTART;TZID=America/New_York:20250624T080000
DTEND;TZID=America/New_York:20250624T230000
DTSTAMP:20260421T235306
CREATED:20240307T001222Z
LAST-MODIFIED:20250625T024606Z
UID:68119-1750752000-1750806000@events.bridgeport.edu
SUMMARY:CAEP 2025 Accreditation Cycle February 2024 - August 2025
DESCRIPTION:
URL:https://events.bridgeport.edu/event/caep-2025-accreditation-cycle-february-2024-august-2025-330/
LOCATION:CARH 113 Campus: Main Campus
CATEGORIES:Academics
END:VEVENT
BEGIN:VEVENT
DTSTART;TZID=America/New_York:20250625T080000
DTEND;TZID=America/New_York:20250625T230000
DTSTAMP:20260421T235306
CREATED:20240307T001223Z
LAST-MODIFIED:20250626T024606Z
UID:68120-1750838400-1750892400@events.bridgeport.edu
SUMMARY:CAEP 2025 Accreditation Cycle February 2024 - August 2025
DESCRIPTION:
URL:https://events.bridgeport.edu/event/caep-2025-accreditation-cycle-february-2024-august-2025-331/
LOCATION:CARH 113 Campus: Main Campus
CATEGORIES:Academics
END:VEVENT
BEGIN:VEVENT
DTSTART;TZID=America/New_York:20250626T080000
DTEND;TZID=America/New_York:20250626T230000
DTSTAMP:20260421T235306
CREATED:20240307T001223Z
LAST-MODIFIED:20250627T014607Z
UID:68121-1750924800-1750978800@events.bridgeport.edu
SUMMARY:CAEP 2025 Accreditation Cycle February 2024 - August 2025
DESCRIPTION:
URL:https://events.bridgeport.edu/event/caep-2025-accreditation-cycle-february-2024-august-2025-332/
LOCATION:CARH 113 Campus: Main Campus
CATEGORIES:Academics
END:VEVENT
BEGIN:VEVENT
DTSTART;VALUE=DATE:20250627
DTEND;VALUE=DATE:20250628
DTSTAMP:20260421T235306
CREATED:20250127T172926Z
LAST-MODIFIED:20250127T173024Z
UID:104887-1750982400-1751068799@events.bridgeport.edu
SUMMARY:Last day to WITHDRAW from a 10-week course without academic penalty\, but with financial penalty (See refund policy)
DESCRIPTION:Last day to WITHDRAW from a 10-week course without academic penalty\, but with financial penalty (See refund policy)
URL:https://events.bridgeport.edu/event/summer-2025-last-day-to-withdraw-from-a-10-week-course-without-academic-penalty-but-with-financial-penalty/
CATEGORIES:Academics
END:VEVENT
BEGIN:VEVENT
DTSTART;VALUE=DATE:20250627
DTEND;VALUE=DATE:20250628
DTSTAMP:20260421T235306
CREATED:20250127T173200Z
LAST-MODIFIED:20250127T173327Z
UID:104889-1750982400-1751068799@events.bridgeport.edu
SUMMARY:Last day to elect pass/fail (10-week summer module)
DESCRIPTION:Last day to elect pass/fail (10-week summer module)
URL:https://events.bridgeport.edu/event/summer-2025-last-day-to-elect-pass-fail-10-week-module/
CATEGORIES:Academics
END:VEVENT
BEGIN:VEVENT
DTSTART;TZID=America/New_York:20250627T080000
DTEND;TZID=America/New_York:20250627T230000
DTSTAMP:20260421T235306
CREATED:20240307T001223Z
LAST-MODIFIED:20250628T024606Z
UID:68122-1751011200-1751065200@events.bridgeport.edu
SUMMARY:CAEP 2025 Accreditation Cycle February 2024 - August 2025
DESCRIPTION:
URL:https://events.bridgeport.edu/event/caep-2025-accreditation-cycle-february-2024-august-2025-333/
LOCATION:CARH 113 Campus: Main Campus
CATEGORIES:Academics
END:VEVENT
BEGIN:VEVENT
DTSTART;VALUE=DATE:20250629
DTEND;VALUE=DATE:20250630
DTSTAMP:20260421T235306
CREATED:20240514T181521Z
LAST-MODIFIED:20240516T140732Z
UID:76050-1751155200-1751241599@events.bridgeport.edu
SUMMARY:First module courses end
DESCRIPTION:
URL:https://events.bridgeport.edu/event/summer-2025-first-module-courses-end/
CATEGORIES:Academics
END:VEVENT
BEGIN:VEVENT
DTSTART;VALUE=DATE:20250629
DTEND;VALUE=DATE:20250630
DTSTAMP:20260421T235306
CREATED:20240514T181521Z
LAST-MODIFIED:20240516T140709Z
UID:76051-1751155200-1751241599@events.bridgeport.edu
SUMMARY:Last day to WITHDRAW from a second module course without academic and financial penalty (See refund policy)
DESCRIPTION:See Refund Policy
URL:https://events.bridgeport.edu/event/summer-2025-last-day-to-withdraw-from-second-mod-course-wo-academic-and-financial-penalty/
CATEGORIES:Academics
END:VEVENT
BEGIN:VEVENT
DTSTART;VALUE=DATE:20250630
DTEND;VALUE=DATE:20250701
DTSTAMP:20260421T235306
CREATED:20240514T181521Z
LAST-MODIFIED:20240516T140751Z
UID:76052-1751241600-1751327999@events.bridgeport.edu
SUMMARY:Final first module grades due
DESCRIPTION:
URL:https://events.bridgeport.edu/event/summer-2025-final-first-module-grades-due/
CATEGORIES:Academics
END:VEVENT
BEGIN:VEVENT
DTSTART;VALUE=DATE:20250630
DTEND;VALUE=DATE:20250701
DTSTAMP:20260421T235306
CREATED:20240514T181522Z
LAST-MODIFIED:20240516T140815Z
UID:76053-1751241600-1751327999@events.bridgeport.edu
SUMMARY:Mid-semester grades due (15-week courses)
DESCRIPTION:
URL:https://events.bridgeport.edu/event/summer-2025-mid-semester-grades-due-15-week-courses/
CATEGORIES:Academics
END:VEVENT
BEGIN:VEVENT
DTSTART;TZID=America/New_York:20250630T080000
DTEND;TZID=America/New_York:20250630T230000
DTSTAMP:20260421T235306
CREATED:20240307T001224Z
LAST-MODIFIED:20250701T024606Z
UID:68123-1751270400-1751324400@events.bridgeport.edu
SUMMARY:CAEP 2025 Accreditation Cycle February 2024 - August 2025
DESCRIPTION:
URL:https://events.bridgeport.edu/event/caep-2025-accreditation-cycle-february-2024-august-2025-334/
LOCATION:CARH 113 Campus: Main Campus
CATEGORIES:Academics
END:VEVENT
BEGIN:VEVENT
DTSTART;TZID=America/New_York:20250701T080000
DTEND;TZID=America/New_York:20250701T230000
DTSTAMP:20260421T235306
CREATED:20240307T001224Z
LAST-MODIFIED:20250702T021606Z
UID:68124-1751356800-1751410800@events.bridgeport.edu
SUMMARY:CAEP 2025 Accreditation Cycle February 2024 - August 2025
DESCRIPTION:
URL:https://events.bridgeport.edu/event/caep-2025-accreditation-cycle-february-2024-august-2025-335/
LOCATION:CARH 113 Campus: Main Campus
CATEGORIES:Academics
END:VEVENT
BEGIN:VEVENT
DTSTART;TZID=America/New_York:20250702T080000
DTEND;TZID=America/New_York:20250702T230000
DTSTAMP:20260421T235306
CREATED:20240307T001224Z
LAST-MODIFIED:20250703T024605Z
UID:68125-1751443200-1751497200@events.bridgeport.edu
SUMMARY:CAEP 2025 Accreditation Cycle February 2024 - August 2025
DESCRIPTION:
URL:https://events.bridgeport.edu/event/caep-2025-accreditation-cycle-february-2024-august-2025-336/
LOCATION:CARH 113 Campus: Main Campus
CATEGORIES:Academics
END:VEVENT
END:VCALENDAR