

BEGIN:VCALENDAR
VERSION:2.0
PRODID:-//Campus Events - ECPv6.15.20//NONSGML v1.0//EN
CALSCALE:GREGORIAN
METHOD:PUBLISH
X-WR-CALNAME:Campus Events
X-ORIGINAL-URL:https://events.bridgeport.edu
X-WR-CALDESC:Events for Campus Events
REFRESH-INTERVAL;VALUE=DURATION:PT1H
X-Robots-Tag:noindex
X-PUBLISHED-TTL:PT1H
BEGIN:VTIMEZONE
TZID:America/New_York
BEGIN:DAYLIGHT
TZOFFSETFROM:-0500
TZOFFSETTO:-0400
TZNAME:EDT
DTSTART:20240310T070000
END:DAYLIGHT
BEGIN:STANDARD
TZOFFSETFROM:-0400
TZOFFSETTO:-0500
TZNAME:EST
DTSTART:20241103T060000
END:STANDARD
BEGIN:DAYLIGHT
TZOFFSETFROM:-0500
TZOFFSETTO:-0400
TZNAME:EDT
DTSTART:20250309T070000
END:DAYLIGHT
BEGIN:STANDARD
TZOFFSETFROM:-0400
TZOFFSETTO:-0500
TZNAME:EST
DTSTART:20251102T060000
END:STANDARD
BEGIN:DAYLIGHT
TZOFFSETFROM:-0500
TZOFFSETTO:-0400
TZNAME:EDT
DTSTART:20260308T070000
END:DAYLIGHT
BEGIN:STANDARD
TZOFFSETFROM:-0400
TZOFFSETTO:-0500
TZNAME:EST
DTSTART:20261101T060000
END:STANDARD
END:VTIMEZONE
BEGIN:VEVENT
DTSTART;VALUE=DATE:20250512
DTEND;VALUE=DATE:20250513
DTSTAMP:20260421T203147
CREATED:20240514T181517Z
LAST-MODIFIED:20240514T194755Z
UID:76038-1747008000-1747094399@events.bridgeport.edu
SUMMARY:CHS 18-week courses begin
DESCRIPTION:
URL:https://events.bridgeport.edu/event/summer-2025-chs-18-week-courses-begin/
CATEGORIES:Academics
END:VEVENT
BEGIN:VEVENT
DTSTART;TZID=America/New_York:20250512T080000
DTEND;TZID=America/New_York:20250512T230000
DTSTAMP:20260421T203147
CREATED:20240307T001139Z
LAST-MODIFIED:20250513T014606Z
UID:68088-1747036800-1747090800@events.bridgeport.edu
SUMMARY:CAEP 2025 Accreditation Cycle February 2024 - August 2025
DESCRIPTION:
URL:https://events.bridgeport.edu/event/caep-2025-accreditation-cycle-february-2024-august-2025-299/
LOCATION:CARH 113 Campus: Main Campus
CATEGORIES:Academics
END:VEVENT
BEGIN:VEVENT
DTSTART;TZID=America/New_York:20250512T100000
DTEND;TZID=America/New_York:20250512T160000
DTSTAMP:20260421T203147
CREATED:20250208T000718Z
LAST-MODIFIED:20250512T194607Z
UID:106190-1747044000-1747065600@events.bridgeport.edu
SUMMARY:EIM Daily General Use - School of Engineering
DESCRIPTION:
URL:https://events.bridgeport.edu/event/eim-daily-general-use-school-of-engineering-52/
LOCATION:WAHL 613 Campus: Main Campus
CATEGORIES:Academics
END:VEVENT
BEGIN:VEVENT
DTSTART;TZID=America/New_York:20250513T080000
DTEND;TZID=America/New_York:20250513T230000
DTSTAMP:20260421T203147
CREATED:20240307T001139Z
LAST-MODIFIED:20250514T021606Z
UID:68089-1747123200-1747177200@events.bridgeport.edu
SUMMARY:CAEP 2025 Accreditation Cycle February 2024 - August 2025
DESCRIPTION:
URL:https://events.bridgeport.edu/event/caep-2025-accreditation-cycle-february-2024-august-2025-300/
LOCATION:CARH 113 Campus: Main Campus
CATEGORIES:Academics
END:VEVENT
BEGIN:VEVENT
DTSTART;TZID=America/New_York:20250513T100000
DTEND;TZID=America/New_York:20250513T160000
DTSTAMP:20260421T203147
CREATED:20250208T000718Z
LAST-MODIFIED:20250513T191606Z
UID:106191-1747130400-1747152000@events.bridgeport.edu
SUMMARY:EIM Daily General Use - School of Engineering
DESCRIPTION:
URL:https://events.bridgeport.edu/event/eim-daily-general-use-school-of-engineering-53/
LOCATION:WAHL 613 Campus: Main Campus
CATEGORIES:Academics
END:VEVENT
BEGIN:VEVENT
DTSTART;TZID=America/New_York:20250514T080000
DTEND;TZID=America/New_York:20250514T230000
DTSTAMP:20260421T203147
CREATED:20240307T001139Z
LAST-MODIFIED:20250515T024620Z
UID:68090-1747209600-1747263600@events.bridgeport.edu
SUMMARY:CAEP 2025 Accreditation Cycle February 2024 - August 2025
DESCRIPTION:
URL:https://events.bridgeport.edu/event/caep-2025-accreditation-cycle-february-2024-august-2025-301/
LOCATION:CARH 113 Campus: Main Campus
CATEGORIES:Academics
END:VEVENT
BEGIN:VEVENT
DTSTART;TZID=America/New_York:20250514T100000
DTEND;TZID=America/New_York:20250514T160000
DTSTAMP:20260421T203147
CREATED:20250208T000718Z
LAST-MODIFIED:20250514T194608Z
UID:106192-1747216800-1747238400@events.bridgeport.edu
SUMMARY:EIM Daily General Use - School of Engineering
DESCRIPTION:
URL:https://events.bridgeport.edu/event/eim-daily-general-use-school-of-engineering-54/
LOCATION:WAHL 613 Campus: Main Campus
CATEGORIES:Academics
END:VEVENT
BEGIN:VEVENT
DTSTART;TZID=America/New_York:20250515T080000
DTEND;TZID=America/New_York:20250515T230000
DTSTAMP:20260421T203147
CREATED:20240307T001140Z
LAST-MODIFIED:20250516T024606Z
UID:68091-1747296000-1747350000@events.bridgeport.edu
SUMMARY:CAEP 2025 Accreditation Cycle February 2024 - August 2025
DESCRIPTION:
URL:https://events.bridgeport.edu/event/caep-2025-accreditation-cycle-february-2024-august-2025-302/
LOCATION:CARH 113 Campus: Main Campus
CATEGORIES:Academics
END:VEVENT
BEGIN:VEVENT
DTSTART;TZID=America/New_York:20250516T080000
DTEND;TZID=America/New_York:20250516T230000
DTSTAMP:20260421T203147
CREATED:20240307T001140Z
LAST-MODIFIED:20250517T014608Z
UID:68092-1747382400-1747436400@events.bridgeport.edu
SUMMARY:CAEP 2025 Accreditation Cycle February 2024 - August 2025
DESCRIPTION:
URL:https://events.bridgeport.edu/event/caep-2025-accreditation-cycle-february-2024-august-2025-303/
LOCATION:CARH 113 Campus: Main Campus
CATEGORIES:Academics
END:VEVENT
BEGIN:VEVENT
DTSTART;TZID=America/New_York:20250516T100000
DTEND;TZID=America/New_York:20250516T130000
DTSTAMP:20260421T203147
CREATED:20250208T000718Z
LAST-MODIFIED:20250516T164609Z
UID:106193-1747389600-1747400400@events.bridgeport.edu
SUMMARY:EIM Daily General Use - School of Engineering
DESCRIPTION:
URL:https://events.bridgeport.edu/event/eim-daily-general-use-school-of-engineering-55/
LOCATION:WAHL 613 Campus: Main Campus
CATEGORIES:Academics
END:VEVENT
BEGIN:VEVENT
DTSTART;VALUE=DATE:20250518
DTEND;VALUE=DATE:20250519
DTSTAMP:20260421T203147
CREATED:20240514T181517Z
LAST-MODIFIED:20240514T212351Z
UID:76039-1747526400-1747612799@events.bridgeport.edu
SUMMARY:Last day to ADD a 15-week or first module course
DESCRIPTION:
URL:https://events.bridgeport.edu/event/summer-2025-last-day-to-add-15-week-or-first-mod/
CATEGORIES:Academics
END:VEVENT
BEGIN:VEVENT
DTSTART;TZID=America/New_York:20250519T080000
DTEND;TZID=America/New_York:20250519T230000
DTSTAMP:20260421T203147
CREATED:20240307T001140Z
LAST-MODIFIED:20250520T014607Z
UID:68093-1747641600-1747695600@events.bridgeport.edu
SUMMARY:CAEP 2025 Accreditation Cycle February 2024 - August 2025
DESCRIPTION:
URL:https://events.bridgeport.edu/event/caep-2025-accreditation-cycle-february-2024-august-2025-304/
LOCATION:CARH 113 Campus: Main Campus
CATEGORIES:Academics
END:VEVENT
BEGIN:VEVENT
DTSTART;TZID=America/New_York:20250519T100000
DTEND;TZID=America/New_York:20250519T160000
DTSTAMP:20260421T203147
CREATED:20250208T000718Z
LAST-MODIFIED:20250519T191608Z
UID:106194-1747648800-1747670400@events.bridgeport.edu
SUMMARY:EIM Daily General Use - School of Engineering
DESCRIPTION:
URL:https://events.bridgeport.edu/event/eim-daily-general-use-school-of-engineering-56/
LOCATION:WAHL 613 Campus: Main Campus
CATEGORIES:Academics
END:VEVENT
BEGIN:VEVENT
DTSTART;TZID=America/New_York:20250520T080000
DTEND;TZID=America/New_York:20250520T230000
DTSTAMP:20260421T203147
CREATED:20240307T001140Z
LAST-MODIFIED:20250521T014609Z
UID:68094-1747728000-1747782000@events.bridgeport.edu
SUMMARY:CAEP 2025 Accreditation Cycle February 2024 - August 2025
DESCRIPTION:
URL:https://events.bridgeport.edu/event/caep-2025-accreditation-cycle-february-2024-august-2025-305/
LOCATION:CARH 113 Campus: Main Campus
CATEGORIES:Academics
END:VEVENT
BEGIN:VEVENT
DTSTART;TZID=America/New_York:20250520T100000
DTEND;TZID=America/New_York:20250520T160000
DTSTAMP:20260421T203147
CREATED:20250208T000730Z
LAST-MODIFIED:20250520T191610Z
UID:106195-1747735200-1747756800@events.bridgeport.edu
SUMMARY:EIM Daily General Use - School of Engineering
DESCRIPTION:
URL:https://events.bridgeport.edu/event/eim-daily-general-use-school-of-engineering-57/
LOCATION:WAHL 613 Campus: Main Campus
CATEGORIES:Academics
END:VEVENT
BEGIN:VEVENT
DTSTART;TZID=America/New_York:20250521T080000
DTEND;TZID=America/New_York:20250521T230000
DTSTAMP:20260421T203147
CREATED:20240307T001141Z
LAST-MODIFIED:20250522T024607Z
UID:68095-1747814400-1747868400@events.bridgeport.edu
SUMMARY:CAEP 2025 Accreditation Cycle February 2024 - August 2025
DESCRIPTION:
URL:https://events.bridgeport.edu/event/caep-2025-accreditation-cycle-february-2024-august-2025-306/
LOCATION:CARH 113 Campus: Main Campus
CATEGORIES:Academics
END:VEVENT
BEGIN:VEVENT
DTSTART;TZID=America/New_York:20250521T100000
DTEND;TZID=America/New_York:20250521T160000
DTSTAMP:20260421T203147
CREATED:20250208T000730Z
LAST-MODIFIED:20250521T194606Z
UID:106196-1747821600-1747843200@events.bridgeport.edu
SUMMARY:EIM Daily General Use - School of Engineering
DESCRIPTION:
URL:https://events.bridgeport.edu/event/eim-daily-general-use-school-of-engineering-58/
LOCATION:WAHL 613 Campus: Main Campus
CATEGORIES:Academics
END:VEVENT
BEGIN:VEVENT
DTSTART;TZID=America/New_York:20250522T080000
DTEND;TZID=America/New_York:20250522T230000
DTSTAMP:20260421T203147
CREATED:20240307T001152Z
LAST-MODIFIED:20250523T024605Z
UID:68096-1747900800-1747954800@events.bridgeport.edu
SUMMARY:CAEP 2025 Accreditation Cycle February 2024 - August 2025
DESCRIPTION:
URL:https://events.bridgeport.edu/event/caep-2025-accreditation-cycle-february-2024-august-2025-307/
LOCATION:CARH 113 Campus: Main Campus
CATEGORIES:Academics
END:VEVENT
BEGIN:VEVENT
DTSTART;VALUE=DATE:20250523
DTEND;VALUE=DATE:20250524
DTSTAMP:20260421T203147
CREATED:20240514T181517Z
LAST-MODIFIED:20250127T183317Z
UID:76040-1747958400-1748044799@events.bridgeport.edu
SUMMARY:Last day to elect pass/fail  (15-week courses)
DESCRIPTION:
URL:https://events.bridgeport.edu/event/summer-2025-last-day-to-elect-pass-fail/
CATEGORIES:Academics
END:VEVENT
BEGIN:VEVENT
DTSTART;TZID=America/New_York:20250523T080000
DTEND;TZID=America/New_York:20250523T230000
DTSTAMP:20260421T203147
CREATED:20240307T001152Z
LAST-MODIFIED:20250524T024606Z
UID:68097-1747987200-1748041200@events.bridgeport.edu
SUMMARY:CAEP 2025 Accreditation Cycle February 2024 - August 2025
DESCRIPTION:
URL:https://events.bridgeport.edu/event/caep-2025-accreditation-cycle-february-2024-august-2025-308/
LOCATION:CARH 113 Campus: Main Campus
CATEGORIES:Academics
END:VEVENT
BEGIN:VEVENT
DTSTART;TZID=America/New_York:20250523T100000
DTEND;TZID=America/New_York:20250523T130000
DTSTAMP:20260421T203147
CREATED:20250208T000730Z
LAST-MODIFIED:20250523T154607Z
UID:106197-1747994400-1748005200@events.bridgeport.edu
SUMMARY:EIM Daily General Use - School of Engineering
DESCRIPTION:
URL:https://events.bridgeport.edu/event/eim-daily-general-use-school-of-engineering-59/
LOCATION:WAHL 613 Campus: Main Campus
CATEGORIES:Academics
END:VEVENT
BEGIN:VEVENT
DTSTART;VALUE=DATE:20250525
DTEND;VALUE=DATE:20250526
DTSTAMP:20260421T203147
CREATED:20240514T181517Z
LAST-MODIFIED:20250430T132506Z
UID:76041-1748131200-1748217599@events.bridgeport.edu
SUMMARY:Last day to ADD a 15-week course (for instructor approved courses only)
DESCRIPTION:
URL:https://events.bridgeport.edu/event/summer-2025-last-day-to-add-15-week-course-approved-courses-only/
CATEGORIES:Academics
END:VEVENT
BEGIN:VEVENT
DTSTART;VALUE=DATE:20250526
DTEND;VALUE=DATE:20250527
DTSTAMP:20260421T203147
CREATED:20240514T181517Z
LAST-MODIFIED:20240514T212549Z
UID:76042-1748217600-1748303999@events.bridgeport.edu
SUMMARY:Memorial Day - No classes - University is closed
DESCRIPTION:
URL:https://events.bridgeport.edu/event/summer-2025-memorial-day-no-classes-university-closed/
CATEGORIES:Academics
END:VEVENT
BEGIN:VEVENT
DTSTART;TZID=America/New_York:20250526T080000
DTEND;TZID=America/New_York:20250526T230000
DTSTAMP:20260421T203147
CREATED:20240307T001152Z
LAST-MODIFIED:20250527T024608Z
UID:68098-1748246400-1748300400@events.bridgeport.edu
SUMMARY:CAEP 2025 Accreditation Cycle February 2024 - August 2025
DESCRIPTION:
URL:https://events.bridgeport.edu/event/caep-2025-accreditation-cycle-february-2024-august-2025-309/
LOCATION:CARH 113 Campus: Main Campus
CATEGORIES:Academics
END:VEVENT
BEGIN:VEVENT
DTSTART;TZID=America/New_York:20250526T100000
DTEND;TZID=America/New_York:20250526T160000
DTSTAMP:20260421T203147
CREATED:20250208T000730Z
LAST-MODIFIED:20250526T194607Z
UID:106198-1748253600-1748275200@events.bridgeport.edu
SUMMARY:EIM Daily General Use - School of Engineering
DESCRIPTION:
URL:https://events.bridgeport.edu/event/eim-daily-general-use-school-of-engineering-60/
LOCATION:WAHL 613 Campus: Main Campus
CATEGORIES:Academics
END:VEVENT
BEGIN:VEVENT
DTSTART;VALUE=DATE:20250527
DTEND;VALUE=DATE:20250528
DTSTAMP:20260421T203147
CREATED:20240514T181518Z
LAST-MODIFIED:20240514T212639Z
UID:76043-1748304000-1748390399@events.bridgeport.edu
SUMMARY:Last day to WITHDRAW from a 15-week or first module course without academic penalty\, but with financial penalty
DESCRIPTION:See Refund Policy
URL:https://events.bridgeport.edu/event/summer-2025-last-day-to-withdraw-from-15-week-or-first-mod-wo-academic-penalty-but-with-financial-penalty/
CATEGORIES:Academics
END:VEVENT
BEGIN:VEVENT
DTSTART;VALUE=DATE:20250527
DTEND;VALUE=DATE:20250528
DTSTAMP:20260421T203147
CREATED:20240514T181518Z
LAST-MODIFIED:20240514T212517Z
UID:76044-1748304000-1748390399@events.bridgeport.edu
SUMMARY:Faculty census day (15-week and first module courses)
DESCRIPTION:
URL:https://events.bridgeport.edu/event/summer-2025-faculty-census-day-15-week-first-mod-2/
CATEGORIES:Academics
END:VEVENT
BEGIN:VEVENT
DTSTART;TZID=America/New_York:20250527T080000
DTEND;TZID=America/New_York:20250527T230000
DTSTAMP:20260421T203147
CREATED:20240307T001153Z
LAST-MODIFIED:20250528T024607Z
UID:68099-1748332800-1748386800@events.bridgeport.edu
SUMMARY:CAEP 2025 Accreditation Cycle February 2024 - August 2025
DESCRIPTION:
URL:https://events.bridgeport.edu/event/caep-2025-accreditation-cycle-february-2024-august-2025-310/
LOCATION:CARH 113 Campus: Main Campus
CATEGORIES:Academics
END:VEVENT
BEGIN:VEVENT
DTSTART;TZID=America/New_York:20250527T100000
DTEND;TZID=America/New_York:20250527T160000
DTSTAMP:20260421T203147
CREATED:20250208T000743Z
LAST-MODIFIED:20250527T194607Z
UID:106199-1748340000-1748361600@events.bridgeport.edu
SUMMARY:EIM Daily General Use - School of Engineering
DESCRIPTION:
URL:https://events.bridgeport.edu/event/eim-daily-general-use-school-of-engineering-61/
LOCATION:WAHL 613 Campus: Main Campus
CATEGORIES:Academics
END:VEVENT
BEGIN:VEVENT
DTSTART;TZID=America/New_York:20250528T080000
DTEND;TZID=America/New_York:20250528T230000
DTSTAMP:20260421T203147
CREATED:20240307T001153Z
LAST-MODIFIED:20250529T024606Z
UID:68100-1748419200-1748473200@events.bridgeport.edu
SUMMARY:CAEP 2025 Accreditation Cycle February 2024 - August 2025
DESCRIPTION:
URL:https://events.bridgeport.edu/event/caep-2025-accreditation-cycle-february-2024-august-2025-311/
LOCATION:CARH 113 Campus: Main Campus
CATEGORIES:Academics
END:VEVENT
END:VCALENDAR