

BEGIN:VCALENDAR
VERSION:2.0
PRODID:-//Campus Events - ECPv6.15.20//NONSGML v1.0//EN
CALSCALE:GREGORIAN
METHOD:PUBLISH
X-WR-CALNAME:Campus Events
X-ORIGINAL-URL:https://events.bridgeport.edu
X-WR-CALDESC:Events for Campus Events
REFRESH-INTERVAL;VALUE=DURATION:PT1H
X-Robots-Tag:noindex
X-PUBLISHED-TTL:PT1H
BEGIN:VTIMEZONE
TZID:America/New_York
BEGIN:DAYLIGHT
TZOFFSETFROM:-0500
TZOFFSETTO:-0400
TZNAME:EDT
DTSTART:20240310T070000
END:DAYLIGHT
BEGIN:STANDARD
TZOFFSETFROM:-0400
TZOFFSETTO:-0500
TZNAME:EST
DTSTART:20241103T060000
END:STANDARD
BEGIN:DAYLIGHT
TZOFFSETFROM:-0500
TZOFFSETTO:-0400
TZNAME:EDT
DTSTART:20250309T070000
END:DAYLIGHT
BEGIN:STANDARD
TZOFFSETFROM:-0400
TZOFFSETTO:-0500
TZNAME:EST
DTSTART:20251102T060000
END:STANDARD
BEGIN:DAYLIGHT
TZOFFSETFROM:-0500
TZOFFSETTO:-0400
TZNAME:EDT
DTSTART:20260308T070000
END:DAYLIGHT
BEGIN:STANDARD
TZOFFSETFROM:-0400
TZOFFSETTO:-0500
TZNAME:EST
DTSTART:20261101T060000
END:STANDARD
END:VTIMEZONE
BEGIN:VEVENT
DTSTART;TZID=America/New_York:20250505T100000
DTEND;TZID=America/New_York:20250505T160000
DTSTAMP:20260421T184908
CREATED:20250208T000654Z
LAST-MODIFIED:20250505T184608Z
UID:106186-1746439200-1746460800@events.bridgeport.edu
SUMMARY:EIM Daily General Use - School of Engineering
DESCRIPTION:
URL:https://events.bridgeport.edu/event/eim-daily-general-use-school-of-engineering-48/
LOCATION:WAHL 613 Campus: Main Campus
CATEGORIES:Academics
END:VEVENT
BEGIN:VEVENT
DTSTART;TZID=America/New_York:20250506T080000
DTEND;TZID=America/New_York:20250506T160000
DTSTAMP:20260421T184908
CREATED:20250402T164923Z
LAST-MODIFIED:20250506T184609Z
UID:111814-1746518400-1746547200@events.bridgeport.edu
SUMMARY:UBSN ADN Program Bootcamp
DESCRIPTION:
URL:https://events.bridgeport.edu/event/ubsn-adn-program-bootcamp-2/
LOCATION:MAN 104 Campus: Main Campus\, 230 Park Avenue\, Bridgeport\, CT\, 06604\, United States
CATEGORIES:Academics
END:VEVENT
BEGIN:VEVENT
DTSTART;TZID=America/New_York:20250506T080000
DTEND;TZID=America/New_York:20250506T230000
DTSTAMP:20260421T184908
CREATED:20240307T001127Z
LAST-MODIFIED:20250507T024606Z
UID:68084-1746518400-1746572400@events.bridgeport.edu
SUMMARY:CAEP 2025 Accreditation Cycle February 2024 - August 2025
DESCRIPTION:
URL:https://events.bridgeport.edu/event/caep-2025-accreditation-cycle-february-2024-august-2025-295/
LOCATION:CARH 113 Campus: Main Campus
CATEGORIES:Academics
END:VEVENT
BEGIN:VEVENT
DTSTART;TZID=America/New_York:20250506T090000
DTEND;TZID=America/New_York:20250506T170000
DTSTAMP:20260421T184908
CREATED:20250129T013519Z
LAST-MODIFIED:20250130T025024Z
UID:105055-1746522000-1746550800@events.bridgeport.edu
SUMMARY:Accreditation Site Visit - Nutrition Institute
DESCRIPTION:
URL:https://events.bridgeport.edu/event/accreditation-site-visit-nutrition-institute-2/
LOCATION:WAHL 500D Campus: Main Campus\, 126 Park Avenue\, Bridgeport\, CT\, 06604\, United States
CATEGORIES:Academics
END:VEVENT
BEGIN:VEVENT
DTSTART;TZID=America/New_York:20250506T090000
DTEND;TZID=America/New_York:20250506T170000
DTSTAMP:20260421T184908
CREATED:20250130T040513Z
LAST-MODIFIED:20250506T201608Z
UID:105173-1746522000-1746550800@events.bridgeport.edu
SUMMARY:Accreditation Site Visit - Nutrition Institute
DESCRIPTION:
URL:https://events.bridgeport.edu/event/accreditation-site-visit-nutrition-institute-4/
LOCATION:WAHL Conference Room Campus: Main Campus\, 126 Park Avenue\, Bridgeport\, CT\, 06604\, United States
CATEGORIES:Academics
END:VEVENT
BEGIN:VEVENT
DTSTART;TZID=America/New_York:20250506T090000
DTEND;TZID=America/New_York:20250506T170000
DTSTAMP:20260421T184908
CREATED:20250402T164923Z
LAST-MODIFIED:20250506T201608Z
UID:111812-1746522000-1746550800@events.bridgeport.edu
SUMMARY:Accreditation Site Visit - Nutrition Institute
DESCRIPTION:
URL:https://events.bridgeport.edu/event/accreditation-site-visit-nutrition-institute-6/
LOCATION:WAHL 500D Campus: Main Campus\, 126 Park Avenue\, Bridgeport\, CT\, 06604\, United States
CATEGORIES:Academics
END:VEVENT
BEGIN:VEVENT
DTSTART;TZID=America/New_York:20250506T100000
DTEND;TZID=America/New_York:20250506T160000
DTSTAMP:20260421T184908
CREATED:20250208T000706Z
LAST-MODIFIED:20250506T184609Z
UID:106187-1746525600-1746547200@events.bridgeport.edu
SUMMARY:EIM Daily General Use - School of Engineering
DESCRIPTION:
URL:https://events.bridgeport.edu/event/eim-daily-general-use-school-of-engineering-49/
LOCATION:WAHL 613 Campus: Main Campus
CATEGORIES:Academics
END:VEVENT
BEGIN:VEVENT
DTSTART;TZID=America/New_York:20250507T080000
DTEND;TZID=America/New_York:20250507T160000
DTSTAMP:20260421T184908
CREATED:20250402T164935Z
LAST-MODIFIED:20250507T194606Z
UID:111816-1746604800-1746633600@events.bridgeport.edu
SUMMARY:UBSN ADN Program Bootcamp
DESCRIPTION:
URL:https://events.bridgeport.edu/event/ubsn-adn-program-bootcamp-3/
LOCATION:MAN 104 Campus: Main Campus\, 230 Park Avenue\, Bridgeport\, CT\, 06604\, United States
CATEGORIES:Academics
END:VEVENT
BEGIN:VEVENT
DTSTART;TZID=America/New_York:20250507T080000
DTEND;TZID=America/New_York:20250507T230000
DTSTAMP:20260421T184908
CREATED:20240307T001127Z
LAST-MODIFIED:20250508T014609Z
UID:68085-1746604800-1746658800@events.bridgeport.edu
SUMMARY:CAEP 2025 Accreditation Cycle February 2024 - August 2025
DESCRIPTION:
URL:https://events.bridgeport.edu/event/caep-2025-accreditation-cycle-february-2024-august-2025-296/
LOCATION:CARH 113 Campus: Main Campus
CATEGORIES:Academics
END:VEVENT
BEGIN:VEVENT
DTSTART;TZID=America/New_York:20250507T100000
DTEND;TZID=America/New_York:20250507T160000
DTSTAMP:20260421T184908
CREATED:20250208T000706Z
LAST-MODIFIED:20250507T194606Z
UID:106188-1746612000-1746633600@events.bridgeport.edu
SUMMARY:EIM Daily General Use - School of Engineering
DESCRIPTION:
URL:https://events.bridgeport.edu/event/eim-daily-general-use-school-of-engineering-50/
LOCATION:WAHL 613 Campus: Main Campus
CATEGORIES:Academics
END:VEVENT
BEGIN:VEVENT
DTSTART;TZID=America/New_York:20250508T080000
DTEND;TZID=America/New_York:20250508T230000
DTSTAMP:20260421T184908
CREATED:20240307T001138Z
LAST-MODIFIED:20250509T024608Z
UID:68086-1746691200-1746745200@events.bridgeport.edu
SUMMARY:CAEP 2025 Accreditation Cycle February 2024 - August 2025
DESCRIPTION:
URL:https://events.bridgeport.edu/event/caep-2025-accreditation-cycle-february-2024-august-2025-297/
LOCATION:CARH 113 Campus: Main Campus
CATEGORIES:Academics
END:VEVENT
BEGIN:VEVENT
DTSTART;TZID=America/New_York:20250508T083000
DTEND;TZID=America/New_York:20250508T153000
DTSTAMP:20260421T184908
CREATED:20240717T163825Z
LAST-MODIFIED:20241127T123547Z
UID:83108-1746693000-1746718200@events.bridgeport.edu
SUMMARY:Faculty Development Day 2025
DESCRIPTION:
URL:https://events.bridgeport.edu/event/faculty-development-day-2025/
LOCATION:JCSC KNIGHT S1 – Social Room Campus: Main Campus
CATEGORIES:Academics
END:VEVENT
BEGIN:VEVENT
DTSTART;TZID=America/New_York:20250508T083000
DTEND;TZID=America/New_York:20250508T160000
DTSTAMP:20260421T184908
CREATED:20241127T135043Z
LAST-MODIFIED:20250402T153423Z
UID:98359-1746693000-1746720000@events.bridgeport.edu
SUMMARY:Faculty Development Day 2025
DESCRIPTION:
URL:https://events.bridgeport.edu/event/faculty-development-day-2025-2/
LOCATION:JCSC KNIGHT S1 – Social Room Campus: Main Campus
CATEGORIES:Academics
END:VEVENT
BEGIN:VEVENT
DTSTART;TZID=America/New_York:20250508T083000
DTEND;TZID=America/New_York:20250508T160000
DTSTAMP:20260421T184908
CREATED:20250402T164935Z
LAST-MODIFIED:20250508T194607Z
UID:111817-1746693000-1746720000@events.bridgeport.edu
SUMMARY:Faculty Development Day 2025
DESCRIPTION:
URL:https://events.bridgeport.edu/event/faculty-development-day-2025-3/
LOCATION:ABC 118 Campus: Main Campus\, 84 Iranistan Avenue\, Bridgeport\, CT\, 06604\, United States
CATEGORIES:Academics
END:VEVENT
BEGIN:VEVENT
DTSTART;TZID=America/New_York:20250509T080000
DTEND;TZID=America/New_York:20250509T230000
DTSTAMP:20260421T184908
CREATED:20240307T001139Z
LAST-MODIFIED:20250510T024606Z
UID:68087-1746777600-1746831600@events.bridgeport.edu
SUMMARY:CAEP 2025 Accreditation Cycle February 2024 - August 2025
DESCRIPTION:
URL:https://events.bridgeport.edu/event/caep-2025-accreditation-cycle-february-2024-august-2025-298/
LOCATION:CARH 113 Campus: Main Campus
CATEGORIES:Academics
END:VEVENT
BEGIN:VEVENT
DTSTART;TZID=America/New_York:20250509T100000
DTEND;TZID=America/New_York:20250509T130000
DTSTAMP:20260421T184908
CREATED:20250208T000706Z
LAST-MODIFIED:20250509T164608Z
UID:106189-1746784800-1746795600@events.bridgeport.edu
SUMMARY:EIM Daily General Use - School of Engineering
DESCRIPTION:
URL:https://events.bridgeport.edu/event/eim-daily-general-use-school-of-engineering-51/
LOCATION:WAHL 613 Campus: Main Campus
CATEGORIES:Academics
END:VEVENT
BEGIN:VEVENT
DTSTART;VALUE=DATE:20250511
DTEND;VALUE=DATE:20250512
DTSTAMP:20260421T184908
CREATED:20240514T181515Z
LAST-MODIFIED:20240514T194633Z
UID:76034-1746921600-1747007999@events.bridgeport.edu
SUMMARY:Last Day to WITHDRAW from 15-week or first module courses without academic and financial penalty
DESCRIPTION:See Refund Policy
URL:https://events.bridgeport.edu/event/summer-2025-last-day-to-withdraw-from-15-week-or-first-mod-courses-wo-academic-and-financial-penalty/
LOCATION:CT
CATEGORIES:Academics
END:VEVENT
BEGIN:VEVENT
DTSTART;VALUE=DATE:20250511
DTEND;VALUE=DATE:20250512
DTSTAMP:20260421T184908
CREATED:20240514T181515Z
LAST-MODIFIED:20240514T194559Z
UID:76035-1746921600-1747007999@events.bridgeport.edu
SUMMARY:Last day to WITHDRAW from an 18-week course (Chiropractic and Acupuncture) without academic penalty and financial penalty
DESCRIPTION:See Refund Policy
URL:https://events.bridgeport.edu/event/summer-2025-last-day-to-withdraw-from-18-week-course-wo-academic-penalty-and-financial-penalty/
LOCATION:CT
CATEGORIES:Academics
END:VEVENT
BEGIN:VEVENT
DTSTART;VALUE=DATE:20250512
DTEND;VALUE=DATE:20250513
DTSTAMP:20260421T184908
CREATED:20240514T181515Z
LAST-MODIFIED:20240514T212412Z
UID:76036-1747008000-1747094399@events.bridgeport.edu
SUMMARY:Faculty return to campus (CHS 18-week Acupuncture and Chiropractic courses)
DESCRIPTION:
URL:https://events.bridgeport.edu/event/summer-2025-faculty-return-to-campus-chs-18-week/
LOCATION:CT
CATEGORIES:Academics
END:VEVENT
BEGIN:VEVENT
DTSTART;VALUE=DATE:20250512
DTEND;VALUE=DATE:20250513
DTSTAMP:20260421T184908
CREATED:20240514T181515Z
LAST-MODIFIED:20240514T194806Z
UID:76037-1747008000-1747094399@events.bridgeport.edu
SUMMARY:Summer (15-week) semester and first module (7-week) courses begin
DESCRIPTION:
URL:https://events.bridgeport.edu/event/summer-2025-15-week-semester-and-first-module-7-week-courses-begin/
LOCATION:CT
CATEGORIES:Academics
END:VEVENT
BEGIN:VEVENT
DTSTART;VALUE=DATE:20250512
DTEND;VALUE=DATE:20250513
DTSTAMP:20260421T184908
CREATED:20240514T181517Z
LAST-MODIFIED:20240514T194755Z
UID:76038-1747008000-1747094399@events.bridgeport.edu
SUMMARY:CHS 18-week courses begin
DESCRIPTION:
URL:https://events.bridgeport.edu/event/summer-2025-chs-18-week-courses-begin/
LOCATION:CT
CATEGORIES:Academics
END:VEVENT
BEGIN:VEVENT
DTSTART;TZID=America/New_York:20250512T080000
DTEND;TZID=America/New_York:20250512T230000
DTSTAMP:20260421T184908
CREATED:20240307T001139Z
LAST-MODIFIED:20250513T014606Z
UID:68088-1747036800-1747090800@events.bridgeport.edu
SUMMARY:CAEP 2025 Accreditation Cycle February 2024 - August 2025
DESCRIPTION:
URL:https://events.bridgeport.edu/event/caep-2025-accreditation-cycle-february-2024-august-2025-299/
LOCATION:CARH 113 Campus: Main Campus
CATEGORIES:Academics
END:VEVENT
BEGIN:VEVENT
DTSTART;TZID=America/New_York:20250512T100000
DTEND;TZID=America/New_York:20250512T160000
DTSTAMP:20260421T184908
CREATED:20250208T000718Z
LAST-MODIFIED:20250512T194607Z
UID:106190-1747044000-1747065600@events.bridgeport.edu
SUMMARY:EIM Daily General Use - School of Engineering
DESCRIPTION:
URL:https://events.bridgeport.edu/event/eim-daily-general-use-school-of-engineering-52/
LOCATION:WAHL 613 Campus: Main Campus
CATEGORIES:Academics
END:VEVENT
BEGIN:VEVENT
DTSTART;TZID=America/New_York:20250513T080000
DTEND;TZID=America/New_York:20250513T230000
DTSTAMP:20260421T184908
CREATED:20240307T001139Z
LAST-MODIFIED:20250514T021606Z
UID:68089-1747123200-1747177200@events.bridgeport.edu
SUMMARY:CAEP 2025 Accreditation Cycle February 2024 - August 2025
DESCRIPTION:
URL:https://events.bridgeport.edu/event/caep-2025-accreditation-cycle-february-2024-august-2025-300/
LOCATION:CARH 113 Campus: Main Campus
CATEGORIES:Academics
END:VEVENT
BEGIN:VEVENT
DTSTART;TZID=America/New_York:20250513T100000
DTEND;TZID=America/New_York:20250513T160000
DTSTAMP:20260421T184908
CREATED:20250208T000718Z
LAST-MODIFIED:20250513T191606Z
UID:106191-1747130400-1747152000@events.bridgeport.edu
SUMMARY:EIM Daily General Use - School of Engineering
DESCRIPTION:
URL:https://events.bridgeport.edu/event/eim-daily-general-use-school-of-engineering-53/
LOCATION:WAHL 613 Campus: Main Campus
CATEGORIES:Academics
END:VEVENT
BEGIN:VEVENT
DTSTART;TZID=America/New_York:20250514T080000
DTEND;TZID=America/New_York:20250514T230000
DTSTAMP:20260421T184908
CREATED:20240307T001139Z
LAST-MODIFIED:20250515T024620Z
UID:68090-1747209600-1747263600@events.bridgeport.edu
SUMMARY:CAEP 2025 Accreditation Cycle February 2024 - August 2025
DESCRIPTION:
URL:https://events.bridgeport.edu/event/caep-2025-accreditation-cycle-february-2024-august-2025-301/
LOCATION:CARH 113 Campus: Main Campus
CATEGORIES:Academics
END:VEVENT
BEGIN:VEVENT
DTSTART;TZID=America/New_York:20250514T100000
DTEND;TZID=America/New_York:20250514T160000
DTSTAMP:20260421T184908
CREATED:20250208T000718Z
LAST-MODIFIED:20250514T194608Z
UID:106192-1747216800-1747238400@events.bridgeport.edu
SUMMARY:EIM Daily General Use - School of Engineering
DESCRIPTION:
URL:https://events.bridgeport.edu/event/eim-daily-general-use-school-of-engineering-54/
LOCATION:WAHL 613 Campus: Main Campus
CATEGORIES:Academics
END:VEVENT
BEGIN:VEVENT
DTSTART;TZID=America/New_York:20250515T080000
DTEND;TZID=America/New_York:20250515T230000
DTSTAMP:20260421T184908
CREATED:20240307T001140Z
LAST-MODIFIED:20250516T024606Z
UID:68091-1747296000-1747350000@events.bridgeport.edu
SUMMARY:CAEP 2025 Accreditation Cycle February 2024 - August 2025
DESCRIPTION:
URL:https://events.bridgeport.edu/event/caep-2025-accreditation-cycle-february-2024-august-2025-302/
LOCATION:CARH 113 Campus: Main Campus
CATEGORIES:Academics
END:VEVENT
BEGIN:VEVENT
DTSTART;TZID=America/New_York:20250516T080000
DTEND;TZID=America/New_York:20250516T230000
DTSTAMP:20260421T184908
CREATED:20240307T001140Z
LAST-MODIFIED:20250517T014608Z
UID:68092-1747382400-1747436400@events.bridgeport.edu
SUMMARY:CAEP 2025 Accreditation Cycle February 2024 - August 2025
DESCRIPTION:
URL:https://events.bridgeport.edu/event/caep-2025-accreditation-cycle-february-2024-august-2025-303/
LOCATION:CARH 113 Campus: Main Campus
CATEGORIES:Academics
END:VEVENT
BEGIN:VEVENT
DTSTART;TZID=America/New_York:20250516T100000
DTEND;TZID=America/New_York:20250516T130000
DTSTAMP:20260421T184908
CREATED:20250208T000718Z
LAST-MODIFIED:20250516T164609Z
UID:106193-1747389600-1747400400@events.bridgeport.edu
SUMMARY:EIM Daily General Use - School of Engineering
DESCRIPTION:
URL:https://events.bridgeport.edu/event/eim-daily-general-use-school-of-engineering-55/
LOCATION:WAHL 613 Campus: Main Campus
CATEGORIES:Academics
END:VEVENT
END:VCALENDAR