

BEGIN:VCALENDAR
VERSION:2.0
PRODID:-//Campus Events - ECPv6.15.20//NONSGML v1.0//EN
CALSCALE:GREGORIAN
METHOD:PUBLISH
X-ORIGINAL-URL:https://events.bridgeport.edu
X-WR-CALDESC:Events for Campus Events
REFRESH-INTERVAL;VALUE=DURATION:PT1H
X-Robots-Tag:noindex
X-PUBLISHED-TTL:PT1H
BEGIN:VTIMEZONE
TZID:America/New_York
BEGIN:DAYLIGHT
TZOFFSETFROM:-0500
TZOFFSETTO:-0400
TZNAME:EDT
DTSTART:20240310T070000
END:DAYLIGHT
BEGIN:STANDARD
TZOFFSETFROM:-0400
TZOFFSETTO:-0500
TZNAME:EST
DTSTART:20241103T060000
END:STANDARD
BEGIN:DAYLIGHT
TZOFFSETFROM:-0500
TZOFFSETTO:-0400
TZNAME:EDT
DTSTART:20250309T070000
END:DAYLIGHT
BEGIN:STANDARD
TZOFFSETFROM:-0400
TZOFFSETTO:-0500
TZNAME:EST
DTSTART:20251102T060000
END:STANDARD
BEGIN:DAYLIGHT
TZOFFSETFROM:-0500
TZOFFSETTO:-0400
TZNAME:EDT
DTSTART:20260308T070000
END:DAYLIGHT
BEGIN:STANDARD
TZOFFSETFROM:-0400
TZOFFSETTO:-0500
TZNAME:EST
DTSTART:20261101T060000
END:STANDARD
END:VTIMEZONE
BEGIN:VEVENT
DTSTART;TZID=America/New_York:20250414T183000
DTEND;TZID=America/New_York:20250414T203000
DTSTAMP:20260421T123902
CREATED:20250123T090438Z
LAST-MODIFIED:20250415T001610Z
UID:104408-1744655400-1744662600@events.bridgeport.edu
SUMMARY:Choir and Chamber Concert - School of Music
DESCRIPTION:
URL:https://events.bridgeport.edu/event/choir-and-chamber-concert-school-of-music/
LOCATION:JCSC KNIGHT S1 – Social Room Campus: Main Campus
CATEGORIES:Academics
END:VEVENT
BEGIN:VEVENT
DTSTART;TZID=America/New_York:20250415T080000
DTEND;TZID=America/New_York:20250415T230000
DTSTAMP:20260421T123902
CREATED:20240307T001110Z
LAST-MODIFIED:20250416T021608Z
UID:68069-1744704000-1744758000@events.bridgeport.edu
SUMMARY:CAEP 2025 Accreditation Cycle February 2024 - August 2025
DESCRIPTION:
URL:https://events.bridgeport.edu/event/caep-2025-accreditation-cycle-february-2024-august-2025-280/
LOCATION:CARH 113 Campus: Main Campus
CATEGORIES:Academics
END:VEVENT
BEGIN:VEVENT
DTSTART;TZID=America/New_York:20250415T090000
DTEND;TZID=America/New_York:20250415T120000
DTSTAMP:20260421T123902
CREATED:20250402T164822Z
LAST-MODIFIED:20250415T151609Z
UID:111782-1744707600-1744718400@events.bridgeport.edu
SUMMARY:MSME Project Presentation - Mechanical Engineering
DESCRIPTION:
URL:https://events.bridgeport.edu/event/msme-project-presentation-mechanical-engineering/
LOCATION:WAHL 613 Campus: Main Campus
CATEGORIES:Academics
END:VEVENT
BEGIN:VEVENT
DTSTART;TZID=America/New_York:20250415T100000
DTEND;TZID=America/New_York:20250415T160000
DTSTAMP:20260421T123902
CREATED:20250208T000559Z
LAST-MODIFIED:20250402T153320Z
UID:106175-1744711200-1744732800@events.bridgeport.edu
SUMMARY:EIM Daily General Use - School of Engineering
DESCRIPTION:
URL:https://events.bridgeport.edu/event/eim-daily-general-use-school-of-engineering-37/
LOCATION:WAHL 613 Campus: Main Campus
CATEGORIES:Academics
END:VEVENT
BEGIN:VEVENT
DTSTART;TZID=America/New_York:20250415T120000
DTEND;TZID=America/New_York:20250415T160000
DTSTAMP:20260421T123902
CREATED:20250402T164822Z
LAST-MODIFIED:20250415T191608Z
UID:111787-1744718400-1744732800@events.bridgeport.edu
SUMMARY:EIM Daily General Use - School of Engineering
DESCRIPTION:
URL:https://events.bridgeport.edu/event/eim-daily-general-use-school-of-engineering-64/
LOCATION:WAHL 613 Campus: Main Campus
CATEGORIES:Academics
END:VEVENT
BEGIN:VEVENT
DTSTART;TZID=America/New_York:20250415T123000
DTEND;TZID=America/New_York:20250415T133000
DTSTAMP:20260421T123902
CREATED:20250206T000443Z
LAST-MODIFIED:20250402T153320Z
UID:105904-1744720200-1744723800@events.bridgeport.edu
SUMMARY:Study Smarter\, Not Harder Workshop - Office of Student Academic Success
DESCRIPTION:
URL:https://events.bridgeport.edu/event/study-smarter-not-harder-workshop-office-of-student-academic-success-2/
LOCATION:WAHL HC – LC1 Campus: Main Campus
CATEGORIES:Academics
END:VEVENT
BEGIN:VEVENT
DTSTART;TZID=America/New_York:20250415T123000
DTEND;TZID=America/New_York:20250415T133000
DTSTAMP:20260421T123902
CREATED:20250402T164822Z
LAST-MODIFIED:20250415T161608Z
UID:111785-1744720200-1744723800@events.bridgeport.edu
SUMMARY:Study Smarter\, Not Harder Workshop - Office of Student Academic Success
DESCRIPTION:
URL:https://events.bridgeport.edu/event/study-smarter-not-harder-workshop-office-of-student-academic-success-3/
LOCATION:WAHL HC – SSS Lab Campus: Main Campus
CATEGORIES:Academics
END:VEVENT
BEGIN:VEVENT
DTSTART;TZID=America/New_York:20250415T133000
DTEND;TZID=America/New_York:20250415T143000
DTSTAMP:20260421T123902
CREATED:20241217T191942Z
LAST-MODIFIED:20250415T174607Z
UID:100423-1744723800-1744727400@events.bridgeport.edu
SUMMARY:Professional Development Workshop - Human Resources and Community Culture
DESCRIPTION:
URL:https://events.bridgeport.edu/event/professional-development-workshop-human-resources-and-community-culture-3/
LOCATION:WAHL 158 Campus: Main Campus\, 126 Park Avenue\, Bridgeport\, CT\, 06604\, United States
CATEGORIES:Academics
END:VEVENT
BEGIN:VEVENT
DTSTART;TZID=America/New_York:20250416T080000
DTEND;TZID=America/New_York:20250416T230000
DTSTAMP:20260421T123902
CREATED:20240307T001111Z
LAST-MODIFIED:20250417T021606Z
UID:68070-1744790400-1744844400@events.bridgeport.edu
SUMMARY:CAEP 2025 Accreditation Cycle February 2024 - August 2025
DESCRIPTION:
URL:https://events.bridgeport.edu/event/caep-2025-accreditation-cycle-february-2024-august-2025-281/
LOCATION:CARH 113 Campus: Main Campus
CATEGORIES:Academics
END:VEVENT
BEGIN:VEVENT
DTSTART;TZID=America/New_York:20250416T100000
DTEND;TZID=America/New_York:20250416T160000
DTSTAMP:20260421T123902
CREATED:20250208T000614Z
LAST-MODIFIED:20250416T184607Z
UID:106176-1744797600-1744819200@events.bridgeport.edu
SUMMARY:EIM Daily General Use - School of Engineering
DESCRIPTION:
URL:https://events.bridgeport.edu/event/eim-daily-general-use-school-of-engineering-38/
LOCATION:WAHL 613 Campus: Main Campus
CATEGORIES:Academics
END:VEVENT
BEGIN:VEVENT
DTSTART;TZID=America/New_York:20250416T131500
DTEND;TZID=America/New_York:20250416T144500
DTSTAMP:20260421T123902
CREATED:20250402T164833Z
LAST-MODIFIED:20250416T174609Z
UID:111788-1744809300-1744814700@events.bridgeport.edu
SUMMARY:Music Department Acting Class Rehearsal
DESCRIPTION:
URL:https://events.bridgeport.edu/event/music-department-acting-class-rehearsal-4/
LOCATION:ABC 118 Campus: Main Campus\, 84 Iranistan Avenue\, Bridgeport\, CT\, 06604\, United States
CATEGORIES:Academics
END:VEVENT
BEGIN:VEVENT
DTSTART;TZID=America/New_York:20250416T190000
DTEND;TZID=America/New_York:20250416T200000
DTSTAMP:20260421T123902
CREATED:20250402T164833Z
LAST-MODIFIED:20250416T224621Z
UID:111789-1744830000-1744833600@events.bridgeport.edu
SUMMARY:Music Department Acting Class Final Performance
DESCRIPTION:
URL:https://events.bridgeport.edu/event/music-department-acting-class-final-performance/
LOCATION:ABC 118 Campus: Main Campus\, 84 Iranistan Avenue\, Bridgeport\, CT\, 06604\, United States
CATEGORIES:Academics
END:VEVENT
BEGIN:VEVENT
DTSTART;VALUE=DATE:20250417
DTEND;VALUE=DATE:20250418
DTSTAMP:20260421T123902
CREATED:20240514T181510Z
LAST-MODIFIED:20240514T193304Z
UID:76021-1744848000-1744934399@events.bridgeport.edu
SUMMARY:Last day of classes
DESCRIPTION:
URL:https://events.bridgeport.edu/event/last-day-of-classes-2/
LOCATION:CT
CATEGORIES:Academics
END:VEVENT
BEGIN:VEVENT
DTSTART;TZID=America/New_York:20250417T080000
DTEND;TZID=America/New_York:20250417T230000
DTSTAMP:20260421T123902
CREATED:20240307T001111Z
LAST-MODIFIED:20250418T014608Z
UID:68071-1744876800-1744930800@events.bridgeport.edu
SUMMARY:CAEP 2025 Accreditation Cycle February 2024 - August 2025
DESCRIPTION:
URL:https://events.bridgeport.edu/event/caep-2025-accreditation-cycle-february-2024-august-2025-282/
LOCATION:CARH 113 Campus: Main Campus
CATEGORIES:Academics
END:VEVENT
BEGIN:VEVENT
DTSTART;TZID=America/New_York:20250417T090000
DTEND;TZID=America/New_York:20250417T120000
DTSTAMP:20260421T123902
CREATED:20250402T164834Z
LAST-MODIFIED:20250417T154608Z
UID:111790-1744880400-1744891200@events.bridgeport.edu
SUMMARY:MSME Project Presentation - Mechanical Engineering
DESCRIPTION:
URL:https://events.bridgeport.edu/event/msme-project-presentation-mechanical-engineering-2/
LOCATION:WAHL 613 Campus: Main Campus
CATEGORIES:Academics
END:VEVENT
BEGIN:VEVENT
DTSTART;TZID=America/New_York:20250417T183000
DTEND;TZID=America/New_York:20250417T203000
DTSTAMP:20260421T123902
CREATED:20250107T074944Z
LAST-MODIFIED:20250418T001608Z
UID:102619-1744914600-1744921800@events.bridgeport.edu
SUMMARY:Fusion and Steel Band Concert - School of Music
DESCRIPTION:
URL:https://events.bridgeport.edu/event/fusion-and-steel-band-concert-school-of-music/
LOCATION:JCSC KNIGHT S1 – Social Room Campus: Main Campus
CATEGORIES:Academics
END:VEVENT
BEGIN:VEVENT
DTSTART;VALUE=DATE:20250418
DTEND;VALUE=DATE:20250420
DTSTAMP:20260421T123902
CREATED:20240514T181510Z
LAST-MODIFIED:20240514T193304Z
UID:76022-1744934400-1745107199@events.bridgeport.edu
SUMMARY:Good Friday and Easter Weekend - No classes - University is open
DESCRIPTION:
URL:https://events.bridgeport.edu/event/good-friday-and-easter-weekend-no-classes-university-is-open-2/
LOCATION:CT
CATEGORIES:Academics
END:VEVENT
BEGIN:VEVENT
DTSTART;TZID=America/New_York:20250418T080000
DTEND;TZID=America/New_York:20250418T230000
DTSTAMP:20260421T123902
CREATED:20240307T001111Z
LAST-MODIFIED:20250419T021607Z
UID:68072-1744963200-1745017200@events.bridgeport.edu
SUMMARY:CAEP 2025 Accreditation Cycle February 2024 - August 2025
DESCRIPTION:
URL:https://events.bridgeport.edu/event/caep-2025-accreditation-cycle-february-2024-august-2025-283/
LOCATION:CARH 113 Campus: Main Campus
CATEGORIES:Academics
END:VEVENT
BEGIN:VEVENT
DTSTART;TZID=America/New_York:20250418T083000
DTEND;TZID=America/New_York:20250418T110000
DTSTAMP:20260421T123902
CREATED:20250402T164834Z
LAST-MODIFIED:20250418T141608Z
UID:111791-1744965000-1744974000@events.bridgeport.edu
SUMMARY:MEEG 362 Senior Design
DESCRIPTION:
URL:https://events.bridgeport.edu/event/meeg-362-senior-design/
LOCATION:TECH 164 Campus: Main Campus
CATEGORIES:Academics
END:VEVENT
BEGIN:VEVENT
DTSTART;TZID=America/New_York:20250418T100000
DTEND;TZID=America/New_York:20250418T130000
DTSTAMP:20260421T123902
CREATED:20250208T000614Z
LAST-MODIFIED:20250418T154608Z
UID:106177-1744970400-1744981200@events.bridgeport.edu
SUMMARY:EIM Daily General Use - School of Engineering
DESCRIPTION:
URL:https://events.bridgeport.edu/event/eim-daily-general-use-school-of-engineering-39/
LOCATION:WAHL 613 Campus: Main Campus
CATEGORIES:Academics
END:VEVENT
BEGIN:VEVENT
DTSTART;TZID=America/New_York:20250418T160000
DTEND;TZID=America/New_York:20250418T180000
DTSTAMP:20260421T123902
CREATED:20241024T062104Z
LAST-MODIFIED:20241025T002129Z
UID:94568-1744992000-1744999200@events.bridgeport.edu
SUMMARY:Chiro Hooding Ceremony
DESCRIPTION:
URL:https://events.bridgeport.edu/event/chiro-hooding-ceremony-2/
LOCATION:JCSC KNIGHT S1 – Social Room Campus: Main Campus
CATEGORIES:Academics
END:VEVENT
BEGIN:VEVENT
DTSTART;TZID=America/New_York:20250418T183000
DTEND;TZID=America/New_York:20250418T203000
DTSTAMP:20260421T123902
CREATED:20250107T074944Z
LAST-MODIFIED:20250214T190517Z
UID:102620-1745001000-1745008200@events.bridgeport.edu
SUMMARY:Choir and Chamber Concert
DESCRIPTION:
URL:https://events.bridgeport.edu/event/choir-and-chamber-concert/
LOCATION:JCSC KNIGHT S1 – Social Room Campus: Main Campus
CATEGORIES:Academics
END:VEVENT
BEGIN:VEVENT
DTSTART;TZID=America/New_York:20250419T163000
DTEND;TZID=America/New_York:20250419T183000
DTSTAMP:20260421T123902
CREATED:20250130T040448Z
LAST-MODIFIED:20250402T153334Z
UID:105171-1745080200-1745087400@events.bridgeport.edu
SUMMARY:Student Recital - School of Music
DESCRIPTION:
URL:https://events.bridgeport.edu/event/student-recital-school-of-music/
LOCATION:JCSC KNIGHT S1 – Social Room Campus: Main Campus
CATEGORIES:Academics
END:VEVENT
BEGIN:VEVENT
DTSTART;VALUE=DATE:20250420
DTEND;VALUE=DATE:20250421
DTSTAMP:20260421T123902
CREATED:20240514T181510Z
LAST-MODIFIED:20240514T193304Z
UID:76023-1745107200-1745193599@events.bridgeport.edu
SUMMARY:Easter Sunday - No classes - University is closed
DESCRIPTION:
URL:https://events.bridgeport.edu/event/easter-sunday-no-classes-university-is-closed-2/
LOCATION:CT
CATEGORIES:Academics
END:VEVENT
BEGIN:VEVENT
DTSTART;VALUE=DATE:20250421
DTEND;VALUE=DATE:20250426
DTSTAMP:20260421T123902
CREATED:20240514T181512Z
LAST-MODIFIED:20260303T204636Z
UID:76024-1745193600-1745625599@events.bridgeport.edu
SUMMARY:Final exam week
DESCRIPTION:See schedule
URL:https://events.bridgeport.edu/event/final-exam-week-4/
LOCATION:CT
CATEGORIES:Academics
END:VEVENT
BEGIN:VEVENT
DTSTART;TZID=America/New_York:20250421T080000
DTEND;TZID=America/New_York:20250421T230000
DTSTAMP:20260421T123902
CREATED:20240307T001112Z
LAST-MODIFIED:20250422T014607Z
UID:68073-1745222400-1745276400@events.bridgeport.edu
SUMMARY:CAEP 2025 Accreditation Cycle February 2024 - August 2025
DESCRIPTION:
URL:https://events.bridgeport.edu/event/caep-2025-accreditation-cycle-february-2024-august-2025-284/
LOCATION:CARH 113 Campus: Main Campus
CATEGORIES:Academics
END:VEVENT
BEGIN:VEVENT
DTSTART;TZID=America/New_York:20250421T090000
DTEND;TZID=America/New_York:20250421T160000
DTSTAMP:20260421T123902
CREATED:20250201T013436Z
LAST-MODIFIED:20250203T200441Z
UID:105379-1745226000-1745251200@events.bridgeport.edu
SUMMARY:Nursing ATI Review
DESCRIPTION:
URL:https://events.bridgeport.edu/event/nursing-ati-review/
LOCATION:JCSC 100 Campus: Main Campus\, 244 University Avenue\, Bridgeport\, CT\, 06604\, United States
CATEGORIES:Academics
END:VEVENT
BEGIN:VEVENT
DTSTART;TZID=America/New_York:20250421T100000
DTEND;TZID=America/New_York:20250421T160000
DTSTAMP:20260421T123902
CREATED:20250208T000626Z
LAST-MODIFIED:20250421T194609Z
UID:106178-1745229600-1745251200@events.bridgeport.edu
SUMMARY:EIM Daily General Use - School of Engineering
DESCRIPTION:
URL:https://events.bridgeport.edu/event/eim-daily-general-use-school-of-engineering-40/
LOCATION:WAHL 613 Campus: Main Campus
CATEGORIES:Academics
END:VEVENT
BEGIN:VEVENT
DTSTART;TZID=America/New_York:20250421T122000
DTEND;TZID=America/New_York:20250421T133000
DTSTAMP:20260421T123902
CREATED:20250110T044956Z
LAST-MODIFIED:20250421T164607Z
UID:102941-1745238000-1745242200@events.bridgeport.edu
SUMMARY:Research Forum - College of Engineering Business and Education
DESCRIPTION:
URL:https://events.bridgeport.edu/event/research-forum-college-of-engineering-business-and-education-4/
LOCATION:MAN 107 Campus: Main Campus\, 230 Park Avenue\, Bridgeport\, CT\, 06604\, United States
CATEGORIES:Academics
END:VEVENT
BEGIN:VEVENT
DTSTART;TZID=America/New_York:20250422T080000
DTEND;TZID=America/New_York:20250422T230000
DTSTAMP:20260421T123902
CREATED:20240307T001112Z
LAST-MODIFIED:20250423T021608Z
UID:68074-1745308800-1745362800@events.bridgeport.edu
SUMMARY:CAEP 2025 Accreditation Cycle February 2024 - August 2025
DESCRIPTION:
URL:https://events.bridgeport.edu/event/caep-2025-accreditation-cycle-february-2024-august-2025-285/
LOCATION:CARH 113 Campus: Main Campus
CATEGORIES:Academics
END:VEVENT
END:VCALENDAR