

BEGIN:VCALENDAR
VERSION:2.0
PRODID:-//Campus Events - ECPv6.15.20//NONSGML v1.0//EN
CALSCALE:GREGORIAN
METHOD:PUBLISH
X-WR-CALNAME:Campus Events
X-ORIGINAL-URL:https://events.bridgeport.edu
X-WR-CALDESC:Events for Campus Events
REFRESH-INTERVAL;VALUE=DURATION:PT1H
X-Robots-Tag:noindex
X-PUBLISHED-TTL:PT1H
BEGIN:VTIMEZONE
TZID:America/New_York
BEGIN:DAYLIGHT
TZOFFSETFROM:-0500
TZOFFSETTO:-0400
TZNAME:EDT
DTSTART:20250309T070000
END:DAYLIGHT
BEGIN:STANDARD
TZOFFSETFROM:-0400
TZOFFSETTO:-0500
TZNAME:EST
DTSTART:20251102T060000
END:STANDARD
BEGIN:DAYLIGHT
TZOFFSETFROM:-0500
TZOFFSETTO:-0400
TZNAME:EDT
DTSTART:20260308T070000
END:DAYLIGHT
BEGIN:STANDARD
TZOFFSETFROM:-0400
TZOFFSETTO:-0500
TZNAME:EST
DTSTART:20261101T060000
END:STANDARD
BEGIN:DAYLIGHT
TZOFFSETFROM:-0500
TZOFFSETTO:-0400
TZNAME:EDT
DTSTART:20270314T070000
END:DAYLIGHT
BEGIN:STANDARD
TZOFFSETFROM:-0400
TZOFFSETTO:-0500
TZNAME:EST
DTSTART:20271107T060000
END:STANDARD
END:VTIMEZONE
BEGIN:VEVENT
DTSTART;VALUE=DATE:20260420
DTEND;VALUE=DATE:20260425
DTSTAMP:20260423T025831
CREATED:20250508T125258Z
LAST-MODIFIED:20260303T204220Z
UID:115931-1776643200-1777075199@events.bridgeport.edu
SUMMARY:Final exam week
DESCRIPTION:See schedule
URL:https://events.bridgeport.edu/event/final-exam-week/
CATEGORIES:Academics
END:VEVENT
BEGIN:VEVENT
DTSTART;TZID=America/New_York:20260423T080000
DTEND;TZID=America/New_York:20260423T210000
DTSTAMP:20260423T025831
CREATED:20260121T001846Z
LAST-MODIFIED:20260223T054809Z
UID:142491-1776931200-1776978000@events.bridgeport.edu
SUMMARY:SOE Situation Room and Data Management
DESCRIPTION:
URL:https://events.bridgeport.edu/event/soe-situation-room-and-data-management-68/
LOCATION:CARH 113 Campus: Main Campus
CATEGORIES:Academics
END:VEVENT
BEGIN:VEVENT
DTSTART;TZID=America/New_York:20260423T120000
DTEND;TZID=America/New_York:20260423T140000
DTSTAMP:20260423T025831
CREATED:20260121T001636Z
LAST-MODIFIED:20260223T054750Z
UID:142260-1776945600-1776952800@events.bridgeport.edu
SUMMARY:PA Graduate Luncheon
DESCRIPTION:
URL:https://events.bridgeport.edu/event/pa-graduate-luncheon-3/
LOCATION:JCSC KNIGHT S1 – Social Room Campus: Main Campus
CATEGORIES:Social
END:VEVENT
BEGIN:VEVENT
DTSTART;TZID=America/New_York:20260423T160000
DTEND;TZID=America/New_York:20260423T200000
DTSTAMP:20260423T025831
CREATED:20260121T001846Z
LAST-MODIFIED:20260223T054809Z
UID:142492-1776960000-1776974400@events.bridgeport.edu
SUMMARY:HOLD
DESCRIPTION:
URL:https://events.bridgeport.edu/event/hold-19/
LOCATION:ABC 123 Campus: Main Campus\, 84 Iranistan Avenue\, Bridgeport\, CT\, 06604\, United States
CATEGORIES:Academics
END:VEVENT
BEGIN:VEVENT
DTSTART;TZID=America/New_York:20260423T170000
DTEND;TZID=America/New_York:20260423T190000
DTSTAMP:20260423T025831
CREATED:20260121T001846Z
LAST-MODIFIED:20260223T054809Z
UID:142490-1776963600-1776970800@events.bridgeport.edu
SUMMARY:UBSN Pinning Ceremony
DESCRIPTION:
URL:https://events.bridgeport.edu/event/ubsn-pinning-ceremony-5/
LOCATION:ABC 118 Campus: Main Campus\, 84 Iranistan Avenue\, Bridgeport\, CT\, 06604\, United States
CATEGORIES:Academics
END:VEVENT
BEGIN:VEVENT
DTSTART;TZID=America/New_York:20260423T180000
DTEND;TZID=America/New_York:20260423T220000
DTSTAMP:20260423T025831
CREATED:20260204T024807Z
LAST-MODIFIED:20260223T054750Z
UID:144762-1776967200-1776981600@events.bridgeport.edu
SUMMARY:eSports Open Hours
DESCRIPTION:
URL:https://events.bridgeport.edu/event/esports-open-hours-57/
LOCATION:JCSC JCSC Campus: Main Campus
CATEGORIES:Social
END:VEVENT
END:VCALENDAR