

BEGIN:VCALENDAR
VERSION:2.0
PRODID:-//Campus Events - ECPv6.15.20//NONSGML v1.0//EN
CALSCALE:GREGORIAN
METHOD:PUBLISH
X-WR-CALNAME:Campus Events
X-ORIGINAL-URL:https://events.bridgeport.edu
X-WR-CALDESC:Events for Campus Events
REFRESH-INTERVAL;VALUE=DURATION:PT1H
X-Robots-Tag:noindex
X-PUBLISHED-TTL:PT1H
BEGIN:VTIMEZONE
TZID:America/New_York
BEGIN:DAYLIGHT
TZOFFSETFROM:-0500
TZOFFSETTO:-0400
TZNAME:EDT
DTSTART:20250309T070000
END:DAYLIGHT
BEGIN:STANDARD
TZOFFSETFROM:-0400
TZOFFSETTO:-0500
TZNAME:EST
DTSTART:20251102T060000
END:STANDARD
BEGIN:DAYLIGHT
TZOFFSETFROM:-0500
TZOFFSETTO:-0400
TZNAME:EDT
DTSTART:20260308T070000
END:DAYLIGHT
BEGIN:STANDARD
TZOFFSETFROM:-0400
TZOFFSETTO:-0500
TZNAME:EST
DTSTART:20261101T060000
END:STANDARD
BEGIN:DAYLIGHT
TZOFFSETFROM:-0500
TZOFFSETTO:-0400
TZNAME:EDT
DTSTART:20270314T070000
END:DAYLIGHT
BEGIN:STANDARD
TZOFFSETFROM:-0400
TZOFFSETTO:-0500
TZNAME:EST
DTSTART:20271107T060000
END:STANDARD
END:VTIMEZONE
BEGIN:VEVENT
DTSTART;VALUE=DATE:20260420
DTEND;VALUE=DATE:20260425
DTSTAMP:20260420T063221
CREATED:20250508T125258Z
LAST-MODIFIED:20260303T204220Z
UID:115931-1776643200-1777075199@events.bridgeport.edu
SUMMARY:Final exam week
DESCRIPTION:See schedule
URL:https://events.bridgeport.edu/event/final-exam-week/
LOCATION:CT
CATEGORIES:Academics
END:VEVENT
BEGIN:VEVENT
DTSTART;TZID=America/New_York:20260420T080000
DTEND;TZID=America/New_York:20260420T210000
DTSTAMP:20260420T063221
CREATED:20260121T001834Z
LAST-MODIFIED:20260223T054757Z
UID:142471-1776672000-1776718800@events.bridgeport.edu
SUMMARY:SOE Situation Room and Data Management
DESCRIPTION:
URL:https://events.bridgeport.edu/event/soe-situation-room-and-data-management-65/
LOCATION:CARH 113 Campus: Main Campus
CATEGORIES:Academics
END:VEVENT
BEGIN:VEVENT
DTSTART;TZID=America/New_York:20260420T083000
DTEND;TZID=America/New_York:20260420T163000
DTSTAMP:20260420T063221
CREATED:20260121T001834Z
LAST-MODIFIED:20260223T054757Z
UID:142470-1776673800-1776702600@events.bridgeport.edu
SUMMARY:UBSN Testing with Professor Evancho
DESCRIPTION:
URL:https://events.bridgeport.edu/event/ubsn-testing-with-professor-evancho/
LOCATION:JCSC KNIGHT S1 – Social Room Campus: Main Campus
CATEGORIES:Academics
END:VEVENT
BEGIN:VEVENT
DTSTART;TZID=America/New_York:20260420T090000
DTEND;TZID=America/New_York:20260420T130000
DTSTAMP:20260420T063221
CREATED:20260407T210200Z
LAST-MODIFIED:20260407T210200Z
UID:153383-1776675600-1776690000@events.bridgeport.edu
SUMMARY:Coffee Refresher Bar for Finals Week - PA Student Government Association
DESCRIPTION:
URL:https://events.bridgeport.edu/event/coffee-refresher-bar-for-finals-week-pa-student-government-association/
LOCATION:DANA Conference Kitchen
CATEGORIES:Social,Student Organizations
END:VEVENT
BEGIN:VEVENT
DTSTART;TZID=America/New_York:20260420T104500
DTEND;TZID=America/New_York:20260420T124500
DTSTAMP:20260420T063221
CREATED:20260414T180230Z
LAST-MODIFIED:20260414T180305Z
UID:153556-1776681900-1776689100@events.bridgeport.edu
SUMMARY:BIOL 345 Exam
DESCRIPTION:
URL:https://events.bridgeport.edu/event/biol-345-exam/
LOCATION:DANA 107 Campus: Main Campus\, 169 University Avenue\, Bridgeport\, CT\, 06604\, United States
CATEGORIES:Academics,Student
END:VEVENT
BEGIN:VEVENT
DTSTART;TZID=America/New_York:20260420T134500
DTEND;TZID=America/New_York:20260420T154500
DTSTAMP:20260420T063221
CREATED:20260414T181017Z
LAST-MODIFIED:20260414T181407Z
UID:153558-1776692700-1776699900@events.bridgeport.edu
SUMMARY:BIOL 320 Exam
DESCRIPTION:
URL:https://events.bridgeport.edu/event/biol-320/
LOCATION:DANA 107 Campus: Main Campus\, 169 University Avenue\, Bridgeport\, CT\, 06604\, United States
CATEGORIES:Academics,Student
END:VEVENT
BEGIN:VEVENT
DTSTART;TZID=America/New_York:20260420T191300
DTEND;TZID=America/New_York:20260420T201300
DTSTAMP:20260420T063221
CREATED:20260403T154352Z
LAST-MODIFIED:20260410T201835Z
UID:153279-1776712380-1776715980@events.bridgeport.edu
SUMMARY:Crimson Conversations-Delta Sigma Theta Sorority\, Inc.
DESCRIPTION:
URL:https://events.bridgeport.edu/event/crimson-conversations-delta-sigma-theta-sorority-inc/
LOCATION:UNI Hall Residence Hall Campus: Main Campus
CATEGORIES:Social,Student Organizations
END:VEVENT
END:VCALENDAR